Workbook

Sheet INFO
A1: 그룹 | B1: 시작년 | C1: 종료년 | E1: 해당년도 | F1: 해당년도
A2: 1그룹 | B2: 2008 | C2: 1998 | E2: 19810505 | F2: 5그룹
A3: 2그룹 | B3: 1997 | C3: 1988
A4: 3그룹 | B4: 1987 | C4: 1981
A5: 4그룹 | B5: 1980 | C5: 1974
A6: 5그룹 | B6: 1973 | C6: 1967
A7: 6그룹 | B7: 1966 | C7: 1960
A8: 7그룹 | B8: 1959 | C8: 1940

Sheet 참가신청서
A1: 2026 목포유달산배 전국마스터즈 수영대회 참가 신청서 (성인부)
A3: 1. 참가 단체
A4: 시도명 | G4: 클럽명
A5: 감독 | C5: H.P | G5: 코치 | I5: H.P
A7: 2. 참가 인원 (총 참가 인원 : 명)
A8: 구 분 | C8: 남 자 | E8: 여 자
A9: 성 인 부
A11: ※ 신청서 작성 요령
A12: 1. 신청서 작성은 아래 양식에 맞추어 작성해 주시기 바랍니다. (양식 변경 금지) 2. 종목 칸은 자유형, 접영, 평영, 배영,개인혼영 으로 작성. 3. 1인 2종목만 신청할 수 있으며(단체 종목은 제외), 한 팀(소속)에서 종목별 참가 인원 제한은 없습니다. 4. 성인부 신청서의 나이와 그룹 칸은 생년월일 (8자리로 입력) 입력값에 따라 자동으로 기재됩니다.
A14: 순서 | B14: 성명 | C14: 성별 | D14: 생년월일 | E14: 참가종목1 | F14: 본인기록 | G14: 참가종목2 | H14: 본인기록 | I14: 나이 | J14: 그룹 | K14: 비고
A15: 예) | B15: 김OO | C15: 남 | D15: 19830505 | E15: 자유형 | F15: 0'00:00 | G15: 배영 | H15: 0'00:00 | I15: =IF( $D15<>"", YEAR( NOW() ) - INT( LEFT($D15,4) )+1, "") -> 44 | J15: =IFERROR( _xlfn.XLOOKUP( VALUE( LEFT($D15, 4) ), INFO!$B$2:$B$8, INFO!$A$2:$A$8, "없음", 1), "") -> 3그룹
A16: 1 | D16: 19730307 | I16: =IF( $D16<>"", YEAR( NOW() ) - INT( LEFT($D16,4) )+1, "") -> 54 | J16: =IFERROR( _xlfn.XLOOKUP( VALUE( LEFT($D16, 4) ), INFO!$B$2:$B$8, INFO!$A$2:$A$8, "없음", 1), "") -> 5그룹
A17: 2 | D17: 19720601 | I17: =IF( $D17<>"", YEAR( NOW() ) - INT( LEFT($D17,4) )+1, "") -> 55 | J17: =IFERROR( _xlfn.XLOOKUP( VALUE( LEFT($D17, 4) ), INFO!$B$2:$B$8, INFO!$A$2:$A$8, "없음", 1), "") -> 5그룹
A18: 3 | D18: 19740501 | I18: =IF( $D18<>"", YEAR( NOW() ) - INT( LEFT($D18,4) )+1, "") -> 53 | J18: =IFERROR( _xlfn.XLOOKUP( VALUE( LEFT($D18, 4) ), INFO!$B$2:$B$8, INFO!$A$2:$A$8, "없음", 1), "") -> 4그룹
A19: 4 | I19: =IF( $D19<>"", YEAR( NOW() ) - INT( LEFT($D19,4) )+1, "") | J19: =IFERROR( _xlfn.XLOOKUP( VALUE( LEFT($D19, 4) ), INFO!$B$2:$B$8, INFO!$A$2:$A$8, "없음", 1), "")
A20: 5 | I20: =IF( $D20<>"", YEAR( NOW() ) - INT( LEFT($D20,4) )+1, "") | J20: =IFERROR( _xlfn.XLOOKUP( VALUE( LEFT($D20, 4) ), INFO!$B$2:$B$8, INFO!$A$2:$A$8, "없음", 1), "")
A21: 6 | I21: =IF( $D21<>"", YEAR( NOW() ) - INT( LEFT($D21,4) )+1, "") | J21: =IFERROR( _xlfn.XLOOKUP( VALUE( LEFT($D21, 4) ), INFO!$B$2:$B$8, INFO!$A$2:$A$8, "없음", 1), "")
A22: 7 | I22: =IF( $D22<>"", YEAR( NOW() ) - INT( LEFT($D22,4) )+1, "") | J22: =IFERROR( _xlfn.XLOOKUP( VALUE( LEFT($D22, 4) ), INFO!$B$2:$B$8, INFO!$A$2:$A$8, "없음", 1), "")
A23: 8 | I23: =IF( $D23<>"", YEAR( NOW() ) - INT( LEFT($D23,4) )+1, "") | J23: =IFERROR( _xlfn.XLOOKUP( VALUE( LEFT($D23, 4) ), INFO!$B$2:$B$8, INFO!$A$2:$A$8, "없음", 1), "")
A24: 9 | I24: =IF( $D24<>"", YEAR( NOW() ) - INT( LEFT($D24,4) )+1, "") | J24: =IFERROR( _xlfn.XLOOKUP( VALUE( LEFT($D24, 4) ), INFO!$B$2:$B$8, INFO!$A$2:$A$8, "없음", 1), "")
A25: 10 | I25: =IF( $D25<>"", YEAR( NOW() ) - INT( LEFT($D25,4) )+1, "") | J25: =IFERROR( _xlfn.XLOOKUP( VALUE( LEFT($D25, 4) ), INFO!$B$2:$B$8, INFO!$A$2:$A$8, "없음", 1), "")
A26: 11 | I26: =IF( $D26<>"", YEAR( NOW() ) - INT( LEFT($D26,4) )+1, "") | J26: =IFERROR( _xlfn.XLOOKUP( VALUE( LEFT($D26, 4) ), INFO!$B$2:$B$8, INFO!$A$2:$A$8, "없음", 1), "")
A27: 12 | I27: =IF( $D27<>"", YEAR( NOW() ) - INT( LEFT($D27,4) )+1, "") | J27: =IFERROR( _xlfn.XLOOKUP( VALUE( LEFT($D27, 4) ), INFO!$B$2:$B$8, INFO!$A$2:$A$8, "없음", 1), "")
A28: 13 | I28: =IF( $D28<>"", YEAR( NOW() ) - INT( LEFT($D28,4) )+1, "") | J28: =IFERROR( _xlfn.XLOOKUP( VALUE( LEFT($D28, 4) ), INFO!$B$2:$B$8, INFO!$A$2:$A$8, "없음", 1), "")
A29: 14 | I29: =IF( $D29<>"", YEAR( NOW() ) - INT( LEFT($D29,4) )+1, "") | J29: =IFERROR( _xlfn.XLOOKUP( VALUE( LEFT($D29, 4) ), INFO!$B$2:$B$8, INFO!$A$2:$A$8, "없음", 1), "")
A30: 15 | I30: =IF( $D30<>"", YEAR( NOW() ) - INT( LEFT($D30,4) )+1, "") | J30: =IFERROR( _xlfn.XLOOKUP( VALUE( LEFT($D30, 4) ), INFO!$B$2:$B$8, INFO!$A$2:$A$8, "없음", 1), "")
... A65: 50 | I65: =IF( $D65<>"", YEAR( NOW() ) - INT( LEFT($D65,4) )+1, "") | J65: =IFERROR( _xlfn.XLOOKUP( VALUE( LEFT($D65, 4) ), INFO!$B$2:$B$8, INFO!$A$2:$A$8, "없음", 1), "")
