Workbook

Sheet 참가신청현황
A1: 제55회 전국소년체육대회 전남 선발전 출전명단 현황
A3: 구분 | B3: 성명 | C3: 소속 | D3: 그룹 | E3: 학년 | F3: 종목
A4: 초등학생 | B4: 유승우 | C4: 강진중앙초 | D4: 남초 | E4: 5 | F4: 자50
A5: 초등학생 | B5: 유승우 | C5: 강진중앙초 | D5: 남초 | E5: 5 | F5: 접50
A6: 초등학생 | B6: 박준영 | C6: 광양중마초 | D6: 남초 | E6: 5 | F6: 자50
A7: 초등학생 | B7: 박준영 | C7: 광양중마초 | D7: 남초 | E7: 5 | F7: 자100
A8: 초등학생 | B8: 탁윤건 | C8: 광양중마초 | D8: 남초 | E8: 5 | F8: 접50
A9: 초등학생 | B9: 탁윤건 | C9: 광양중마초 | D9: 남초 | E9: 5 | F9: 접100
A10: 초등학생 | B10: 이주원 | C10: 광양중마초 | D10: 남초 | E10: 5 | F10: 배50
A11: 초등학생 | B11: 이주원 | C11: 광양중마초 | D11: 남초 | E11: 5 | F11: 개200
A12: 초등학생 | B12: 추희윤 | C12: 광양중마초 | D12: 남초 | E12: 5 | F12: 평50
A13: 초등학생 | B13: 추희윤 | C13: 광양중마초 | D13: 남초 | E13: 5 | F13: 평100
A14: 초등학생 | B14: 추서윤 | C14: 광양중마초 | D14: 남초 | E14: 5 | F14: 자50
A15: 초등학생 | B15: 추서윤 | C15: 광양중마초 | D15: 남초 | E15: 5 | F15: 자100
... A112: 초등학생 | B112: 임소은 | C112: 목포신흥초 | D112: 여초 | E112: 4 | F112: 자50
A113: 초등학생 | B113: 임소은 | C113: 목포신흥초 | D113: 여초 | E113: 4 | F113: 접50 | G113: 삭제
A114: 초등학생 | B114: 박지안 | C114: 빛누리초 | D114: 여초 | E114: 2 | F114: 자50
A115: 초등학생 | B115: 황채원 | C115: 사창초 | D115: 여초 | E115: 4 | F115: 자50
A116: 초등학생 | B116: 황채원 | C116: 사창초 | D116: 여초 | E116: 4 | F116: 접50
A117: 초등학생 | B117: 이나경 | C117: 순천왕지초 | D117: 여초 | E117: 4 | F117: 자50
A118: 초등학생 | B118: 이나경 | C118: 순천왕지초 | D118: 여초 | E118: 4 | F118: 배50
A119: 초등학생 | B119: 임소은 | C119: 여수한려초 | D119: 여초 | E119: 6 | F119: 평50
A120: 초등학생 | B120: 임소은 | C120: 여수한려초 | D120: 여초 | E120: 6 | F120: 평100
A121: 초등학생 | B121: 임지율 | C121: 여수한려초 | D121: 여초 | E121: 6 | F121: 자100
A122: 초등학생 | B122: 임지율 | C122: 여수한려초 | D122: 여초 | E122: 6 | F122: 자200
A123: 초등학생 | B123: 김루아 | C123: 여수한려초 | D123: 여초 | E123: 5 | F123: 자50
A124: 초등학생 | B124: 김루아 | C124: 여수한려초 | D124: 여초 | E124: 5 | F124: 자100
A125: 초등학생 | B125: 신지유 | C125: 여수한려초 | D125: 여초 | E125: 5 | F125: 자200
... A153: 초등학생 | B153: 이승은 | C153: 목포영산초 | D153: 여초 | E153: 5 | F153: 자200
A154: 성인부 | B154: 신용균 | C154: 빙그레 | D154: 5 | E154: 610120 | F154: 배50
A155: 성인부 | B155: 신용균 | C155: 빙그레 | D155: 5 | E155: 610120 | F155: 자50
A156: 성인부 | B156: 정관영 | C156: 빙그레 | D156: 5 | E156: 610601 | F156: 배50
A157: 성인부 | B157: 정관영 | C157: 빙그레 | D157: 5 | E157: 610601 | F157: 자50
A158: 성인부 | B158: 박영춘 | C158: 빙그레 | D158: 4 | E158: 660810 | F158: 자50
A159: 성인부 | B159: 박영춘 | C159: 빙그레 | D159: 4 | E159: 660810 | F159: 개200
A160: 성인부 | B160: 임진우 | C160: 빙그레 | D160: 4 | E160: 680719 | F160: 배50
A161: 성인부 | B161: 임진우 | C161: 빙그레 | D161: 4 | E161: 680719 | F161: 평50
A162: 성인부 | B162: 이병국 | C162: 빙그레 | D162: 4 | E162: 690710 | F162: 배50
A163: 성인부 | B163: 이병국 | C163: 빙그레 | D163: 4 | E163: 690710 | F163: 자50
A164: 성인부 | B164: 박정호 | C164: 빙그레 | D164: 4 | E164: 720619 | F164: 평50
...

Sheet 프로그램1일자 (예선)
A1: 101-1 남자유년부 자유형50m 예선
A2: 레인 | B2: 성명 | C2: 시군 | D2: 소속 | E2: 기록 | F2: 순위 | G2: 비고
A3: 1
A4: 2
A5: 3 | B5: 김규한 | C5: 장흥 | D5: 부산초2 | E5: 4201 | F5: =RANK(E5,$E$3:$E$21,$E$3:$E$21) -> 9
A6: 4 | B6: 전지욱 | C6: 화순 | D6: 화순오성초2 | E6: 4374 | F6: =RANK(E6,$E$3:$E$21,$E$3:$E$21) -> 10
A7: 5 | B7: 이훤 | C7: 영암 | D7: 영암초2 | E7: 4410 | F7: =RANK(E7,$E$3:$E$21,$E$3:$E$21) -> 11
A8: 6
A9: 7
A10: 8
A12: 101-2 남자유년부 자유형50m 예선
A13: 레인 | B13: 성명 | C13: 시군 | D13: 소속 | E13: 기록 | F13: 순위 | G13: 비고
A14: 1 | B14: 서현우 | C14: 화순 | D14: 화순오성초4 | E14: 3456 | F14: =RANK(E14,$E$3:$E$21,$E$3:$E$21) -> 5
A15: 2 | B15: 공태완 | C15: 해남 | D15: 해남동초3 | E15: 4150 | F15: =RANK(E15,$E$3:$E$21,$E$3:$E$21) -> 8
A16: 3 | B16: 권시온 | C16: 광양 | D16: 광양중마초3 | E16: 3384 | F16: =RANK(E16,$E$3:$E$21,$E$3:$E$21) -> 4
A17: 4 | B17: 이강윤 | C17: 장성 | D17: 사창초4 | E17: 3106 | F17: =RANK(E17,$E$3:$E$21,$E$3:$E$21) -> 1
A18: 5 | B18: 김서온 | C18: 여수 | D18: 여수한려초4 | E18: 3252 | F18: =RANK(E18,$E$3:$E$21,$E$3:$E$21) -> 2
A19: 6 | B19: 박준희 | C19: 영암 | D19: 영암초3 | E19: 3368 | F19: =RANK(E19,$E$3:$E$21,$E$3:$E$21) -> 3
A20: 7 | B20: 김정륜 | C20: 해남 | D20: 해남동초3 | E20: 3814 | F20: =RANK(E20,$E$3:$E$21,$E$3:$E$21) -> 6
A21: 8 | B21: 서은준 | C21: 여수 | D21: 여수한려초3 | E21: 3888 | F21: =RANK(E21,$E$3:$E$21,$E$3:$E$21) -> 7
A23: 102-1 여자유년부 자유형50m 예선
A24: 레인 | B24: 성명 | C24: 시군 | D24: 소속 | E24: 기록 | F24: 순위 | G24: 비고
A25: 1 | B25: 최하선 | C25: 강진 | D25: 강진중앙초4 | E25: 4198 | F25: =RANK(E25,$E$25:$E$43,$E$25:$E$43) -> 13
A26: 2 | B26: 김서연 | C26: 해남 | D26: 해남동초3
A27: 3 | B27: 박지안 | C27: 나주 | D27: 빛누리초2
A28: 4 | B28: 조아인 | C28: 목포 | D28: 목포영산초4 | E28: 3595 | F28: =RANK(E28,$E$25:$E$43,$E$25:$E$43) -> 7
A29: 5 | B29: 이지안 | C29: 영암 | D29: 영암초4 | E29: 3799 | F29: =RANK(E29,$E$25:$E$43,$E$25:$E$43) -> 10
A30: 6 | B30: 전솔지 | C30: 영암 | D30: 영암초4 | E30: 3804 | F30: =RANK(E30,$E$25:$E$43,$E$25:$E$43) -> 11
A31: 7 | B31: 이나경 | C31: 순천 | D31: 순천왕지초4 | E31: 3933 | F31: =RANK(E31,$E$25:$E$43,$E$25:$E$43) -> 12
A32: 8
A34: 102-2 여자유년부 자유형50m 예선
A35: 레인 | B35: 성명 | C35: 시군 | D35: 소속 | E35: 기록 | F35: 순위 | G35: 비고
A36: 1 | B36: 정유솔 | C36: 해남 | D36: 해남동초4 | E36: 3695 | F36: =RANK(E36,$E$25:$E$43,$E$25:$E$43) -> 9
A37: 2 | B37: 문가윤 | C37: 여수 | D37: 여수한려초3 | E37: 3433 | F37: =RANK(E37,$E$25:$E$43,$E$25:$E$43) -> 4
A38: 3 | B38: 임소은 | C38: 목포 | D38: 목포신흥초4 | E38: 3395 | F38: =RANK(E38,$E$25:$E$43,$E$25:$E$43) -> 3
A39: 4 | B39: 황채원 | C39: 장성 | D39: 사창초4 | E39: 3153 | F39: =RANK(E39,$E$25:$E$43,$E$25:$E$43) -> 1
A40: 5 | B40: 윤지수 | C40: 목포 | D40: 목포신흥초4 | E40: 3270 | F40: =RANK(E40,$E$25:$E$43,$E$25:$E$43) -> 2
A41: 6 | B41: 박주연 | C41: 광양 | D41: 광양중마초4 | E41: 3490 | F41: =RANK(E41,$E$25:$E$43,$E$25:$E$43) -> 6
A42: 7 | B42: 임서은 | C42: 여수 | D42: 여수한려초2 | E42: 3447 | F42: =RANK(E42,$E$25:$E$43,$E$25:$E$43) -> 5
A43: 8 | B43: 김아영 | C43: 광양 | D43: 광양중마초4 | E43: 3676 | F43: =RANK(E43,$E$25:$E$43,$E$25:$E$43) -> 8
...

Sheet 프로그램1일자(결승)
A1: 104 남자유년부 자유형50m 결승
A2: 레인 | B2: 성명 | C2: 시군 | D2: 소속 | E2: 기록 | F2: 순위 | G2: 비고
A3: 4 | B3: 이강윤 | C3: 장성 | D3: 사창초4 | E3: 3085 | F3: =RANK(E3,$E$3:$E$10,$E$3:$E$10) -> 1
A4: 5 | B4: 김서온 | C4: 여수 | D4: 여수한려초4 | E4: 3229 | F4: =RANK(E4,$E$3:$E$10,$E$3:$E$10) -> 2
A5: 3 | B5: 박준희 | C5: 영암 | D5: 영암초3 | E5: 3334 | F5: =RANK(E5,$E$3:$E$10,$E$3:$E$10) -> 3
A6: 6 | B6: 권시온 | C6: 광양 | D6: 광양중마초3 | E6: 3397 | F6: =RANK(E6,$E$3:$E$10,$E$3:$E$10) -> 4
A7: 2 | B7: 서현우 | C7: 화순 | D7: 화순오성초4 | E7: 3476 | F7: =RANK(E7,$E$3:$E$10,$E$3:$E$10) -> 5
A8: 7 | B8: 김정륜 | C8: 해남 | D8: 해남동초3 | E8: 3790 | F8: =RANK(E8,$E$3:$E$10,$E$3:$E$10) -> 6
A9: 1 | B9: 서은준 | C9: 여수 | D9: 여수한려초3 | E9: 3926 | F9: =RANK(E9,$E$3:$E$10,$E$3:$E$10) -> 7
A10: 8 | B10: 공태완 | C10: 해남 | D10: 해남동초3 | E10: 4128 | F10: =RANK(E10,$E$3:$E$10,$E$3:$E$10) -> 8
A12: 105 여자유년부 자유형50m 결승
A13: 레인 | B13: 성명 | C13: 시군 | D13: 소속 | E13: 기록 | F13: 순위 | G13: 비고
A14: 4 | B14: 황채원 | C14: 장성 | D14: 사창초4 | E14: 3138 | F14: =RANK(E14,$E$14:$E$21,$E$14:$E$21) -> 1
A15: 5 | B15: 윤지수 | C15: 목포 | D15: 목포신흥초4 | E15: 3246 | F15: =RANK(E15,$E$14:$E$21,$E$14:$E$21) -> 2
A16: 3 | B16: 임소은 | C16: 목포 | D16: 목포신흥초4 | E16: 3398 | F16: =RANK(E16,$E$14:$E$21,$E$14:$E$21) -> 3
A17: 6 | B17: 문가윤 | C17: 여수 | D17: 여수한려초3 | E17: 3428 | F17: =RANK(E17,$E$14:$E$21,$E$14:$E$21) -> 4
A18: 2 | B18: 임서은 | C18: 여수 | D18: 여수한려초2 | E18: 3453 | F18: =RANK(E18,$E$14:$E$21,$E$14:$E$21) -> 5
A19: 7 | B19: 박주연 | C19: 광양 | D19: 광양중마초4 | E19: 3520 | F19: =RANK(E19,$E$14:$E$21,$E$14:$E$21) -> 6
A20: 1 | B20: 조아인 | C20: 목포 | D20: 목포영산초4 | E20: 3613 | F20: =RANK(E20,$E$14:$E$21,$E$14:$E$21) -> 7
A21: 8 | B21: 김아영 | C21: 광양 | D21: 광양중마초4 | E21: 3685 | F21: =RANK(E21,$E$14:$E$21,$E$14:$E$21) -> 8
A23: 106 남자초등부 자유형50m 결승
A24: 레인 | B24: 성명 | C24: 시군 | D24: 소속 | E24: 기록 | F24: 순위 | G24: 비고
A25: 4 | B25: 이재원 | C25: 목포 | D25: 목포영산초6 | E25: 2990 | F25: =RANK(E25,$E$25:$E$32,$E$25:$E$32) -> 1
A26: 5 | B26: 박준영 | C26: 광양 | D26: 광양중마초5 | E26: 3077 | F26: =RANK(E26,$E$25:$E$32,$E$25:$E$32) -> 2
A27: 3 | B27: 이훤 | C27: 목포 | D27: 목포신흥초6 | E27: 3272 | F27: =RANK(E27,$E$25:$E$32,$E$25:$E$32) -> 3
A28: 2 | B28: 추서윤 | C28: 광양 | D28: 광양중마초5 | E28: 3362 | F28: =RANK(E28,$E$25:$E$32,$E$25:$E$32) -> 4
A29: 8 | B29: 유승우 | C29: 강진 | D29: 강진중앙초5 | E29: 3379 | F29: =RANK(E29,$E$25:$E$32,$E$25:$E$32) -> 5
A30: 7 | B30: 신준율 | C30: 햐남 | D30: 해남동초5 | E30: 3535 | F30: =RANK(E30,$E$25:$E$32,$E$25:$E$32) -> 6
A31: 1 | B31: 공태윤 | C31: 해남 | D31: 해남동초6 | E31: 3550 | F31: =RANK(E31,$E$25:$E$32,$E$25:$E$32) -> 7
A32: 6 | B32: 이클 | C32: 목포 | D32: 목포신흥초5 | E32: 4122 | F32: =RANK(E32,$E$25:$E$32,$E$25:$E$32) -> 8
A34: 107 여자초등부 자유형50m 결승
A35: 레인 | B35: 성명 | C35: 시군 | D35: 소속 | E35: 기록 | F35: 순위 | G35: 비고
A36: 4 | B36: 김루아 | C36: 여수 | D36: 여수한려초5 | E36: 2898 | F36: =RANK(E36,$E$36:$E$43,$E$36:$E$43) -> 1
A37: 5 | B37: 김나윤 | C37: 강진 | D37: 도암초5 | E37: 3787 | F37: =RANK(E37,$E$36:$E$43,$E$36:$E$43) -> 2
A38: 1
A39: 2
A40: 3
A41: 6
A42: 7
A43: 8
...

Sheet 프로그램2일자 (예선)
A1: 201-1 남자유년부 배영50m 예선
A2: 레인 | B2: 성명 | C2: 시군 | D2: 소속 | E2: 기록 | F2: 순위 | G2: 비고
A3: 4 | B3: 유하루 | C3: 화순 | D3: 화순오성초2 | E3: 4496 | F3: =RANK(E3,$E$3:$E$21,$E$3:$E$21) -> 5
A4: 6 | B4: 신주한 | C4: 영암 | D4: 영암초3 | E4: 5210 | F4: =RANK(E4,$E$3:$E$21,$E$3:$E$21) -> 7
A5: 3 | B5: 최정현 | C5: 여수 | D5: 여수한려초1 | E5: 10266 | F5: =RANK(E5,$E$3:$E$21,$E$3:$E$21) -> 8
A6: 5 | B6: 고율 | C6: 해남 | D6: 해남동초3 | E6: 10987 | F6: =RANK(E6,$E$3:$E$21,$E$3:$E$21) -> 9
A7: 1
A8: 2
A9: 7
A10: 8
A12: 201-2 남자유년부 배영50m 예선
A13: 레인 | B13: 성명 | C13: 시군 | D13: 소속 | E13: 기록 | F13: 순위 | G13: 비고
A14: 1
A15: 2 | B15: 김정륜 | C15: 해남 | D15: 해남동초3 | E15: 4747 | F15: =RANK(E15,$E$3:$E$21,$E$3:$E$21) -> 6
A16: 3 | B16: 이태윤 | C16: 장성 | D16: 사창초4 | E16: 3895 | F16: =RANK(E16,$E$3:$E$21,$E$3:$E$21) -> 3
A17: 4 | B17: 박준희 | C17: 영암 | D17: 영암초3 | E17: 3797 | F17: =RANK(E17,$E$3:$E$21,$E$3:$E$21) -> 2
A18: 5 | B18: 김서온 | C18: 여수 | D18: 여수한려초4 | E18: 3722 | F18: =RANK(E18,$E$3:$E$21,$E$3:$E$21) -> 1
A19: 6 | B19: 염도진 | C19: 화순 | D19: 화순오송초4 | E19: 4050 | F19: =RANK(E19,$E$3:$E$21,$E$3:$E$21) -> 4
A20: 7
A21: 8
A23: 202-1 여자유년부 배영50m 예선
A24: 레인 | B24: 성명 | D24: 소속 | E24: 기록 | F24: 순위 | G24: 비고
A25: 1
A26: 2
A27: 3 | B27: 이나경 | C27: 순천 | D27: 순천왕지초4 | F27: =RANK(E27,$E$25:$E$43,$E$25:$E$43) -> #N/A | G27: DQ
A28: 4 | B28: 전솔지 | C28: 영암 | D28: 영암초4 | E28: 4332 | F28: =RANK(E28,$E$25:$E$43,$E$25:$E$43) -> 6
A29: 5 | B29: 여현아 | C29: 여수 | D29: 여수한려초3 | E29: 4150 | F29: =RANK(E29,$E$25:$E$43,$E$25:$E$43) -> 4
A30: 6 | B30: 김서연 | C30: 해남 | D30: 해남동초3
A31: 7
A32: 8
A34: 202-2 여자유년부 배영50m 예선
A35: 레인 | B35: 성명 | D35: 소속 | E35: 기록 | F35: 순위 | G35: 비고
A36: 1
A37: 2 | B37: 김아영 | C37: 광양 | D37: 광양중마초4 | E37: 4400 | F37: =RANK(E37,$E$25:$E$43,$E$25:$E$43) -> 7
A38: 3 | B38: 정유솔 | C38: 해남 | D38: 해남동초4 | E38: 4077 | F38: =RANK(E38,$E$25:$E$43,$E$25:$E$43) -> 3
A39: 4 | B39: 윤지수 | C39: 목포 | D39: 목포신흥초4 | E39: 3711 | F39: =RANK(E39,$E$25:$E$43,$E$25:$E$43) -> 1
A40: 5 | B40: 조아인 | C40: 무안 | D40: 오룡초4 | E40: 4281 | F40: =RANK(E40,$E$25:$E$43,$E$25:$E$43) -> 5
A41: 6 | B41: 하수빈 | C41: 여수 | D41: 여수한려초4 | E41: 4500 | F41: =RANK(E41,$E$25:$E$43,$E$25:$E$43) -> 8
A42: 7 | B42: 권아리 | C42: 광양 | D42: 광양중마초4 | E42: 3978 | F42: =RANK(E42,$E$25:$E$43,$E$25:$E$43) -> 2
A43: 8
...

Sheet 프로그램2일자(결승)
A1: 204 남자중등부 자유형400m 결승
A2: 레인 | B2: 성명 | C2: 시군 | D2: 소속 | E2: 기록 | F2: 순위 | G2: 비고
A3: 3 | B3: 문정우 | C3: 여수 | D3: 여수문수중3 | E3: 42022 | F3: =RANK(E3,$E$3:$E$10,$E$3:$E$10) -> 1
A4: 5 | B4: 김민규 | C4: 무안 | D4: 전남체육중1 | E4: 43001 | F4: =RANK(E4,$E$3:$E$10,$E$3:$E$10) -> 2
A5: 4 | B5: 김연우 | C5: 무안 | D5: 전남체육중3 | E5: 44166 | F5: =RANK(E5,$E$3:$E$10,$E$3:$E$10) -> 3
A6: 6 | B6: 이수혁 | C6: 여수 | D6: 여수문수중1 | E6: 45598 | F6: =RANK(E6,$E$3:$E$10,$E$3:$E$10) -> 4
A7: 2 | B7: 김태현 | C7: 순천 | D7: 순천왕의중2 | E7: 51188 | F7: =RANK(E7,$E$3:$E$10,$E$3:$E$10) -> 5
A8: 1
A9: 7
A10: 8
A12: 205 여자중등부 자유형400m 결승
A13: 레인 | B13: 성명 | C13: 시군 | D13: 소속 | E13: 기록 | F13: 순위 | G13: 비고
A14: 6 | B14: 고태희 | C14: 여수 | D14: 여수문수중3 | E14: 50588 | F14: =RANK(E14,$E$14:$E$21,$E$14:$E$21) -> 1
A15: 7 | B15: 조서연 | C15: 광양 | D15: 동광양중2 | E15: 51259 | F15: =RANK(E15,$E$14:$E$21,$E$14:$E$21) -> 2
A16: 1
A17: 2
A18: 3
A19: 4
A20: 5
A21: 8
A22: 206 남자유년부 배영50m 결승
A23: 레인 | B23: 성명 | D23: 소속 | E23: 기록 | F23: 순위 | G23: 비고
A24: 4 | B24: 김서온 | C24: 여수 | D24: 여수한려초4 | E24: 3643 | F24: =RANK(E24,$E$24:$E$32,$E$24:$E$32) -> 1
A25: 5 | B25: 박준희 | C25: 영암 | D25: 영암초3 | E25: 3737 | F25: =RANK(E25,$E$24:$E$32,$E$24:$E$32) -> 2
A26: 3 | B26: 이태윤 | C26: 장성 | D26: 사창초4 | E26: 3848 | F26: =RANK(E26,$E$24:$E$32,$E$24:$E$32) -> 3
A27: 6 | B27: 염도진 | C27: 화순 | D27: 화순오송초4 | E27: 4064 | F27: =RANK(E27,$E$24:$E$32,$E$24:$E$32) -> 4
A28: 2 | B28: 유하루 | C28: 화순 | D28: 화순오성초2 | E28: 4581 | F28: =RANK(E28,$E$24:$E$32,$E$24:$E$32) -> 5
A29: 7 | B29: 김정륜 | C29: 해남 | D29: 해남동초3 | E29: 4594 | F29: =RANK(E29,$E$24:$E$32,$E$24:$E$32) -> 6
A30: 1 | B30: 신주한 | C30: 영암 | D30: 영암초3 | E30: 5206 | F30: =RANK(E30,$E$24:$E$32,$E$24:$E$32) -> 7
A31: 8 | B31: 최정현 | C31: 여수 | D31: 여수한려초1 | E31: 10272 | F31: =RANK(E31,$E$24:$E$32,$E$24:$E$32) -> 8
A33: 207 여자유년부 배영50m 결승
A34: 레인 | B34: 성명 | D34: 소속 | E34: 기록 | F34: 순위 | G34: 비고
A35: 4 | B35: 윤지수 | C35: 목포 | D35: 목포신흥초4 | E35: 3675 | F35: =RANK(E35,$E$35:$E$42,$E$35:$E$42) -> 1
A36: 5 | B36: 정유솔 | C36: 해남 | D36: 해남동초4 | E36: 3950 | F36: =RANK(E36,$E$35:$E$42,$E$35:$E$42) -> 2
A37: 6 | B37: 조아인 | C37: 무안 | D37: 오룡초4 | E37: 4131 | F37: =RANK(E37,$E$35:$E$42,$E$35:$E$42) -> 3
A38: 3 | B38: 여현아 | C38: 여수 | D38: 여수한려초3 | E38: 4198 | F38: =RANK(E38,$E$35:$E$42,$E$35:$E$42) -> 4
A39: 7 | B39: 하수빈 | C39: 여수 | D39: 여수한려초4 | E39: 4326 | F39: =RANK(E39,$E$35:$E$42,$E$35:$E$42) -> 5
A40: 1 | B40: 김아영 | C40: 광양 | D40: 광양중마초4 | E40: 4431 | F40: =RANK(E40,$E$35:$E$42,$E$35:$E$42) -> 6
A41: 2 | B41: 전솔지 | C41: 영암 | D41: 영암초4 | E41: 4440 | F41: =RANK(E41,$E$35:$E$42,$E$35:$E$42) -> 7
A42: 8
...

Sheet 입상자명단
A1: 2026 제55회 전국소년체전 전남선발전 입상자 명단
A2: ▣ 종목(수영-초등부)
A3: 연번 | B3: 종별 | C3: 세부종목 / 거리 | D3: 입상 등위 | E3: 선수명 | F3: 소속 | G3: 기록
A4: 1 | B4: 남유 | C4: 자유형50M | D4: 1 | E4: ='프로그램1일자(결승)'!B3 -> 이강윤 | F4: ='프로그램1일자(결승)'!D3 -> 사창초4 | G4: ='프로그램1일자(결승)'!E3 -> 3085
A5: 2 | B5: 남유 | C5: 자유형50M | D5: 2 | E5: ='프로그램1일자(결승)'!B4 -> 김서온 | F5: ='프로그램1일자(결승)'!D4 -> 여수한려초4 | G5: ='프로그램1일자(결승)'!E4 -> 3229
A6: 3 | B6: 남유 | C6: 자유형50M | D6: 3 | E6: ='프로그램1일자(결승)'!B5 -> 박준희 | F6: ='프로그램1일자(결승)'!D5 -> 영암초3 | G6: ='프로그램1일자(결승)'!E5 -> 3334
A7: 4 | B7: 여유 | C7: 자유형50M | D7: 1 | E7: ='프로그램1일자(결승)'!B14 -> 황채원 | F7: ='프로그램1일자(결승)'!D14 -> 사창초4 | G7: ='프로그램1일자(결승)'!E14 -> 3138
A8: 5 | B8: 여유 | C8: 자유형50M | D8: 2 | E8: ='프로그램1일자(결승)'!B15 -> 윤지수 | F8: ='프로그램1일자(결승)'!D15 -> 목포신흥초4 | G8: ='프로그램1일자(결승)'!E15 -> 3246
A9: 6 | B9: 여유 | C9: 자유형50M | D9: 3 | E9: ='프로그램1일자(결승)'!B16 -> 임소은 | F9: ='프로그램1일자(결승)'!D16 -> 목포신흥초4 | G9: ='프로그램1일자(결승)'!E16 -> 3398
A10: 7 | B10: 남초 | C10: 자유형50M | D10: 1 | E10: ='프로그램1일자(결승)'!B25 -> 이재원 | F10: ='프로그램1일자(결승)'!D25 -> 목포영산초6 | G10: ='프로그램1일자(결승)'!E25 -> 2990
A11: 8 | B11: 남초 | C11: 자유형50M | D11: 2 | E11: ='프로그램1일자(결승)'!B26 -> 박준영 | F11: ='프로그램1일자(결승)'!D26 -> 광양중마초5 | G11: ='프로그램1일자(결승)'!E26 -> 3077
A12: 9 | B12: 남초 | C12: 자유형50M | D12: 3 | E12: ='프로그램1일자(결승)'!B27 -> 이훤 | F12: ='프로그램1일자(결승)'!D27 -> 목포신흥초6 | G12: ='프로그램1일자(결승)'!E27 -> 3272
A13: 10 | B13: 여초 | C13: 자유형50M | D13: 1 | E13: ='프로그램1일자(결승)'!B36 -> 김루아 | F13: ='프로그램1일자(결승)'!D36 -> 여수한려초5 | G13: ='프로그램1일자(결승)'!E36 -> 2898
A14: 11 | B14: 여초 | C14: 자유형50M | D14: 2 | E14: ='프로그램1일자(결승)'!B37 -> 김나윤 | F14: ='프로그램1일자(결승)'!D37 -> 도암초5 | G14: ='프로그램1일자(결승)'!E37 -> 3787
A15: 13 | B15: 남중 | C15: 자유형50M | D15: 1 | E15: ='프로그램1일자(결승)'!B47 -> 박민재 | F15: ='프로그램1일자(결승)'!D47 -> 전남체육중2 | G15: ='프로그램1일자(결승)'!E47 -> 2452
A16: 14 | B16: 남중 | C16: 자유형50M | D16: 2 | E16: ='프로그램1일자(결승)'!B48 -> 백대영 | F16: ='프로그램1일자(결승)'!D48 -> 전남체육중2 | G16: ='프로그램1일자(결승)'!E48 -> 2633
A17: 15 | B17: 남중 | C17: 자유형50M | D17: 3 | E17: ='프로그램1일자(결승)'!B49 -> 탁윤재 | F17: ='프로그램1일자(결승)'!D49 -> 동광양중1 | G17: ='프로그램1일자(결승)'!E49 -> 2670
A18: 16 | B18: 여중 | C18: 자유형50M | D18: 1 | E18: ='프로그램1일자(결승)'!B58 -> 최아영 | F18: ='프로그램1일자(결승)'!D58 -> 전남체육중3 | G18: ='프로그램1일자(결승)'!E58 -> 2930
A19: 17 | B19: 여중 | C19: 자유형50M | D19: 2 | E19: ='프로그램1일자(결승)'!B59 -> 서하빈 | F19: ='프로그램1일자(결승)'!D59 -> 전남체육중1 | G19: ='프로그램1일자(결승)'!E59 -> 3001
A20: 18 | B20: 여중 | C20: 자유형50M | D20: 3 | E20: ='프로그램1일자(결승)'!B60 -> 김서현 | F20: ='프로그램1일자(결승)'!D60 -> 강진여중2 | G20: ='프로그램1일자(결승)'!E60 -> 3340
A21: 19 | B21: 남중 | C21: 자유형800M | D21: 1 | E21: ='프로그램1일자(결승)'!B69 -> 문정우 | F21: ='프로그램1일자(결승)'!D69 -> 여수문수중3 | G21: ='프로그램1일자(결승)'!E69 -> 84653
A22: 20 | B22: 남중 | C22: 자유형800M | D22: 2 | E22: ='프로그램1일자(결승)'!B70 -> 김민규 | F22: ='프로그램1일자(결승)'!D70 -> 전남체육중1 | G22: ='프로그램1일자(결승)'!E70 -> 91904
A23: 21 | B23: 남중 | C23: 자유형800M | D23: 3 | E23: ='프로그램1일자(결승)'!B71 -> 조윤호 | F23: ='프로그램1일자(결승)'!D71 -> 전남체육중2 | G23: ='프로그램1일자(결승)'!E71 -> 100737
A24: 22 | B24: 여중 | C24: 자유형800M | D24: 1 | E24: ='프로그램1일자(결승)'!B80 -> 고태희 | F24: ='프로그램1일자(결승)'!D80 -> 여수문수중3 | G24: ='프로그램1일자(결승)'!E80 -> 102702
A25: 23 | B25: 여중 | C25: 자유형800M | D25: 2 | E25: ='프로그램1일자(결승)'!B81 -> 조서연 | F25: ='프로그램1일자(결승)'!D81 -> 동광양중2 | G25: ='프로그램1일자(결승)'!E81 -> 104387
A26: 24 | B26: 남유 | C26: 접영50M | D26: 1 | E26: ='프로그램1일자(결승)'!B91 -> 김민재 | F26: ='프로그램1일자(결승)'!D91 -> 광양중마초3 | G26: ='프로그램1일자(결승)'!E91 -> 3437
A27: 25 | B27: 남유 | C27: 접영50M | D27: 2 | E27: ='프로그램1일자(결승)'!B92 -> 이태윤 | F27: ='프로그램1일자(결승)'!D92 -> 사창초4 | G27: ='프로그램1일자(결승)'!E92 -> 3882
A28: 26 | B28: 남유 | C28: 접영50M | D28: 3 | E28: ='프로그램1일자(결승)'!B93 -> 신주한 | F28: ='프로그램1일자(결승)'!D93 -> 영암초3 | G28: ='프로그램1일자(결승)'!E93 -> 4539
A29: 27 | B29: 여유 | C29: 접영50M | D29: 1 | E29: ='프로그램1일자(결승)'!B102 -> 여현아 | F29: ='프로그램1일자(결승)'!D102 -> 여수한려초3 | G29: ='프로그램1일자(결승)'!E102 -> 3439
A30: 28 | B30: 여유 | C30: 접영50M | D30: 2 | E30: ='프로그램1일자(결승)'!B103 -> 황채원 | F30: ='프로그램1일자(결승)'!D103 -> 사창초4 | G30: ='프로그램1일자(결승)'!E103 -> 3571
A31: 29 | B31: 여유 | C31: 접영50M | D31: 3 | E31: ='프로그램1일자(결승)'!B104 -> 임소은 | F31: ='프로그램1일자(결승)'!D104 -> 목포신흥초4 | G31: ='프로그램1일자(결승)'!E104 -> 3658
A32: 30 | B32: 남초 | C32: 접영50M | D32: 1 | E32: ='프로그램1일자(결승)'!B113 -> 이재원 | F32: ='프로그램1일자(결승)'!D113 -> 목포영산초6 | G32: ='프로그램1일자(결승)'!E113 -> 3022
A33: 31 | B33: 남초 | C33: 접영50M | D33: 2 | E33: ='프로그램1일자(결승)'!B114 -> 탁윤건 | F33: ='프로그램1일자(결승)'!D114 -> 광양중마초5 | G33: ='프로그램1일자(결승)'!E114 -> 3082
A34: 32 | B34: 남초 | C34: 접영50M | D34: 3 | E34: ='프로그램1일자(결승)'!B115 -> 고건호 | F34: ='프로그램1일자(결승)'!D115 -> 화순오성초5 | G34: ='프로그램1일자(결승)'!E115 -> 3296
A35: 33 | B35: 여초 | C35: 접영50M | D35: 1 | E35: ='프로그램1일자(결승)'!B124 -> 이승은 | F35: ='프로그램1일자(결승)'!D124 -> 목포영산초5 | G35: ='프로그램1일자(결승)'!E124 -> 3395
A36: 34 | B36: 여초 | C36: 접영50M | D36: 2 | E36: ='프로그램1일자(결승)'!B125 -> 장서아 | F36: ='프로그램1일자(결승)'!D125 -> 해남동초6 | G36: ='프로그램1일자(결승)'!E125 -> 3498
A37: 35 | B37: 남중 | C37: 접영50M | D37: 1 | E37: ='프로그램1일자(결승)'!B135 -> 박민재 | F37: ='프로그램1일자(결승)'!D135 -> 전남체육중2 | G37: ='프로그램1일자(결승)'!E135 -> 2652
A38: 36 | B38: 남중 | C38: 접영50M | D38: 2 | E38: ='프로그램1일자(결승)'!B136 -> 김석호 | F38: ='프로그램1일자(결승)'!D136 -> 여수문수중2 | G38: ='프로그램1일자(결승)'!E136 -> 2755
A39: 37 | B39: 남중 | C39: 접영50M | D39: 3 | E39: ='프로그램1일자(결승)'!B137 -> 안효준 | F39: ='프로그램1일자(결승)'!D137 -> 전남체육중2 | G39: ='프로그램1일자(결승)'!E137 -> 2773
A40: 38 | B40: 여중 | C40: 접영50M | D40: 1 | E40: ='프로그램1일자(결승)'!B146 -> 서하빈 | F40: ='프로그램1일자(결승)'!D146 -> 전남체육중1 | G40: ='프로그램1일자(결승)'!E146 -> 3158
...

Sheet 제55회 소체선발명단
A1: 2026 제55회 전국소년체육대회 전남선발명단
A2: ▣ 종목(수영)
A3: 연번 | B3: 종별 | C3: 세부종목 / 거리 | D3: 입상 등위 | E3: 선수명 | F3: 소속 | G3: 기록 | H3: 기준기록
A4: 1 | B4: 남유 | C4: 자유형50M | D4: 1 | E4: =입상자명단!E4 -> 이강윤 | F4: =입상자명단!F4 -> 사창초4 | G4: =입상자명단!G4 -> 3085
A5: 2 | B5: 남유 | C5: 자유형50M | D5: 2 | E5: =입상자명단!E5 -> 김서온 | F5: =입상자명단!F5 -> 여수한려초4 | G5: =입상자명단!G5 -> 3229
A6: 3 | B6: 남유 | C6: 배영50M | D6: 1 | E6: =입상자명단!E88 -> 김서온 | F6: =입상자명단!F88 -> 여수한려초4 | G6: =입상자명단!G88 -> 3643
A7: 4 | B7: 남유 | C7: 배영50M | D7: 2 | E7: =입상자명단!E89 -> 박준희 | F7: =입상자명단!F89 -> 영암초3 | G7: =입상자명단!G89 -> 3737
A8: 5 | B8: 남유 | C8: 평영50M | D8: 1 | E8: =입상자명단!E105 -> 박서형 | F8: =입상자명단!F105 -> 화순오성초4 | G8: =입상자명단!G105 -> 4085
A9: 6 | B9: 남유 | C9: 평영50M | D9: 2 | E9: =입상자명단!E106 -> 이강윤 | F9: =입상자명단!F106 -> 화순오성초4 | G9: =입상자명단!G106 -> 4247
A10: 7 | B10: 남유 | C10: 접영50M | D10: 1 | E10: =입상자명단!E26 -> 김민재 | F10: =입상자명단!F26 -> 광양중마초3 | G10: =입상자명단!G26 -> 3437
A11: 8 | B11: 남유 | C11: 접영50M | D11: 2 | E11: =입상자명단!E27 -> 이태윤 | F11: =입상자명단!F27 -> 사창초4 | G11: =입상자명단!G27 -> 3882
A12: 9 | B12: 남초 | C12: 자유형50M | D12: 1 | E12: =입상자명단!E10 -> 이재원 | F12: =입상자명단!F10 -> 목포영산초6 | G12: =입상자명단!G10 -> 2990
A13: 10 | B13: 남초 | C13: 자유형50M | D13: 2 | E13: =입상자명단!E11 -> 박준영 | F13: =입상자명단!F11 -> 광양중마초5 | G13: =입상자명단!G11 -> 3077
A14: 11 | B14: 남초 | C14: 자유형100 | D14: 1 | E14: =입상자명단!E130 -> 여서원 | F14: =입상자명단!F130 -> 여수한려초6 | G14: =입상자명단!G130 -> 10534
A15: 12 | B15: 남초 | C15: 자유형100 | D15: 2 | E15: =입상자명단!E131 -> 유하윤 | F15: =입상자명단!F131 -> 화순오성초6 | G15: =입상자명단!G131 -> 10590
B16: 남초 | C16: 자유형200 | D16: 1 | E16: =입상자명단!E62 -> 유하윤 | F16: =입상자명단!F62 -> 화순오성초6 | G16: =입상자명단!G62 -> 22370
B17: 남초 | C17: 자유형200 | D17: 2 | E17: =입상자명단!E63 -> 여서원 | F17: =입상자명단!F63 -> 여수한려초6 | G17: =입상자명단!G63 -> 22503
A18: 13 | B18: 남초 | C18: 배영50M | D18: 1 | E18: =입상자명단!E94 -> 한명한 | F18: =입상자명단!F94 -> 화순오성초5 | G18: =입상자명단!G94 -> 3356
A19: 14 | B19: 남초 | C19: 배영50M | D19: 2 | E19: =입상자명단!E95 -> 박건우 | F19: =입상자명단!F95 -> 영암초5 | G19: =입상자명단!G95 -> 3370
A20: 15 | B20: 남초 | C20: 배영100M | D20: 1 | E20: =입상자명단!E52 -> 한명한 | F20: ='[1]프로그램1일자(예선)'!B6 -> #REF! | G20: =입상자명단!G52 -> 11277
A21: 16 | B21: 남초 | C21: 배영100M | D21: 2 | E21: =입상자명단!E53 -> 박건우 | F21: =입상자명단!F53 -> 영암초5 | G21: =입상자명단!G53 -> 11529
A22: 17 | B22: 남초 | C22: 평영50M | D22: 1 | E22: =입상자명단!E111 -> 김하울 | F22: =입상자명단!F111 -> 화순오성초5 | G22: =입상자명단!G111 -> 3625
A23: 18 | B23: 남초 | C23: 평영50M | D23: 2 | E23: =입상자명단!E112 -> 김시윤 | F23: =입상자명단!F112 -> 목포영산초5 | G23: =입상자명단!G112 -> 3736
A24: 19 | B24: 남초 | C24: 평영100M | D24: 1 | E24: =입상자명단!E42 -> 김하울 | F24: =입상자명단!F42 -> 화순오성초5 | G24: =입상자명단!G42 -> 11879
A25: 20 | B25: 남초 | C25: 평영100M | D25: 2 | E25: =입상자명단!E43 -> 김시윤 | F25: =입상자명단!F43 -> 목포영산초5 | G25: =입상자명단!G43 -> 12172
A26: 21 | B26: 남초 | C26: 접영50M | D26: 1 | E26: =입상자명단!E32 -> 이재원 | F26: =입상자명단!F32 -> 목포영산초6 | G26: =입상자명단!G32 -> 3022
A27: 22 | B27: 남초 | C27: 접영50M | D27: 2 | E27: =입상자명단!E33 -> 탁윤건 | F27: =입상자명단!F33 -> 광양중마초5 | G27: =입상자명단!G33 -> 3082
A28: 23 | B28: 남초 | C28: 접영100M | D28: 1 | E28: =입상자명단!E122 -> 탁윤건 | F28: =입상자명단!F122 -> 광양중마초5 | G28: =입상자명단!G122 -> 10927
A29: 24 | B29: 남초 | C29: 접영100M | D29: 2 | E29: =입상자명단!E123 -> 하이룸 | F29: =입상자명단!F123 -> 여수한려초6 | G29: =입상자명단!G123 -> 10973
A30: 25 | B30: 남초 | C30: 개인혼영200 | D30: 1 | E30: =입상자명단!E72 -> 하이룸 | F30: =입상자명단!F72 -> 여수한려초6 | G30: =입상자명단!G72 -> 23709
A31: 26 | B31: 남초 | C31: 개인혼영200 | D31: 2 | E31: =입상자명단!E73 -> 서은률 | F31: =입상자명단!F73 -> 여수한려초6 | G31: =입상자명단!G73 -> 24900
A32: 27 | B32: 여유 | C32: 자유형50M | D32: 1 | E32: =입상자명단!E7 -> 황채원 | F32: =입상자명단!F7 -> 사창초4 | G32: =입상자명단!G7 -> 3138
A33: 28 | B33: 여유 | C33: 자유형50M | D33: 2 | E33: =입상자명단!E8 -> 윤지수 | F33: =입상자명단!F8 -> 목포신흥초4 | G33: =입상자명단!G8 -> 3246
A34: 29 | B34: 여유 | C34: 배영50M | D34: 1 | E34: =입상자명단!E91 -> 윤지수 | F34: =입상자명단!F91 -> 목포신흥초4 | G34: =입상자명단!G91 -> 3675
A35: 30 | B35: 여유 | C35: 배영50M | D35: 2 | E35: =입상자명단!E92 -> 정유솔 | F35: =입상자명단!F92 -> 해남동초4 | G35: =입상자명단!G92 -> 3950
A36: 31 | B36: 여유 | C36: 평영50M | D36: 1 | E36: =입상자명단!E108 -> 권아리 | F36: =입상자명단!F108 -> 광양중마초4 | G36: =입상자명단!G108 -> 4021
A37: 32 | B37: 여유 | C37: 평영50M | D37: 2 | E37: =입상자명단!E109 -> 하연재 | F37: =입상자명단!F109 -> 목포영산초4 | G37: =입상자명단!G109 -> 4090
A38: 33 | B38: 여유 | C38: 접영50M | D38: 1 | E38: =입상자명단!E29 -> 여현아 | F38: =입상자명단!F29 -> 여수한려초3 | G38: =입상자명단!G29 -> 3439
A39: 34 | B39: 여유 | C39: 접영50M | D39: 2 | E39: =입상자명단!E30 -> 황채원 | F39: =입상자명단!F30 -> 사창초4 | G39: =입상자명단!G30 -> 3571
A40: 35 | B40: 여초 | C40: 자유형50M | D40: 1 | E40: =입상자명단!E13 -> 김루아 | F40: =입상자명단!F13 -> 여수한려초5 | G40: =입상자명단!G13 -> 2898
...

Sheet Sheet1

Sheet Sheet3
A1: 초혼성혼계영200M | B1: =CONCATENATE(A1,F1) -> #REF! | C1: ='프로그램1일자(결승)'!#REF! -> #REF! | D1: ='프로그램1일자(결승)'!#REF! -> #REF! | E1: ='프로그램1일자(결승)'!#REF! -> #REF! | F1: ='프로그램1일자(결승)'!#REF! -> #REF! | G1: =CONCATENATE(D1,A1) -> #REF! | H1: =IFERROR(VLOOKUP(F1,$O$1:$P$24,2,0),"0") -> 0 | M1: 1 | N1: 7 | O1: 1 | P1: 14
A2: 초혼성혼계영200M | B2: =CONCATENATE(A2,F2) -> #REF! | C2: ='프로그램1일자(결승)'!#REF! -> #REF! | D2: ='프로그램1일자(결승)'!#REF! -> #REF! | E2: ='프로그램1일자(결승)'!#REF! -> #REF! | F2: ='프로그램1일자(결승)'!#REF! -> #REF! | G2: =CONCATENATE(D2,A2) -> #REF! | H2: =IFERROR(VLOOKUP(F2,$O$1:$P$24,2,0),"0") -> 0 | M2: 2 | N2: 5 | O2: 2 | P2: 10
A3: 초혼성혼계영200M | B3: =CONCATENATE(A3,F3) -> #REF! | C3: ='프로그램1일자(결승)'!#REF! -> #REF! | D3: ='프로그램1일자(결승)'!#REF! -> #REF! | E3: ='프로그램1일자(결승)'!#REF! -> #REF! | F3: ='프로그램1일자(결승)'!#REF! -> #REF! | G3: =CONCATENATE(D3,A3) -> #REF! | H3: =IFERROR(VLOOKUP(F3,$O$1:$P$24,2,0),"0") -> 0 | M3: 3 | N3: 4 | O3: 3 | P3: 8
A4: 초혼성혼계영200M | B4: =CONCATENATE(A4,F4) -> #REF! | C4: ='프로그램1일자(결승)'!#REF! -> #REF! | D4: ='프로그램1일자(결승)'!#REF! -> #REF! | E4: ='프로그램1일자(결승)'!#REF! -> #REF! | F4: ='프로그램1일자(결승)'!#REF! -> #REF! | G4: =CONCATENATE(D4,A4) -> #REF! | H4: =IFERROR(VLOOKUP(F4,$O$1:$P$24,2,0),"0") -> 0 | M4: 4 | N4: 3 | O4: 4 | P4: 6
A5: 초혼성혼계영200M | B5: =CONCATENATE(A5,F5) -> #REF! | C5: ='프로그램1일자(결승)'!#REF! -> #REF! | D5: ='프로그램1일자(결승)'!#REF! -> #REF! | E5: ='프로그램1일자(결승)'!#REF! -> #REF! | F5: ='프로그램1일자(결승)'!#REF! -> #REF! | G5: =CONCATENATE(D5,A5) -> #REF! | H5: =IFERROR(VLOOKUP(F5,$O$1:$P$24,2,0),"0") -> 0 | M5: 5 | N5: 2 | O5: 5 | P5: 4
A6: 초혼성혼계영200M | B6: =CONCATENATE(A6,F6) -> #REF! | C6: ='프로그램1일자(결승)'!#REF! -> #REF! | D6: ='프로그램1일자(결승)'!#REF! -> #REF! | E6: ='프로그램1일자(결승)'!#REF! -> #REF! | F6: ='프로그램1일자(결승)'!#REF! -> #REF! | G6: =CONCATENATE(D6,A6) -> #REF! | H6: =IFERROR(VLOOKUP(F6,$O$1:$P$24,2,0),"0") -> 0 | M6: 6 | N6: 1 | O6: 6 | P6: 2
A7: 초혼성혼계영200M | B7: =CONCATENATE(A7,F7) -> #REF! | C7: ='프로그램1일자(결승)'!#REF! -> #REF! | D7: ='프로그램1일자(결승)'!#REF! -> #REF! | E7: ='프로그램1일자(결승)'!#REF! -> #REF! | F7: ='프로그램1일자(결승)'!#REF! -> #REF! | G7: =CONCATENATE(D7,A7) -> #REF! | H7: =IFERROR(VLOOKUP(F7,$O$1:$P$24,2,0),"0") -> 0 | M7: 7 | N7: 1 | O7: 7 | P7: 2
A8: 초혼성혼계영200M | B8: =CONCATENATE(A8,F8) -> #REF! | C8: ='프로그램1일자(결승)'!#REF! -> #REF! | D8: ='프로그램1일자(결승)'!#REF! -> #REF! | E8: ='프로그램1일자(결승)'!#REF! -> #REF! | F8: ='프로그램1일자(결승)'!#REF! -> #REF! | G8: =CONCATENATE(D8,A8) -> #REF! | H8: =IFERROR(VLOOKUP(F8,$O$1:$P$24,2,0),"0") -> 0 | M8: 8 | N8: 1 | O8: 8 | P8: 2
A9: 초혼성혼계영200M | B9: =CONCATENATE(A9,F9) -> #REF! | C9: ='프로그램1일자(결승)'!#REF! -> #REF! | D9: ='프로그램1일자(결승)'!#REF! -> #REF! | E9: ='프로그램1일자(결승)'!#REF! -> #REF! | F9: ='프로그램1일자(결승)'!#REF! -> #REF! | G9: =CONCATENATE(D9,A9) -> #REF! | H9: =IFERROR(VLOOKUP(F9,$O$1:$P$24,2,0),"0") -> 0 | M9: 9 | N9: 1 | O9: 9 | P9: 2
A10: 초혼성혼계영200M | B10: =CONCATENATE(A10,F10) -> #REF! | C10: ='프로그램1일자(결승)'!#REF! -> #REF! | D10: ='프로그램1일자(결승)'!#REF! -> #REF! | E10: ='프로그램1일자(결승)'!#REF! -> #REF! | F10: ='프로그램1일자(결승)'!#REF! -> #REF! | G10: =CONCATENATE(D10,A10) -> #REF! | H10: =IFERROR(VLOOKUP(F10,$O$1:$P$24,2,0),"0") -> 0 | M10: 10 | N10: 1 | O10: 10 | P10: 2
A11: 초혼성혼계영200M | B11: =CONCATENATE(A11,F11) -> #REF! | C11: ='프로그램1일자(결승)'!#REF! -> #REF! | D11: ='프로그램1일자(결승)'!#REF! -> #REF! | E11: ='프로그램1일자(결승)'!#REF! -> #REF! | F11: ='프로그램1일자(결승)'!#REF! -> #REF! | G11: =CONCATENATE(D11,A11) -> #REF! | H11: =IFERROR(VLOOKUP(F11,$O$1:$P$24,2,0),"0") -> 0 | M11: 11 | N11: 1 | O11: 11 | P11: 2
A12: 중혼성혼계영200M | B12: =CONCATENATE(A12,F12) -> #REF! | C12: ='프로그램1일자(결승)'!#REF! -> #REF! | D12: ='프로그램1일자(결승)'!#REF! -> #REF! | E12: ='프로그램1일자(결승)'!#REF! -> #REF! | F12: ='프로그램1일자(결승)'!#REF! -> #REF! | G12: =CONCATENATE(D12,A12) -> #REF! | H12: =IFERROR(VLOOKUP(F12,$O$1:$P$24,2,0),"0") -> 0 | M12: 12 | N12: 1 | O12: 12 | P12: 2
... A24: 성인혼성혼계영200M | B24: =CONCATENATE(A24,F24) -> #REF! | C24: ='프로그램1일자(결승)'!#REF! -> #REF! | D24: ='프로그램1일자(결승)'!#REF! -> #REF! | E24: ='프로그램1일자(결승)'!#REF! -> #REF! | F24: ='프로그램1일자(결승)'!#REF! -> #REF! | G24: =CONCATENATE(D24,A24) -> #REF! | H24: =IFERROR(VLOOKUP(F24,$O$1:$P$24,2,0),"0") -> 0 | M24: 24 | N24: 1 | O24: 24 | P24: 2
A25: 성인혼성혼계영200M | B25: =CONCATENATE(A25,F25) -> #REF! | C25: ='프로그램1일자(결승)'!#REF! -> #REF! | D25: ='프로그램1일자(결승)'!#REF! -> #REF! | E25: ='프로그램1일자(결승)'!#REF! -> #REF! | F25: ='프로그램1일자(결승)'!#REF! -> #REF! | G25: =CONCATENATE(D25,A25) -> #REF! | H25: =IFERROR(VLOOKUP(F25,$O$1:$P$24,2,0),"0") -> 0
A26: 성인혼성혼계영200M | B26: =CONCATENATE(A26,F26) -> #REF! | C26: ='프로그램1일자(결승)'!#REF! -> #REF! | D26: ='프로그램1일자(결승)'!#REF! -> #REF! | E26: ='프로그램1일자(결승)'!#REF! -> #REF! | F26: ='프로그램1일자(결승)'!#REF! -> #REF! | G26: =CONCATENATE(D26,A26) -> #REF! | H26: =IFERROR(VLOOKUP(F26,$O$1:$P$24,2,0),"0") -> 0
A27: 성인혼성혼계영200M | B27: =CONCATENATE(A27,F27) -> #REF! | C27: ='프로그램1일자(결승)'!#REF! -> #REF! | D27: ='프로그램1일자(결승)'!#REF! -> #REF! | E27: ='프로그램1일자(결승)'!#REF! -> #REF! | F27: ='프로그램1일자(결승)'!#REF! -> #REF! | G27: =CONCATENATE(D27,A27) -> #REF! | H27: =IFERROR(VLOOKUP(F27,$O$1:$P$24,2,0),"0") -> 0
A28: 성인혼성혼계영200M | B28: =CONCATENATE(A28,F28) -> #REF! | C28: ='프로그램1일자(결승)'!#REF! -> #REF! | D28: ='프로그램1일자(결승)'!#REF! -> #REF! | E28: ='프로그램1일자(결승)'!#REF! -> #REF! | F28: ='프로그램1일자(결승)'!#REF! -> #REF! | G28: =CONCATENATE(D28,A28) -> #REF! | H28: =IFERROR(VLOOKUP(F28,$O$1:$P$24,2,0),"0") -> 0
A29: 성인혼성혼계영200M | B29: =CONCATENATE(A29,F29) -> #REF! | C29: ='프로그램1일자(결승)'!#REF! -> #REF! | D29: ='프로그램1일자(결승)'!#REF! -> #REF! | E29: ='프로그램1일자(결승)'!#REF! -> #REF! | F29: ='프로그램1일자(결승)'!#REF! -> #REF! | G29: =CONCATENATE(D29,A29) -> #REF! | H29: =IFERROR(VLOOKUP(F29,$O$1:$P$24,2,0),"0") -> 0
A30: 성인혼성혼계영200M | B30: =CONCATENATE(A30,F30) -> #REF! | C30: ='프로그램1일자(결승)'!#REF! -> #REF! | D30: ='프로그램1일자(결승)'!#REF! -> #REF! | E30: ='프로그램1일자(결승)'!#REF! -> #REF! | F30: ='프로그램1일자(결승)'!#REF! -> #REF! | G30: =CONCATENATE(D30,A30) -> #REF! | H30: =IFERROR(VLOOKUP(F30,$O$1:$P$24,2,0),"0") -> 0
A31: 성인혼성혼계영200M | B31: =CONCATENATE(A31,F31) -> #REF! | C31: ='프로그램1일자(결승)'!#REF! -> #REF! | D31: ='프로그램1일자(결승)'!#REF! -> #REF! | E31: ='프로그램1일자(결승)'!#REF! -> #REF! | F31: ='프로그램1일자(결승)'!#REF! -> #REF! | G31: =CONCATENATE(D31,A31) -> #REF! | H31: =IFERROR(VLOOKUP(F31,$O$1:$P$24,2,0),"0") -> 0
A32: 성인혼성혼계영200M | B32: =CONCATENATE(A32,F32) -> #REF! | C32: ='프로그램1일자(결승)'!#REF! -> #REF! | D32: ='프로그램1일자(결승)'!#REF! -> #REF! | E32: ='프로그램1일자(결승)'!#REF! -> #REF! | F32: ='프로그램1일자(결승)'!#REF! -> #REF! | G32: =CONCATENATE(D32,A32) -> #REF! | H32: =IFERROR(VLOOKUP(F32,$O$1:$P$24,2,0),"0") -> 0
A33: 성인혼성혼계영200M | B33: =CONCATENATE(A33,F33) -> #REF! | C33: ='프로그램1일자(결승)'!#REF! -> #REF! | D33: ='프로그램1일자(결승)'!#REF! -> #REF! | E33: ='프로그램1일자(결승)'!#REF! -> #REF! | F33: ='프로그램1일자(결승)'!#REF! -> #REF! | G33: =CONCATENATE(D33,A33) -> #REF! | H33: =IFERROR(VLOOKUP(F33,$O$1:$P$24,2,0),"0") -> 0
A34: 남초A접영50M | B34: =CONCATENATE(A34,F34) -> #REF! | C34: ='프로그램1일자(결승)'!#REF! -> #REF! | D34: ='프로그램1일자(결승)'!#REF! -> #REF! | E34: ='프로그램1일자(결승)'!#REF! -> #REF! | F34: ='프로그램1일자(결승)'!#REF! -> #REF! | G34: =CONCATENATE(D34,A34) -> #REF! | H34: =IFERROR(VLOOKUP(F34,$M$1:$N$24,2,0),"0") -> 0
A35: 남초A접영50M | B35: =CONCATENATE(A35,F35) -> #REF! | C35: ='프로그램1일자(결승)'!#REF! -> #REF! | D35: ='프로그램1일자(결승)'!#REF! -> #REF! | E35: ='프로그램1일자(결승)'!#REF! -> #REF! | F35: ='프로그램1일자(결승)'!#REF! -> #REF! | G35: =CONCATENATE(D35,A35) -> #REF! | H35: =IFERROR(VLOOKUP(F35,$M$1:$N$24,2,0),"0") -> 0
A36: 남초A접영50M | B36: =CONCATENATE(A36,F36) -> #REF! | C36: ='프로그램1일자(결승)'!#REF! -> #REF! | D36: ='프로그램1일자(결승)'!#REF! -> #REF! | E36: ='프로그램1일자(결승)'!#REF! -> #REF! | F36: ='프로그램1일자(결승)'!#REF! -> #REF! | G36: =CONCATENATE(D36,A36) -> #REF! | H36: =IFERROR(VLOOKUP(F36,$M$1:$N$24,2,0),"0") -> 0
A37: 남초A접영50M | B37: =CONCATENATE(A37,F37) -> #REF! | C37: ='프로그램1일자(결승)'!#REF! -> #REF! | D37: ='프로그램1일자(결승)'!#REF! -> #REF! | E37: ='프로그램1일자(결승)'!#REF! -> #REF! | F37: ='프로그램1일자(결승)'!#REF! -> #REF! | G37: =CONCATENATE(D37,A37) -> #REF! | H37: =IFERROR(VLOOKUP(F37,$M$1:$N$24,2,0),"0") -> 0
A38: 남초A접영50M | B38: =CONCATENATE(A38,F38) -> #REF! | C38: ='프로그램1일자(결승)'!#REF! -> #REF! | D38: ='프로그램1일자(결승)'!#REF! -> #REF! | E38: ='프로그램1일자(결승)'!#REF! -> #REF! | F38: ='프로그램1일자(결승)'!#REF! -> #REF! | G38: =CONCATENATE(D38,A38) -> #REF! | H38: =IFERROR(VLOOKUP(F38,$M$1:$N$24,2,0),"0") -> 0
A39: 남초A접영50M | B39: =CONCATENATE(A39,F39) -> #REF! | C39: ='프로그램1일자(결승)'!#REF! -> #REF! | D39: ='프로그램1일자(결승)'!#REF! -> #REF! | E39: ='프로그램1일자(결승)'!#REF! -> #REF! | F39: ='프로그램1일자(결승)'!#REF! -> #REF! | G39: =CONCATENATE(D39,A39) -> #REF! | H39: =IFERROR(VLOOKUP(F39,$M$1:$N$24,2,0),"0") -> 0
A40: 남초A접영50M | B40: =CONCATENATE(A40,F40) -> #REF! | C40: ='프로그램1일자(결승)'!#REF! -> #REF! | D40: ='프로그램1일자(결승)'!#REF! -> #REF! | E40: ='프로그램1일자(결승)'!#REF! -> #REF! | F40: ='프로그램1일자(결승)'!#REF! -> #REF! | G40: =CONCATENATE(D40,A40) -> #REF! | H40: =IFERROR(VLOOKUP(F40,$M$1:$N$24,2,0),"0") -> 0
A41: 남초A접영50M | B41: =CONCATENATE(A41,F41) -> #REF! | C41: ='프로그램1일자(결승)'!#REF! -> #REF! | D41: ='프로그램1일자(결승)'!#REF! -> #REF! | E41: ='프로그램1일자(결승)'!#REF! -> #REF! | F41: ='프로그램1일자(결승)'!#REF! -> #REF! | G41: =CONCATENATE(D41,A41) -> #REF! | H41: =IFERROR(VLOOKUP(F41,$M$1:$N$24,2,0),"0") -> 0
A42: 남초A접영50M | B42: =CONCATENATE(A42,F42) -> #REF! | C42: ='프로그램1일자(결승)'!#REF! -> #REF! | D42: ='프로그램1일자(결승)'!#REF! -> #REF! | E42: ='프로그램1일자(결승)'!#REF! -> #REF! | F42: ='프로그램1일자(결승)'!#REF! -> #REF! | G42: =CONCATENATE(D42,A42) -> #REF! | H42: =IFERROR(VLOOKUP(F42,$M$1:$N$24,2,0),"0") -> 0
A43: 남초A접영50M | B43: =CONCATENATE(A43,F43) -> #REF! | C43: ='프로그램1일자(결승)'!#REF! -> #REF! | D43: ='프로그램1일자(결승)'!#REF! -> #REF! | E43: ='프로그램1일자(결승)'!#REF! -> #REF! | F43: ='프로그램1일자(결승)'!#REF! -> #REF! | G43: =CONCATENATE(D43,A43) -> #REF! | H43: =IFERROR(VLOOKUP(F43,$M$1:$N$24,2,0),"0") -> 0
A44: 남초A접영50M | B44: =CONCATENATE(A44,F44) -> #REF! | C44: ='프로그램1일자(결승)'!#REF! -> #REF! | D44: ='프로그램1일자(결승)'!#REF! -> #REF! | E44: ='프로그램1일자(결승)'!#REF! -> #REF! | F44: ='프로그램1일자(결승)'!#REF! -> #REF! | G44: =CONCATENATE(D44,A44) -> #REF! | H44: =IFERROR(VLOOKUP(F44,$M$1:$N$24,2,0),"0") -> 0
A45: 여초A접영50M | B45: =CONCATENATE(A45,F45) -> #REF! | C45: ='프로그램1일자(결승)'!#REF! -> #REF! | D45: ='프로그램1일자(결승)'!#REF! -> #REF! | E45: ='프로그램1일자(결승)'!#REF! -> #REF! | F45: ='프로그램1일자(결승)'!#REF! -> #REF! | G45: =CONCATENATE(D45,A45) -> #REF! | H45: =IFERROR(VLOOKUP(F45,$M$1:$N$24,2,0),"0") -> 0
... A99: 남초C접영50M | B99: =CONCATENATE(A99,F99) -> #REF! | C99: ='프로그램1일자(결승)'!#REF! -> #REF! | D99: ='프로그램1일자(결승)'!#REF! -> #REF! | E99: ='프로그램1일자(결승)'!#REF! -> #REF! | F99: ='프로그램1일자(결승)'!#REF! -> #REF! | G99: =CONCATENATE(D99,A99) -> #REF! | H99: =IFERROR(VLOOKUP(F99,$M$1:$N$24,2,0),"0") -> 0
A100: 여초C접영50M | B100: =CONCATENATE(A100,F100) -> 여초C접영50M0 | C100: ='프로그램1일자(결승)'!B1 -> 0 | D100: ='프로그램1일자(결승)'!D1 -> 0 | E100: ='프로그램1일자(결승)'!E1 -> 0 | F100: ='프로그램1일자(결승)'!F1 -> 0 | G100: =CONCATENATE(D100,A100) -> 0여초C접영50M | H100: =IFERROR(VLOOKUP(F100,$M$1:$N$24,2,0),"0") -> 0
A101: 여초C접영50M | B101: =CONCATENATE(A101,F101) -> 여초C접영50M순위 | C101: ='프로그램1일자(결승)'!B2 -> 성명 | D101: ='프로그램1일자(결승)'!D2 -> 소속 | E101: ='프로그램1일자(결승)'!E2 -> 기록 | F101: ='프로그램1일자(결승)'!F2 -> 순위 | G101: =CONCATENATE(D101,A101) -> 소속여초C접영50M | H101: =IFERROR(VLOOKUP(F101,$M$1:$N$24,2,0),"0") -> 0
A102: 여초C접영50M | B102: =CONCATENATE(A102,F102) -> 여초C접영50M1 | C102: ='프로그램1일자(결승)'!B3 -> 이강윤 | D102: ='프로그램1일자(결승)'!D3 -> 사창초4 | E102: ='프로그램1일자(결승)'!E3 -> 3085 | F102: ='프로그램1일자(결승)'!F3 -> 1 | G102: =CONCATENATE(D102,A102) -> 사창초4여초C접영50M | H102: =IFERROR(VLOOKUP(F102,$M$1:$N$24,2,0),"0") -> 7
A103: 여초C접영50M | B103: =CONCATENATE(A103,F103) -> 여초C접영50M2 | C103: ='프로그램1일자(결승)'!B4 -> 김서온 | D103: ='프로그램1일자(결승)'!D4 -> 여수한려초4 | E103: ='프로그램1일자(결승)'!E4 -> 3229 | F103: ='프로그램1일자(결승)'!F4 -> 2 | G103: =CONCATENATE(D103,A103) -> 여수한려초4여초C접영50M | H103: =IFERROR(VLOOKUP(F103,$M$1:$N$24,2,0),"0") -> 5
A104: 여초C접영50M | B104: =CONCATENATE(A104,F104) -> 여초C접영50M3 | C104: ='프로그램1일자(결승)'!B5 -> 박준희 | D104: ='프로그램1일자(결승)'!D5 -> 영암초3 | E104: ='프로그램1일자(결승)'!E5 -> 3334 | F104: ='프로그램1일자(결승)'!F5 -> 3 | G104: =CONCATENATE(D104,A104) -> 영암초3여초C접영50M | H104: =IFERROR(VLOOKUP(F104,$M$1:$N$24,2,0),"0") -> 4
...
