Workbook

Sheet 참가신청현황
A1: 제55회 전국소년체육대회 전남 선발전 출전명단 현황
A3: 구분 | B3: 성명 | C3: 소속 | D3: 그룹 | E3: 학년 | F3: 종목
A4: 초등학생 | B4: 유승우 | C4: 강진중앙초 | D4: 남초 | E4: 5 | F4: 자50
A5: 초등학생 | B5: 유승우 | C5: 강진중앙초 | D5: 남초 | E5: 5 | F5: 접50
A6: 초등학생 | B6: 박준영 | C6: 광양중마초 | D6: 남초 | E6: 5 | F6: 자50
A7: 초등학생 | B7: 박준영 | C7: 광양중마초 | D7: 남초 | E7: 5 | F7: 자100
A8: 초등학생 | B8: 탁윤건 | C8: 광양중마초 | D8: 남초 | E8: 5 | F8: 접50
A9: 초등학생 | B9: 탁윤건 | C9: 광양중마초 | D9: 남초 | E9: 5 | F9: 접100
A10: 초등학생 | B10: 이주원 | C10: 광양중마초 | D10: 남초 | E10: 5 | F10: 배50
A11: 초등학생 | B11: 이주원 | C11: 광양중마초 | D11: 남초 | E11: 5 | F11: 개200
A12: 초등학생 | B12: 추희윤 | C12: 광양중마초 | D12: 남초 | E12: 5 | F12: 평50
A13: 초등학생 | B13: 추희윤 | C13: 광양중마초 | D13: 남초 | E13: 5 | F13: 평100
A14: 초등학생 | B14: 추서윤 | C14: 광양중마초 | D14: 남초 | E14: 5 | F14: 자50
A15: 초등학생 | B15: 추서윤 | C15: 광양중마초 | D15: 남초 | E15: 5 | F15: 자100
... A112: 초등학생 | B112: 임소은 | C112: 목포신흥초 | D112: 여초 | E112: 4 | F112: 자50
A113: 초등학생 | B113: 임소은 | C113: 목포신흥초 | D113: 여초 | E113: 4 | F113: 접50 | G113: 삭제
A114: 초등학생 | B114: 박지안 | C114: 빛누리초 | D114: 여초 | E114: 2 | F114: 자50
A115: 초등학생 | B115: 황채원 | C115: 사창초 | D115: 여초 | E115: 4 | F115: 자50
A116: 초등학생 | B116: 황채원 | C116: 사창초 | D116: 여초 | E116: 4 | F116: 접50
A117: 초등학생 | B117: 이나경 | C117: 순천왕지초 | D117: 여초 | E117: 4 | F117: 자50
A118: 초등학생 | B118: 이나경 | C118: 순천왕지초 | D118: 여초 | E118: 4 | F118: 배50
A119: 초등학생 | B119: 임소은 | C119: 여수한려초 | D119: 여초 | E119: 6 | F119: 평50
A120: 초등학생 | B120: 임소은 | C120: 여수한려초 | D120: 여초 | E120: 6 | F120: 평100
A121: 초등학생 | B121: 임지율 | C121: 여수한려초 | D121: 여초 | E121: 6 | F121: 자100
A122: 초등학생 | B122: 임지율 | C122: 여수한려초 | D122: 여초 | E122: 6 | F122: 자200
A123: 초등학생 | B123: 김루아 | C123: 여수한려초 | D123: 여초 | E123: 5 | F123: 자50
A124: 초등학생 | B124: 김루아 | C124: 여수한려초 | D124: 여초 | E124: 5 | F124: 자100
A125: 초등학생 | B125: 신지유 | C125: 여수한려초 | D125: 여초 | E125: 5 | F125: 자200
... A153: 초등학생 | B153: 이승은 | C153: 목포영산초 | D153: 여초 | E153: 5 | F153: 자200
A154: 성인부 | B154: 신용균 | C154: 빙그레 | D154: 5 | E154: 610120 | F154: 배50
A155: 성인부 | B155: 신용균 | C155: 빙그레 | D155: 5 | E155: 610120 | F155: 자50
A156: 성인부 | B156: 정관영 | C156: 빙그레 | D156: 5 | E156: 610601 | F156: 배50
A157: 성인부 | B157: 정관영 | C157: 빙그레 | D157: 5 | E157: 610601 | F157: 자50
A158: 성인부 | B158: 박영춘 | C158: 빙그레 | D158: 4 | E158: 660810 | F158: 자50
A159: 성인부 | B159: 박영춘 | C159: 빙그레 | D159: 4 | E159: 660810 | F159: 개200
A160: 성인부 | B160: 임진우 | C160: 빙그레 | D160: 4 | E160: 680719 | F160: 배50
A161: 성인부 | B161: 임진우 | C161: 빙그레 | D161: 4 | E161: 680719 | F161: 평50
A162: 성인부 | B162: 이병국 | C162: 빙그레 | D162: 4 | E162: 690710 | F162: 배50
A163: 성인부 | B163: 이병국 | C163: 빙그레 | D163: 4 | E163: 690710 | F163: 자50
A164: 성인부 | B164: 박정호 | C164: 빙그레 | D164: 4 | E164: 720619 | F164: 평50
A165: 성인부 | B165: 박정호 | C165: 빙그레 | D165: 4 | E165: 720619 | F165: 자50
... A197: 성인부 | B197: 최선진 | C197: 빙그레 | D197: 4 | E197: 730522 | F197: 자50
A198: 성인부 | B198: 윤미애 | C198: 빙그레 | D198: 3 | F198: 평50
A199: 성인부 | B199: 윤미애 | C199: 빙그레 | D199: 3 | F199: 자50
A200: 성인부 | B200: 선경님 | C200: 빙그레 | D200: 3 | E200: 790724 | F200: 접50
A201: 성인부 | B201: 선경님 | C201: 빙그레 | D201: 3 | E201: 790724 | F201: 배50
A202: 성인부 | B202: 이유경 | C202: 빙그레 | D202: 3 | E202: 810305 | F202: 접50
A203: 성인부 | B203: 이유경 | C203: 빙그레 | D203: 3 | E203: 810305 | F203: 평50
A204: 성인부 | B204: 이정민 | C204: 빙그레 | D204: 2 | E204: 920722 | F204: 평50
A205: 성인부 | B205: 이정민 | C205: 빙그레 | D205: 2 | E205: 920722 | F205: 자50
A206: 성인부 | B206: 용현주 | C206: 빙그레 | D206: 1 | E206: 940807 | F206: 자50
A207: 성인부 | B207: 용현주 | C207: 빙그레 | D207: 1 | E207: 940807 | F207: 평50
A208: 성인부 | B208: 박영춘.변기진.최선진.선경님 | C208: 빙그레 | D208: 성인 | F208: 혼성혼계200
A209: 성인부 | B209: 허종안.구민재.배윤정.이유경 | C209: 빙그레(번외) | D209: 성인 | F209: 혼성혼계200
A210: 성인부 | B210: 박영춘.허종안.유기승.구민재 | C210: 빙그레 | D210: 남자 | F210: 혼계200
A211: 성인부 | B211: 김정규.변기진.정상훈.윤석기 | C211: 빙그레(번외) | D211: 남자 | F211: 혼계200
A212: 성인부 | B212: 배윤정.최선진.선경님.이유경 | C212: 빙그레 | D212: 여자 | F212: 혼계200
A213: 성인부 | B213: 박영춘.임진우.윤석기.구민재 | C213: 빙그레 | D213: 남자 | F213: 계200
A214: 성인부 | B214: 박정호.허종안.유기승.정상훈 | C214: 빙그레(번외) | D214: 남자 | F214: 계200
A215: 성인부 | B215: 배윤정.최선진.선경님.이유경 | C215: 빙그레 | D215: 여자 | F215: 계200
A216: 성인부 | B216: 변기진.윤석기.배윤정.이유경 | C216: 빙그레 | D216: 성인 | F216: 혼성계200
A217: 성인부 | B217: 유기승.정상훈.최선진.선경님 | C217: 빙그레(번외) | D217: 성인 | F217: 혼성계200
A218: 성인부 | B218: 김중연.양동혁.조은영.윤미애 | C218: 빙그레(번외) | D218: 성인 | F218: 혼성계200
A219: 성인부 | B219: 박용규.박민권.이정민.용현주 | C219: 빙그레(번외) | D219: 성인 | F219: 혼성계200
A220: 성인부 | B220: 박리엘 | C220: MPS | D220: 2 | E220: 930225 | F220: 자50
A221: 성인부 | B221: 박리엘 | C221: MPS | D221: 2 | E221: 930225 | F221: 배50
A222: 성인부 | B222: 이수형 | C222: 곡성군수영연맹 | D222: 4 | E222: 660923 | F222: 자50
A223: 성인부 | B223: 이수형 | C223: 곡성군수영연맹 | D223: 4 | E223: 660923 | F223: 배50
A224: 성인부 | B224: 김진아 | C224: 곡성군수영연맹 | D224: 4 | E224: 711117 | F224: 자50
A225: 성인부 | B225: 김진아 | C225: 곡성군수영연맹 | D225: 4 | E225: 711117 | F225: 배50
A226: 성인부 | B226: 이명화 | C226: 곡성군수영연맹 | D226: 4 | E226: 710510 | F226: 자50
A227: 성인부 | B227: 이명화 | C227: 곡성군수영연맹 | D227: 4 | E227: 710510 | F227: 평50
A228: 성인부 | B228: 이명숙 | C228: 곡성군수영연맹 | D228: 5 | E228: 601215 | F228: 자50
A229: 성인부 | B229: 이명숙 | C229: 곡성군수영연맹 | D229: 5 | E229: 601215 | F229: 접50
A230: 성인부 | B230: 조승희 | C230: 수인지교 | D230: 4 | E230: 670830 | F230: 접50
A231: 성인부 | B231: 조승희 | C231: 수인지교 | D231: 4 | E231: 670830 | F231: 평50
... A275: 성인부 | B275: 이나현 | C275: 수인지교 | D275: 1 | E275: 980712 | F275: 자50
A276: 성인부 | B276: 김정규.최환희.방현성.이경훈 | C276: 수인지교 | D276: 남자 | F276: 계200
A277: 성인부 | B277: 방현성.이경훈.최환희.김덕현 | C277: 수인지교 | D277: 남자 | F277: 혼계200
A278: 성인부 | B278: 조은순.최현아.신유정.안선하 | C278: 수인지교 | D278: 여자 | F278: 계200
A279: 성인부 | B279: 안선하.서현정.조은순.최현아 | C279: 수인지교 | D279: 여자 | F279: 혼계200
A280: 성인부 | B280: 방현성.이경훈.조은순.최현아 | C280: 수인지교 | D280: 성인 | F280: 혼성계200
A281: 성인부 | B281: 방현성.조은순.최환희.최현아 | C281: 수인지교 | D281: 성인 | F281: 혼성혼계200
A282: 성인부 | B282: 김승범.조명근.권가별.김덕현 | C282: 수인지교(번외) | D282: 남자 | F282: 계200
A283: 성인부 | B283: 마승원.조승희.최흥조.김정규 | C283: 수인지교(번외) | D283: 남자 | F283: 혼계200
A284: 성인부 | B284: 서현정.김동희.이나현.홍미영 | C284: 수인지교(번외) | D284: 여자 | F284: 계200
A285: 성인부 | B285: 이나현.김동희.신유정.홍미영 | C285: 수인지교(번외) | D285: 여자 | F285: 혼계200
A286: 성인부 | B286: 김덕현.김정규.신유정.안선하 | C286: 수인지교(번외) | D286: 성인 | F286: 혼성계200
A287: 성인부 | B287: 안선하.신유정.김정규.김덕현 | C287: 수인지교(번외) | D287: 성인 | F287: 혼성혼계200
A288: 성인부 | B288: 문여원 | C288: 수인지교 | D288: 3 | E288: 830313 | F288: 자50
A289: 성인부 | B289: 김수지 | C289: 수인지교 | D289: 3 | E289: 831114 | F289: 배50
A290: 성인부 | B290: 김수지 | C290: 수인지교 | D290: 3 | E290: 831114 | F290: 자50
A291: 성인부 | B291: 문상주 | C291: 수인지교 | D291: 4 | E291: 660715 | F291: 평50
A292: 성인부 | B292: 문상주 | C292: 수인지교 | D292: 4 | E292: 660715 | F292: 자50
A293: 성인부 | B293: 조경선 | C293: 수인지교 | D293: 3 | E293: 771007 | F293: 평50
A294: 성인부 | B294: 조경선 | C294: 수인지교 | D294: 3 | E294: 771007 | F294: 자50
A295: 성인부 | B295: 김송미 | C295: 수인지교 | D295: 4 | E295: 690324 | F295: 접50
A296: 성인부 | B296: 김송미 | C296: 수인지교 | D296: 4 | E296: 690324 | F296: 자50
A297: 성인부 | B297: 차기명 | C297: 수인지교 | D297: 4 | E297: 711117 | F297: 접50
A298: 성인부 | B298: 차기명 | C298: 수인지교 | D298: 4 | E298: 711117 | F298: 자50
...

Sheet 프로그램1일자 (예선)
A1: 101-1 남자유년부 자유형50m 예선
A2: 레인 | B2: 성명 | C2: 시군 | D2: 소속 | E2: 기록 | F2: 순위 | G2: 비고
A3: 1
A4: 2
A5: 3 | B5: 김규한 | C5: 장흥 | D5: 부산초2 | E5: 4201 | F5: =RANK(E5,$E$3:$E$21,$E$3:$E$21) -> 9
A6: 4 | B6: 전지욱 | C6: 화순 | D6: 화순오성초2 | E6: 4374 | F6: =RANK(E6,$E$3:$E$21,$E$3:$E$21) -> 10
A7: 5 | B7: 이훤 | C7: 영암 | D7: 영암초2 | E7: 4410 | F7: =RANK(E7,$E$3:$E$21,$E$3:$E$21) -> 11
A8: 6
A9: 7
A10: 8
A12: 101-2 남자유년부 자유형50m 예선
A13: 레인 | B13: 성명 | C13: 시군 | D13: 소속 | E13: 기록 | F13: 순위 | G13: 비고
A14: 1 | B14: 서현우 | C14: 화순 | D14: 화순오성초4 | E14: 3456 | F14: =RANK(E14,$E$3:$E$21,$E$3:$E$21) -> 5
A15: 2 | B15: 공태완 | C15: 해남 | D15: 해남동초3 | E15: 4150 | F15: =RANK(E15,$E$3:$E$21,$E$3:$E$21) -> 8
A16: 3 | B16: 권시온 | C16: 광양 | D16: 광양중마초3 | E16: 3384 | F16: =RANK(E16,$E$3:$E$21,$E$3:$E$21) -> 4
A17: 4 | B17: 이강윤 | C17: 장성 | D17: 사창초4 | E17: 3106 | F17: =RANK(E17,$E$3:$E$21,$E$3:$E$21) -> 1
A18: 5 | B18: 김서온 | C18: 여수 | D18: 여수한려초4 | E18: 3252 | F18: =RANK(E18,$E$3:$E$21,$E$3:$E$21) -> 2
A19: 6 | B19: 박준희 | C19: 영암 | D19: 영암초3 | E19: 3368 | F19: =RANK(E19,$E$3:$E$21,$E$3:$E$21) -> 3
A20: 7 | B20: 김정륜 | C20: 해남 | D20: 해남동초3 | E20: 3814 | F20: =RANK(E20,$E$3:$E$21,$E$3:$E$21) -> 6
A21: 8 | B21: 서은준 | C21: 여수 | D21: 여수한려초3 | E21: 3888 | F21: =RANK(E21,$E$3:$E$21,$E$3:$E$21) -> 7
A23: 102-1 여자유년부 자유형50m 예선
A24: 레인 | B24: 성명 | C24: 시군 | D24: 소속 | E24: 기록 | F24: 순위 | G24: 비고
A25: 1 | B25: 최하선 | C25: 강진 | D25: 강진중앙초4 | E25: 4198 | F25: =RANK(E25,$E$25:$E$43,$E$25:$E$43) -> 13
A26: 2 | B26: 김서연 | C26: 해남 | D26: 해남동초3
A27: 3 | B27: 박지안 | C27: 나주 | D27: 빛누리초2
A28: 4 | B28: 조아인 | C28: 목포 | D28: 목포영산초4 | E28: 3595 | F28: =RANK(E28,$E$25:$E$43,$E$25:$E$43) -> 7
A29: 5 | B29: 이지안 | C29: 영암 | D29: 영암초4 | E29: 3799 | F29: =RANK(E29,$E$25:$E$43,$E$25:$E$43) -> 10
A30: 6 | B30: 전솔지 | C30: 영암 | D30: 영암초4 | E30: 3804 | F30: =RANK(E30,$E$25:$E$43,$E$25:$E$43) -> 11
A31: 7 | B31: 이나경 | C31: 순천 | D31: 순천왕지초4 | E31: 3933 | F31: =RANK(E31,$E$25:$E$43,$E$25:$E$43) -> 12
A32: 8
A34: 102-2 여자유년부 자유형50m 예선
A35: 레인 | B35: 성명 | C35: 시군 | D35: 소속 | E35: 기록 | F35: 순위 | G35: 비고
A36: 1 | B36: 정유솔 | C36: 해남 | D36: 해남동초4 | E36: 3695 | F36: =RANK(E36,$E$25:$E$43,$E$25:$E$43) -> 9
A37: 2 | B37: 문가윤 | C37: 여수 | D37: 여수한려초3 | E37: 3433 | F37: =RANK(E37,$E$25:$E$43,$E$25:$E$43) -> 4
A38: 3 | B38: 임소은 | C38: 목포 | D38: 목포신흥초4 | E38: 3395 | F38: =RANK(E38,$E$25:$E$43,$E$25:$E$43) -> 3
A39: 4 | B39: 황채원 | C39: 장성 | D39: 사창초4 | E39: 3153 | F39: =RANK(E39,$E$25:$E$43,$E$25:$E$43) -> 1
A40: 5 | B40: 윤지수 | C40: 목포 | D40: 목포신흥초4 | E40: 3270 | F40: =RANK(E40,$E$25:$E$43,$E$25:$E$43) -> 2
A41: 6 | B41: 박주연 | C41: 광양 | D41: 광양중마초4 | E41: 3490 | F41: =RANK(E41,$E$25:$E$43,$E$25:$E$43) -> 6
A42: 7 | B42: 임서은 | C42: 여수 | D42: 여수한려초2 | E42: 3447 | F42: =RANK(E42,$E$25:$E$43,$E$25:$E$43) -> 5
A43: 8 | B43: 김아영 | C43: 광양 | D43: 광양중마초4 | E43: 3676 | F43: =RANK(E43,$E$25:$E$43,$E$25:$E$43) -> 8
A45: 103-1 남자유년부 접영50M 예선
A46: 레인 | B46: 성명 | C46: 시군 | D46: 소속 | E46: 기록 | F46: 순위 | G46: 비고
A47: 1
A48: 2
A49: 3
A50: 4 | B50: 전지욱 | C50: 화순 | D50: 화순오성초2 | E50: 5516 | F50: =RANK(E50,$E$47:$E$65,$E$47:$E$65) -> 9
A51: 5 | B51: 황성우 | C51: 장성 | D51: 사창초2 | E51: 4983 | F51: =RANK(E51,$E$47:$E$65,$E$47:$E$65) -> 7
A52: 6
A53: 7
A54: 8
A56: 103-2 남자유년부 접영50M 예선
A57: 레인 | B57: 성명 | C57: 시군 | D57: 소속 | E57: 기록 | F57: 순위 | G57: 비고
A58: 1 | B58: 유하루 | C58: 화순 | D58: 화순오성초2 | E58: 4672 | F58: =RANK(E58,$E$47:$E$65,$E$47:$E$65) -> 6
A59: 2 | B59: 신주한 | C59: 영암 | D59: 영암초3 | E59: 4547 | F59: =RANK(E59,$E$47:$E$65,$E$47:$E$65) -> 4
A60: 3 | B60: 서은준 | C60: 여수 | D60: 여수한려초3 | E60: 4562 | F60: =RANK(E60,$E$47:$E$65,$E$47:$E$65) -> 5
A61: 4 | B61: 김민재 | C61: 광양 | D61: 광양중마초3 | E61: 3410 | F61: =RANK(E61,$E$47:$E$65,$E$47:$E$65) -> 1
A62: 5 | B62: 이태윤 | C62: 장성 | D62: 사창초4 | E62: 3976 | F62: =RANK(E62,$E$47:$E$65,$E$47:$E$65) -> 2
A63: 6 | B63: 안시언 | C63: 여수 | D63: 여수한려초3 | E63: 4358 | F63: =RANK(E63,$E$47:$E$65,$E$47:$E$65) -> 3
A64: 7 | B64: 임태준 | C64: 해남 | D64: 해남동초3 | E64: 10604 | F64: =RANK(E64,$E$47:$E$65,$E$47:$E$65) -> 10
A65: 8 | B65: 김규한 | C65: 장흥 | D65: 부산초2 | E65: 5034 | F65: =RANK(E65,$E$47:$E$65,$E$47:$E$65) -> 8

Sheet 프로그램1일자(결승)
A1: 104 남자유년부 자유형50m 결승
A2: 레인 | B2: 성명 | C2: 시군 | D2: 소속 | E2: 기록 | F2: 순위 | G2: 비고
A3: 4 | B3: 이강윤 | C3: 장성 | D3: 사창초4 | E3: 3085 | F3: =RANK(E3,$E$3:$E$10,$E$3:$E$10) -> 1
A4: 5 | B4: 김서온 | C4: 여수 | D4: 여수한려초4 | E4: 3229 | F4: =RANK(E4,$E$3:$E$10,$E$3:$E$10) -> 2
A5: 3 | B5: 박준희 | C5: 영암 | D5: 영암초3 | E5: 3334 | F5: =RANK(E5,$E$3:$E$10,$E$3:$E$10) -> 3
A6: 6 | B6: 권시온 | C6: 광양 | D6: 광양중마초3 | E6: 3397 | F6: =RANK(E6,$E$3:$E$10,$E$3:$E$10) -> 4
A7: 2 | B7: 서현우 | C7: 화순 | D7: 화순오성초4 | E7: 3476 | F7: =RANK(E7,$E$3:$E$10,$E$3:$E$10) -> 5
A8: 7 | B8: 김정륜 | C8: 해남 | D8: 해남동초3 | E8: 3790 | F8: =RANK(E8,$E$3:$E$10,$E$3:$E$10) -> 6
A9: 1 | B9: 서은준 | C9: 여수 | D9: 여수한려초3 | E9: 3926 | F9: =RANK(E9,$E$3:$E$10,$E$3:$E$10) -> 7
A10: 8 | B10: 공태완 | C10: 해남 | D10: 해남동초3 | E10: 4128 | F10: =RANK(E10,$E$3:$E$10,$E$3:$E$10) -> 8
A12: 105 여자유년부 자유형50m 결승
A13: 레인 | B13: 성명 | C13: 시군 | D13: 소속 | E13: 기록 | F13: 순위 | G13: 비고
A14: 4 | B14: 황채원 | C14: 장성 | D14: 사창초4 | E14: 3138 | F14: =RANK(E14,$E$14:$E$21,$E$14:$E$21) -> 1
A15: 5 | B15: 윤지수 | C15: 목포 | D15: 목포신흥초4 | E15: 3246 | F15: =RANK(E15,$E$14:$E$21,$E$14:$E$21) -> 2
A16: 3 | B16: 임소은 | C16: 목포 | D16: 목포신흥초4 | E16: 3398 | F16: =RANK(E16,$E$14:$E$21,$E$14:$E$21) -> 3
A17: 6 | B17: 문가윤 | C17: 여수 | D17: 여수한려초3 | E17: 3428 | F17: =RANK(E17,$E$14:$E$21,$E$14:$E$21) -> 4
A18: 2 | B18: 임서은 | C18: 여수 | D18: 여수한려초2 | E18: 3453 | F18: =RANK(E18,$E$14:$E$21,$E$14:$E$21) -> 5
A19: 7 | B19: 박주연 | C19: 광양 | D19: 광양중마초4 | E19: 3520 | F19: =RANK(E19,$E$14:$E$21,$E$14:$E$21) -> 6
A20: 1 | B20: 조아인 | C20: 목포 | D20: 목포영산초4 | E20: 3613 | F20: =RANK(E20,$E$14:$E$21,$E$14:$E$21) -> 7
A21: 8 | B21: 김아영 | C21: 광양 | D21: 광양중마초4 | E21: 3685 | F21: =RANK(E21,$E$14:$E$21,$E$14:$E$21) -> 8
A23: 106 남자초등부 자유형50m 결승
A24: 레인 | B24: 성명 | C24: 시군 | D24: 소속 | E24: 기록 | F24: 순위 | G24: 비고
A25: 4 | B25: 이재원 | C25: 목포 | D25: 목포영산초6 | E25: 2990 | F25: =RANK(E25,$E$25:$E$32,$E$25:$E$32) -> 1
A26: 5 | B26: 박준영 | C26: 광양 | D26: 광양중마초5 | E26: 3077 | F26: =RANK(E26,$E$25:$E$32,$E$25:$E$32) -> 2
A27: 3 | B27: 이훤 | C27: 목포 | D27: 목포신흥초6 | E27: 3272 | F27: =RANK(E27,$E$25:$E$32,$E$25:$E$32) -> 3
A28: 2 | B28: 추서윤 | C28: 광양 | D28: 광양중마초5 | E28: 3362 | F28: =RANK(E28,$E$25:$E$32,$E$25:$E$32) -> 4
A29: 8 | B29: 유승우 | C29: 강진 | D29: 강진중앙초5 | E29: 3379 | F29: =RANK(E29,$E$25:$E$32,$E$25:$E$32) -> 5
A30: 7 | B30: 신준율 | C30: 햐남 | D30: 해남동초5 | E30: 3535 | F30: =RANK(E30,$E$25:$E$32,$E$25:$E$32) -> 6
A31: 1 | B31: 공태윤 | C31: 해남 | D31: 해남동초6 | E31: 3550 | F31: =RANK(E31,$E$25:$E$32,$E$25:$E$32) -> 7
A32: 6 | B32: 이클 | C32: 목포 | D32: 목포신흥초5 | E32: 4122 | F32: =RANK(E32,$E$25:$E$32,$E$25:$E$32) -> 8
A34: 107 여자초등부 자유형50m 결승
A35: 레인 | B35: 성명 | C35: 시군 | D35: 소속 | E35: 기록 | F35: 순위 | G35: 비고
A36: 4 | B36: 김루아 | C36: 여수 | D36: 여수한려초5 | E36: 2898 | F36: =RANK(E36,$E$36:$E$43,$E$36:$E$43) -> 1
A37: 5 | B37: 김나윤 | C37: 강진 | D37: 도암초5 | E37: 3787 | F37: =RANK(E37,$E$36:$E$43,$E$36:$E$43) -> 2
A38: 1
A39: 2
A40: 3
A41: 6
A42: 7
A43: 8
A45: 108 남자중등부 자유형50m 결승
A46: 레인 | B46: 성명 | C46: 시군 | D46: 소속 | E46: 기록 | F46: 순위 | G46: 비고
A47: 4 | B47: 박민재 | C47: 무안 | D47: 전남체육중2 | E47: 2452 | F47: =RANK(E47,$E$47:$E$54,$E$47:$E$54) -> 1
A48: 5 | B48: 백대영 | C48: 무안 | D48: 전남체육중2 | E48: 2633 | F48: =RANK(E48,$E$47:$E$54,$E$47:$E$54) -> 2
A49: 2 | B49: 탁윤재 | C49: 광영 | D49: 동광양중1 | E49: 2670 | F49: =RANK(E49,$E$47:$E$54,$E$47:$E$54) -> 3
A50: 6 | B50: 이문용 | C50: 여수 | D50: 여수문수중1 | E50: 3097 | F50: =RANK(E50,$E$47:$E$54,$E$47:$E$54) -> 4
A51: 3 | B51: 임가빈 | C51: 순천 | D51: 순천왕의중3 | E51: 3395 | F51: =RANK(E51,$E$47:$E$54,$E$47:$E$54) -> 5
A52: 1
A53: 7
A54: 8
A56: 109 여자중등부 자유형50m 결승
A57: 레인 | B57: 성명 | C57: 시군 | D57: 소속 | E57: 기록 | F57: 순위 | G57: 비고
A58: 4 | B58: 최아영 | C58: 무안 | D58: 전남체육중3 | E58: 2930 | F58: =RANK(E58,$E$58:$E$65,$E$58:$E$65) -> 1
A59: 5 | B59: 서하빈 | C59: 무안 | D59: 전남체육중1 | E59: 3001 | F59: =RANK(E59,$E$58:$E$65,$E$58:$E$65) -> 2
A60: 3 | B60: 김서현 | C60: 강진 | D60: 강진여중2 | E60: 3340 | F60: =RANK(E60,$E$58:$E$65,$E$58:$E$65) -> 3
A61: 6 | B61: 진예은 | C61: 순천 | D61: 순천왕의중1 | E61: 4296 | F61: =RANK(E61,$E$58:$E$65,$E$58:$E$65) -> 4
A62: 1
A63: 2
A64: 7
A65: 8
A67: 110 남자중등부 자유형800m 결승
A68: 레인 | B68: 성명 | C68: 시군 | D68: 소속 | E68: 기록 | F68: 순위 | G68: 비고
A69: 3 | B69: 문정우 | C69: 여수 | D69: 여수문수중3 | E69: 84653 | F69: =RANK(E69,$E$69:$E$76,$E$69:$E$76) -> 1
A70: 5 | B70: 김민규 | C70: 무안 | D70: 전남체육중1 | E70: 91904 | F70: =RANK(E70,$E$69:$E$76,$E$69:$E$76) -> 2
A71: 2 | B71: 조윤호 | C71: 무안 | D71: 전남체육중2 | E71: 100737 | F71: =RANK(E71,$E$69:$E$76,$E$69:$E$76) -> 3
A72: 4 | B72: 이수혁 | C72: 여수 | D72: 여수문수중1 | E72: 101029 | F72: =RANK(E72,$E$69:$E$76,$E$69:$E$76) -> 4
A73: 1
A74: 6
A75: 7
A76: 8
A78: 111 여자중등부 자유형800m 결승
A79: 레인 | B79: 성명 | C79: 시군 | D79: 소속 | E79: 기록 | F79: 순위 | G79: 비고
A80: 6 | B80: 고태희 | C80: 여수 | D80: 여수문수중3 | E80: 102702 | F80: =RANK(E80,$E$80:$E$87,$E$80:$E$87) -> 1
A81: 7 | B81: 조서연 | C81: 광양 | D81: 동광양중2 | E81: 104387 | F81: =RANK(E81,$E$80:$E$87,$E$80:$E$87) -> 2
A82: 1
A83: 2
A84: 3
A85: 4
A86: 5
A87: 8
A89: 112 남자 유년부 접영50M 결승
A90: 레인 | B90: 성명 | C90: 시군 | D90: 소속 | E90: 기록 | F90: 순위 | G90: 비고
A91: 4 | B91: 김민재 | C91: 광양 | D91: 광양중마초3 | E91: 3437 | F91: =RANK(E91,$E$91:$E$98,$E$91:$E$98) -> 1
A92: 5 | B92: 이태윤 | C92: 장성 | D92: 사창초4 | E92: 3882 | F92: =RANK(E92,$E$91:$E$98,$E$91:$E$98) -> 2
A93: 6 | B93: 신주한 | C93: 영암 | D93: 영암초3 | E93: 4539 | F93: =RANK(E93,$E$91:$E$98,$E$91:$E$98) -> 3
A94: 3 | B94: 안시언 | C94: 여수 | D94: 여수한려초3 | E94: 4589 | F94: =RANK(E94,$E$91:$E$98,$E$91:$E$98) -> 4
A95: 7 | B95: 유하루 | C95: 화순 | D95: 화순오성초2 | E95: 4687 | F95: =RANK(E95,$E$91:$E$98,$E$91:$E$98) -> 5
A96: 2 | B96: 서은준 | C96: 여수 | D96: 여수한려초3 | E96: 4914 | F96: =RANK(E96,$E$91:$E$98,$E$91:$E$98) -> 6
A97: 1 | B97: 황성우 | C97: 장성 | D97: 사창초2 | E97: 5032 | F97: =RANK(E97,$E$91:$E$98,$E$91:$E$98) -> 7
A98: 8 | B98: 전지욱 | C98: 화순 | D98: 화순오성초2 | E98: 5474 | F98: =RANK(E98,$E$91:$E$98,$E$91:$E$98) -> 8
A100: 113 여자 유년부 접영50M 결승
A101: 레인 | B101: 성명 | C101: 시군 | D101: 소속 | E101: 기록 | F101: 순위 | G101: 비고
A102: 3 | B102: 여현아 | C102: 여수 | D102: 여수한려초3 | E102: 3439 | F102: =RANK(E102,$E$102:$E$109,$E$102:$E$109) -> 1
A103: 5 | B103: 황채원 | C103: 장성 | D103: 사창초4 | E103: 3571 | F103: =RANK(E103,$E$102:$E$109,$E$102:$E$109) -> 2
A104: 6 | B104: 임소은 | C104: 목포 | D104: 목포신흥초4 | E104: 3658 | F104: =RANK(E104,$E$102:$E$109,$E$102:$E$109) -> 3
A105: 2 | B105: 하수빈 | C105: 여수 | D105: 여수한려초4 | E105: 3866 | F105: =RANK(E105,$E$102:$E$109,$E$102:$E$109) -> 4
A106: 4 | B106: 박주연 | C106: 광양 | D106: 광양중마초4 | E106: 3912 | F106: =RANK(E106,$E$102:$E$109,$E$102:$E$109) -> 5
A107: 7 | B107: 위예온 | C107: 광양 | D107: 광양중마초2 | E107: 4706 | F107: =RANK(E107,$E$102:$E$109,$E$102:$E$109) -> 6
A108: 1
A109: 8
...

Sheet 프로그램2일자 (예선)
A1: 201-1 남자유년부 배영50m 예선
A2: 레인 | B2: 성명 | C2: 시군 | D2: 소속 | E2: 기록 | F2: 순위 | G2: 비고
A3: 4 | B3: 유하루 | C3: 화순 | D3: 화순오성초2 | E3: 4496 | F3: =RANK(E3,$E$3:$E$21,$E$3:$E$21) -> 5
A4: 6 | B4: 신주한 | C4: 영암 | D4: 영암초3 | E4: 5210 | F4: =RANK(E4,$E$3:$E$21,$E$3:$E$21) -> 7
A5: 3 | B5: 최정현 | C5: 여수 | D5: 여수한려초1 | E5: 10266 | F5: =RANK(E5,$E$3:$E$21,$E$3:$E$21) -> 8
A6: 5 | B6: 고율 | C6: 해남 | D6: 해남동초3 | E6: 10987 | F6: =RANK(E6,$E$3:$E$21,$E$3:$E$21) -> 9
A7: 1
A8: 2
A9: 7
A10: 8
A12: 201-2 남자유년부 배영50m 예선
A13: 레인 | B13: 성명 | C13: 시군 | D13: 소속 | E13: 기록 | F13: 순위 | G13: 비고
A14: 1
A15: 2 | B15: 김정륜 | C15: 해남 | D15: 해남동초3 | E15: 4747 | F15: =RANK(E15,$E$3:$E$21,$E$3:$E$21) -> 6
A16: 3 | B16: 이태윤 | C16: 장성 | D16: 사창초4 | E16: 3895 | F16: =RANK(E16,$E$3:$E$21,$E$3:$E$21) -> 3
A17: 4 | B17: 박준희 | C17: 영암 | D17: 영암초3 | E17: 3797 | F17: =RANK(E17,$E$3:$E$21,$E$3:$E$21) -> 2
A18: 5 | B18: 김서온 | C18: 여수 | D18: 여수한려초4 | E18: 3722 | F18: =RANK(E18,$E$3:$E$21,$E$3:$E$21) -> 1
A19: 6 | B19: 염도진 | C19: 화순 | D19: 화순오송초4 | E19: 4050 | F19: =RANK(E19,$E$3:$E$21,$E$3:$E$21) -> 4
A20: 7
A21: 8
A23: 202-1 여자유년부 배영50m 예선
A24: 레인 | B24: 성명 | D24: 소속 | E24: 기록 | F24: 순위 | G24: 비고
A25: 1
A26: 2
A27: 3 | B27: 이나경 | C27: 순천 | D27: 순천왕지초4 | F27: =RANK(E27,$E$25:$E$43,$E$25:$E$43) -> #N/A | G27: DQ
A28: 4 | B28: 전솔지 | C28: 영암 | D28: 영암초4 | E28: 4332 | F28: =RANK(E28,$E$25:$E$43,$E$25:$E$43) -> 6
A29: 5 | B29: 여현아 | C29: 여수 | D29: 여수한려초3 | E29: 4150 | F29: =RANK(E29,$E$25:$E$43,$E$25:$E$43) -> 4
A30: 6 | B30: 김서연 | C30: 해남 | D30: 해남동초3
A31: 7
A32: 8
A34: 202-2 여자유년부 배영50m 예선
A35: 레인 | B35: 성명 | D35: 소속 | E35: 기록 | F35: 순위 | G35: 비고
A36: 1
A37: 2 | B37: 김아영 | C37: 광양 | D37: 광양중마초4 | E37: 4400 | F37: =RANK(E37,$E$25:$E$43,$E$25:$E$43) -> 7
A38: 3 | B38: 정유솔 | C38: 해남 | D38: 해남동초4 | E38: 4077 | F38: =RANK(E38,$E$25:$E$43,$E$25:$E$43) -> 3
A39: 4 | B39: 윤지수 | C39: 목포 | D39: 목포신흥초4 | E39: 3711 | F39: =RANK(E39,$E$25:$E$43,$E$25:$E$43) -> 1
A40: 5 | B40: 조아인 | C40: 무안 | D40: 오룡초4 | E40: 4281 | F40: =RANK(E40,$E$25:$E$43,$E$25:$E$43) -> 5
A41: 6 | B41: 하수빈 | C41: 여수 | D41: 여수한려초4 | E41: 4500 | F41: =RANK(E41,$E$25:$E$43,$E$25:$E$43) -> 8
A42: 7 | B42: 권아리 | C42: 광양 | D42: 광양중마초4 | E42: 3978 | F42: =RANK(E42,$E$25:$E$43,$E$25:$E$43) -> 2
A43: 8
A45: 203-1 남자유년부 평영50M 예선
A46: 레인 | B46: 성명 | D46: 소속 | E46: 기록 | F46: 순위 | G46: 비고
A47: 1
A48: 2 | B48: 안시언 | C48: 여수 | D48: 여수한려초3 | E48: 5400 | F48: =RANK(E48,$E$47:$E$65,$E$47:$E$65) -> 8
A49: 3 | B49: 공태완 | C49: 해남 | D49: 해남동초3 | E49: 4879 | F49: =RANK(E49,$E$47:$E$65,$E$47:$E$65) -> 6
A50: 4 | B50: 김민재 | C50: 광양 | D50: 광양중마초3 | E50: 4405 | F50: =RANK(E50,$E$47:$E$65,$E$47:$E$65) -> 3
A51: 5 | B51: 권시온 | C51: 광양 | D51: 광양중마초3 | E51: 4410 | F51: =RANK(E51,$E$47:$E$65,$E$47:$E$65) -> 4
A52: 6 | B52: 고해준 | C52: 해남 | D52: 해남동초3 | E52: 5825 | F52: =RANK(E52,$E$47:$E$65,$E$47:$E$65) -> 9
A53: 7
A54: 8
A56: 203-2 남자유년부 평영50M 예선
A57: 레인 | B57: 성명 | D57: 소속 | E57: 기록 | F57: 순위 | G57: 비고
A58: 1
A59: 2 | B59: 황성우 | C59: 장성 | D59: 사창초 | E59: 10016 | F59: =RANK(E59,$E$47:$E$65,$E$47:$E$65) -> 10
A60: 3 | B60: 전율 | C60: 화순 | D60: 화순오성초3 | E60: 4569 | F60: =RANK(E60,$E$47:$E$65,$E$47:$E$65) -> 5
A61: 4 | B61: 박서형 | C61: 화순 | D61: 화순오성초4 | E61: 4213 | F61: =RANK(E61,$E$47:$E$65,$E$47:$E$65) -> 1
A62: 5 | B62: 이강윤 | C62: 장성 | D62: 사창초4 | E62: 4294 | F62: =RANK(E62,$E$47:$E$65,$E$47:$E$65) -> 2
A63: 6 | B63: 이훤 | C63: 영암 | D63: 영암초2 | E63: 4968 | F63: =RANK(E63,$E$47:$E$65,$E$47:$E$65) -> 7
A64: 7 | B64: 최정현 | C64: 여수 | D64: 여수한려초1 | E64: 11478 | F64: =RANK(E64,$E$47:$E$65,$E$47:$E$65) -> 11
A65: 8

Sheet 프로그램2일자(결승)
A1: 204 남자중등부 자유형400m 결승
A2: 레인 | B2: 성명 | C2: 시군 | D2: 소속 | E2: 기록 | F2: 순위 | G2: 비고
A3: 3 | B3: 문정우 | C3: 여수 | D3: 여수문수중3 | E3: 42022 | F3: =RANK(E3,$E$3:$E$10,$E$3:$E$10) -> 1
A4: 5 | B4: 김민규 | C4: 무안 | D4: 전남체육중1 | E4: 43001 | F4: =RANK(E4,$E$3:$E$10,$E$3:$E$10) -> 2
A5: 4 | B5: 김연우 | C5: 무안 | D5: 전남체육중3 | E5: 44166 | F5: =RANK(E5,$E$3:$E$10,$E$3:$E$10) -> 3
A6: 6 | B6: 이수혁 | C6: 여수 | D6: 여수문수중1 | E6: 45598 | F6: =RANK(E6,$E$3:$E$10,$E$3:$E$10) -> 4
A7: 2 | B7: 김태현 | C7: 순천 | D7: 순천왕의중2 | E7: 51188 | F7: =RANK(E7,$E$3:$E$10,$E$3:$E$10) -> 5
A8: 1
A9: 7
A10: 8
A12: 205 여자중등부 자유형400m 결승
A13: 레인 | B13: 성명 | C13: 시군 | D13: 소속 | E13: 기록 | F13: 순위 | G13: 비고
A14: 6 | B14: 고태희 | C14: 여수 | D14: 여수문수중3 | E14: 50588 | F14: =RANK(E14,$E$14:$E$21,$E$14:$E$21) -> 1
A15: 7 | B15: 조서연 | C15: 광양 | D15: 동광양중2 | E15: 51259 | F15: =RANK(E15,$E$14:$E$21,$E$14:$E$21) -> 2
A16: 1
A17: 2
A18: 3
A19: 4
A20: 5
A21: 8
A22: 206 남자유년부 배영50m 결승
A23: 레인 | B23: 성명 | D23: 소속 | E23: 기록 | F23: 순위 | G23: 비고
A24: 4 | B24: 김서온 | C24: 여수 | D24: 여수한려초4 | E24: 3643 | F24: =RANK(E24,$E$24:$E$32,$E$24:$E$32) -> 1
A25: 5 | B25: 박준희 | C25: 영암 | D25: 영암초3 | E25: 3737 | F25: =RANK(E25,$E$24:$E$32,$E$24:$E$32) -> 2
A26: 3 | B26: 이태윤 | C26: 장성 | D26: 사창초4 | E26: 3848 | F26: =RANK(E26,$E$24:$E$32,$E$24:$E$32) -> 3
A27: 6 | B27: 염도진 | C27: 화순 | D27: 화순오송초4 | E27: 4064 | F27: =RANK(E27,$E$24:$E$32,$E$24:$E$32) -> 4
A28: 2 | B28: 유하루 | C28: 화순 | D28: 화순오성초2 | E28: 4581 | F28: =RANK(E28,$E$24:$E$32,$E$24:$E$32) -> 5
A29: 7 | B29: 김정륜 | C29: 해남 | D29: 해남동초3 | E29: 4594 | F29: =RANK(E29,$E$24:$E$32,$E$24:$E$32) -> 6
A30: 1 | B30: 신주한 | C30: 영암 | D30: 영암초3 | E30: 5206 | F30: =RANK(E30,$E$24:$E$32,$E$24:$E$32) -> 7
A31: 8 | B31: 최정현 | C31: 여수 | D31: 여수한려초1 | E31: 10272 | F31: =RANK(E31,$E$24:$E$32,$E$24:$E$32) -> 8
A33: 207 여자유년부 배영50m 결승
A34: 레인 | B34: 성명 | D34: 소속 | E34: 기록 | F34: 순위 | G34: 비고
A35: 4 | B35: 윤지수 | C35: 목포 | D35: 목포신흥초4 | E35: 3675 | F35: =RANK(E35,$E$35:$E$42,$E$35:$E$42) -> 1
A36: 5 | B36: 정유솔 | C36: 해남 | D36: 해남동초4 | E36: 3950 | F36: =RANK(E36,$E$35:$E$42,$E$35:$E$42) -> 2
A37: 6 | B37: 조아인 | C37: 무안 | D37: 오룡초4 | E37: 4131 | F37: =RANK(E37,$E$35:$E$42,$E$35:$E$42) -> 3
A38: 3 | B38: 여현아 | C38: 여수 | D38: 여수한려초3 | E38: 4198 | F38: =RANK(E38,$E$35:$E$42,$E$35:$E$42) -> 4
A39: 7 | B39: 하수빈 | C39: 여수 | D39: 여수한려초4 | E39: 4326 | F39: =RANK(E39,$E$35:$E$42,$E$35:$E$42) -> 5
A40: 1 | B40: 김아영 | C40: 광양 | D40: 광양중마초4 | E40: 4431 | F40: =RANK(E40,$E$35:$E$42,$E$35:$E$42) -> 6
A41: 2 | B41: 전솔지 | C41: 영암 | D41: 영암초4 | E41: 4440 | F41: =RANK(E41,$E$35:$E$42,$E$35:$E$42) -> 7
A42: 8
A44: 208 남자초등부 배영50m 결승
A45: 레인 | B45: 성명 | D45: 소속 | E45: 기록 | F45: 순위 | G45: 비고
A46: 3 | B46: 한명한 | C46: 화순 | D46: 화순오성초5 | E46: 3356 | F46: =RANK(E46,$E$46:$E$53,$E$46:$E$53) -> 1
A47: 4 | B47: 박건우 | C47: 영암 | D47: 영암초5 | E47: 3370 | F47: =RANK(E47,$E$46:$E$53,$E$46:$E$53) -> 2
A48: 2 | B48: 고병호 | C48: 화순 | D48: 화순오성초5 | E48: 3510 | F48: =RANK(E48,$E$46:$E$53,$E$46:$E$53) -> 3
A49: 5 | B49: 이주원 | C49: 광양 | D49: 광양중마초5 | E49: 3736 | F49: =RANK(E49,$E$46:$E$53,$E$46:$E$53) -> 4
A50: 1
A51: 6
A52: 7
A53: 8
A55: 209 여자초등부 배영50m 결승
A56: 레인 | B56: 성명 | D56: 소속 | E56: 기록 | F56: 순위 | G56: 비고
A57: 6 | B57: 최지원 | C57: 영암 | D57: 영암초6 | E57: 3254 | F57: =RANK(E57,$E$57:$E$64,$E$57:$E$64) -> 1
A58: 7 | B58: 위예아 | C58: 광양 | D58: 광양중마초5 | E58: 3749 | F58: =RANK(E58,$E$57:$E$64,$E$57:$E$64) -> 2
A59: 1
A60: 2
A61: 3
A62: 4
A63: 5
A64: 8
A66: 210 남자중등부 배영50m 결승
A67: 레인 | B67: 성명 | C67: 시군 | D67: 소속 | E67: 기록 | F67: 순위 | G67: 비고
A68: 3 | B68: 문강우 | C68: 영암 | D68: 영암중3 | E68: 2812 | F68: =RANK(E68,$E$68:$E$75,$E$68:$E$75) -> 1
A69: 4 | B69: 장윤 | C69: 영암 | D69: 영암중2 | E69: 2913 | F69: =RANK(E69,$E$68:$E$75,$E$68:$E$75) -> 2
A70: 2 | B70: 유하진 | C70: 무안 | D70: 전남체육중2 | E70: 3327 | F70: =RANK(E70,$E$68:$E$75,$E$68:$E$75) -> 3
A71: 5 | B71: 권다온 | C71: 무안 | D71: 전남체육중1 | E71: 3499 | F71: =RANK(E71,$E$68:$E$75,$E$68:$E$75) -> 4
A72: 1
A73: 6
A74: 7
A75: 8
A77: 211 여자중등부 배영50m 결승
A78: 레인 | B78: 성명 | C78: 시군 | D78: 소속 | E78: 기록 | F78: 순위 | G78: 비고
A79: 7 | B79: 이아랑 | C79: 영암 | D79: 영암여중3 | E79: 3169 | F79: =RANK(E79,$E$79:$E$86,$E$79:$E$86) -> 1
A80: 8 | B80: 권누리 | C80: 무안 | D80: 전남체육중2 | E80: 3572 | F80: =RANK(E80,$E$79:$E$86,$E$79:$E$86) -> 2
A81: 6 | B81: 진예은 | C81: 순천 | D81: 순천왕의중1 | E81: 4826 | F81: =RANK(E81,$E$79:$E$86,$E$79:$E$86) -> 3
A82: 1
A83: 2
A84: 3
A85: 4
A86: 5
A88: 212 남자 유년부 평영50M 결승
A89: 레인 | B89: 성명 | C89: 시군 | D89: 소속 | E89: 기록 | F89: 순위 | G89: 비고
A90: 4 | B90: 박서형 | C90: 화순 | D90: 화순오성초4 | E90: 4085 | F90: =RANK(E90,$E$90:$E$97,$E$90:$E$97) -> 1
A91: 5 | B91: 이강윤 | C91: 장성 | D91: 사창초4 | E91: 4247 | F91: =RANK(E91,$E$90:$E$97,$E$90:$E$97) -> 2
A92: 2 | B92: 전율 | C92: 화순 | D92: 화순오성초3 | E92: 4377 | F92: =RANK(E92,$E$90:$E$97,$E$90:$E$97) -> 3
A93: 3 | B93: 김민재 | C93: 광양 | D93: 광양중마초3 | E93: 4477 | F93: =RANK(E93,$E$90:$E$97,$E$90:$E$97) -> 4
A94: 6 | B94: 권시온 | C94: 광양 | D94: 광양중마초3 | E94: 4530 | F94: =RANK(E94,$E$90:$E$97,$E$90:$E$97) -> 5
A95: 1 | B95: 이훤 | C95: 영암 | D95: 영암초2 | E95: 4934 | F95: =RANK(E95,$E$90:$E$97,$E$90:$E$97) -> 6
A96: 7 | B96: 공태완 | C96: 해남 | D96: 해남동초3 | E96: 4955 | F96: =RANK(E96,$E$90:$E$97,$E$90:$E$97) -> 7
A97: 8 | B97: 안시언 | C97: 여수 | D97: 여수한려초3 | E97: 5411 | F97: =RANK(E97,$E$90:$E$97,$E$90:$E$97) -> 8
A99: 213 여자 유년부 평영50M 결승
A100: 레인 | B100: 성명 | C100: 시군 | D100: 소속 | E100: 기록 | F100: 순위 | G100: 비고
A101: 4 | B101: 권아리 | C101: 광양 | D101: 광양중마초4 | E101: 4021 | F101: =RANK(E101,$E$101:$E$108,$E$101:$E$108) -> 1
A102: 5 | B102: 하연재 | C102: 목포 | D102: 목포영산초4 | E102: 4090 | F102: =RANK(E102,$E$101:$E$108,$E$101:$E$108) -> 2
A103: 3 | B103: 이지안 | C103: 영암 | D103: 영암초4 | E103: 4331 | F103: =RANK(E103,$E$101:$E$108,$E$101:$E$108) -> 3
A104: 2 | B104: 최하선 | C104: 강진 | D104: 강진중앙초4 | E104: 5640 | F104: =RANK(E104,$E$101:$E$108,$E$101:$E$108) -> 4
A105: 1 | B105: 정로하 | C105: 여수 | D105: 여수한려초1 | E105: 5686 | F105: =RANK(E105,$E$101:$E$108,$E$101:$E$108) -> 5
A106: 7 | B106: 송은송 | C106: 여수 | D106: 여수한려초2 | E106: 10149 | F106: =RANK(E106,$E$101:$E$108,$E$101:$E$108) -> 6
A107: 6 | B107: 위예온 | C107: 광양 | D107: 광양중마초2 | E107: 10261 | F107: =RANK(E107,$E$101:$E$108,$E$101:$E$108) -> 7
A108: 8
...

Sheet 입상자명단
A1: 2026 제55회 전국소년체전 전남선발전 입상자 명단
A2: ▣ 종목(수영-초등부)
A3: 연번 | B3: 종별 | C3: 세부종목 / 거리 | D3: 입상 등위 | E3: 선수명 | F3: 소속 | G3: 기록
A4: 1 | B4: 남유 | C4: 자유형50M | D4: 1 | E4: ='프로그램1일자(결승)'!B3 -> 이강윤 | F4: ='프로그램1일자(결승)'!D3 -> 사창초4 | G4: ='프로그램1일자(결승)'!E3 -> 3085
A5: 2 | B5: 남유 | C5: 자유형50M | D5: 2 | E5: ='프로그램1일자(결승)'!B4 -> 김서온 | F5: ='프로그램1일자(결승)'!D4 -> 여수한려초4 | G5: ='프로그램1일자(결승)'!E4 -> 3229
A6: 3 | B6: 남유 | C6: 자유형50M | D6: 3 | E6: ='프로그램1일자(결승)'!B5 -> 박준희 | F6: ='프로그램1일자(결승)'!D5 -> 영암초3 | G6: ='프로그램1일자(결승)'!E5 -> 3334
A7: 4 | B7: 여유 | C7: 자유형50M | D7: 1 | E7: ='프로그램1일자(결승)'!B14 -> 황채원 | F7: ='프로그램1일자(결승)'!D14 -> 사창초4 | G7: ='프로그램1일자(결승)'!E14 -> 3138
A8: 5 | B8: 여유 | C8: 자유형50M | D8: 2 | E8: ='프로그램1일자(결승)'!B15 -> 윤지수 | F8: ='프로그램1일자(결승)'!D15 -> 목포신흥초4 | G8: ='프로그램1일자(결승)'!E15 -> 3246
A9: 6 | B9: 여유 | C9: 자유형50M | D9: 3 | E9: ='프로그램1일자(결승)'!B16 -> 임소은 | F9: ='프로그램1일자(결승)'!D16 -> 목포신흥초4 | G9: ='프로그램1일자(결승)'!E16 -> 3398
A10: 7 | B10: 남초 | C10: 자유형50M | D10: 1 | E10: ='프로그램1일자(결승)'!B25 -> 이재원 | F10: ='프로그램1일자(결승)'!D25 -> 목포영산초6 | G10: ='프로그램1일자(결승)'!E25 -> 2990
A11: 8 | B11: 남초 | C11: 자유형50M | D11: 2 | E11: ='프로그램1일자(결승)'!B26 -> 박준영 | F11: ='프로그램1일자(결승)'!D26 -> 광양중마초5 | G11: ='프로그램1일자(결승)'!E26 -> 3077
A12: 9 | B12: 남초 | C12: 자유형50M | D12: 3 | E12: ='프로그램1일자(결승)'!B27 -> 이훤 | F12: ='프로그램1일자(결승)'!D27 -> 목포신흥초6 | G12: ='프로그램1일자(결승)'!E27 -> 3272
A13: 10 | B13: 여초 | C13: 자유형50M | D13: 1 | E13: ='프로그램1일자(결승)'!B36 -> 김루아 | F13: ='프로그램1일자(결승)'!D36 -> 여수한려초5 | G13: ='프로그램1일자(결승)'!E36 -> 2898
A14: 11 | B14: 여초 | C14: 자유형50M | D14: 2 | E14: ='프로그램1일자(결승)'!B37 -> 김나윤 | F14: ='프로그램1일자(결승)'!D37 -> 도암초5 | G14: ='프로그램1일자(결승)'!E37 -> 3787
A15: 13 | B15: 남중 | C15: 자유형50M | D15: 1 | E15: ='프로그램1일자(결승)'!B47 -> 박민재 | F15: ='프로그램1일자(결승)'!D47 -> 전남체육중2 | G15: ='프로그램1일자(결승)'!E47 -> 2452
A16: 14 | B16: 남중 | C16: 자유형50M | D16: 2 | E16: ='프로그램1일자(결승)'!B48 -> 백대영 | F16: ='프로그램1일자(결승)'!D48 -> 전남체육중2 | G16: ='프로그램1일자(결승)'!E48 -> 2633
A17: 15 | B17: 남중 | C17: 자유형50M | D17: 3 | E17: ='프로그램1일자(결승)'!B49 -> 탁윤재 | F17: ='프로그램1일자(결승)'!D49 -> 동광양중1 | G17: ='프로그램1일자(결승)'!E49 -> 2670
A18: 16 | B18: 여중 | C18: 자유형50M | D18: 1 | E18: ='프로그램1일자(결승)'!B58 -> 최아영 | F18: ='프로그램1일자(결승)'!D58 -> 전남체육중3 | G18: ='프로그램1일자(결승)'!E58 -> 2930
A19: 17 | B19: 여중 | C19: 자유형50M | D19: 2 | E19: ='프로그램1일자(결승)'!B59 -> 서하빈 | F19: ='프로그램1일자(결승)'!D59 -> 전남체육중1 | G19: ='프로그램1일자(결승)'!E59 -> 3001
A20: 18 | B20: 여중 | C20: 자유형50M | D20: 3 | E20: ='프로그램1일자(결승)'!B60 -> 김서현 | F20: ='프로그램1일자(결승)'!D60 -> 강진여중2 | G20: ='프로그램1일자(결승)'!E60 -> 3340
A21: 19 | B21: 남중 | C21: 자유형800M | D21: 1 | E21: ='프로그램1일자(결승)'!B69 -> 문정우 | F21: ='프로그램1일자(결승)'!D69 -> 여수문수중3 | G21: ='프로그램1일자(결승)'!E69 -> 84653
A22: 20 | B22: 남중 | C22: 자유형800M | D22: 2 | E22: ='프로그램1일자(결승)'!B70 -> 김민규 | F22: ='프로그램1일자(결승)'!D70 -> 전남체육중1 | G22: ='프로그램1일자(결승)'!E70 -> 91904
A23: 21 | B23: 남중 | C23: 자유형800M | D23: 3 | E23: ='프로그램1일자(결승)'!B71 -> 조윤호 | F23: ='프로그램1일자(결승)'!D71 -> 전남체육중2 | G23: ='프로그램1일자(결승)'!E71 -> 100737
A24: 22 | B24: 여중 | C24: 자유형800M | D24: 1 | E24: ='프로그램1일자(결승)'!B80 -> 고태희 | F24: ='프로그램1일자(결승)'!D80 -> 여수문수중3 | G24: ='프로그램1일자(결승)'!E80 -> 102702
A25: 23 | B25: 여중 | C25: 자유형800M | D25: 2 | E25: ='프로그램1일자(결승)'!B81 -> 조서연 | F25: ='프로그램1일자(결승)'!D81 -> 동광양중2 | G25: ='프로그램1일자(결승)'!E81 -> 104387
A26: 24 | B26: 남유 | C26: 접영50M | D26: 1 | E26: ='프로그램1일자(결승)'!B91 -> 김민재 | F26: ='프로그램1일자(결승)'!D91 -> 광양중마초3 | G26: ='프로그램1일자(결승)'!E91 -> 3437
A27: 25 | B27: 남유 | C27: 접영50M | D27: 2 | E27: ='프로그램1일자(결승)'!B92 -> 이태윤 | F27: ='프로그램1일자(결승)'!D92 -> 사창초4 | G27: ='프로그램1일자(결승)'!E92 -> 3882
A28: 26 | B28: 남유 | C28: 접영50M | D28: 3 | E28: ='프로그램1일자(결승)'!B93 -> 신주한 | F28: ='프로그램1일자(결승)'!D93 -> 영암초3 | G28: ='프로그램1일자(결승)'!E93 -> 4539
A29: 27 | B29: 여유 | C29: 접영50M | D29: 1 | E29: ='프로그램1일자(결승)'!B102 -> 여현아 | F29: ='프로그램1일자(결승)'!D102 -> 여수한려초3 | G29: ='프로그램1일자(결승)'!E102 -> 3439
A30: 28 | B30: 여유 | C30: 접영50M | D30: 2 | E30: ='프로그램1일자(결승)'!B103 -> 황채원 | F30: ='프로그램1일자(결승)'!D103 -> 사창초4 | G30: ='프로그램1일자(결승)'!E103 -> 3571
A31: 29 | B31: 여유 | C31: 접영50M | D31: 3 | E31: ='프로그램1일자(결승)'!B104 -> 임소은 | F31: ='프로그램1일자(결승)'!D104 -> 목포신흥초4 | G31: ='프로그램1일자(결승)'!E104 -> 3658
A32: 30 | B32: 남초 | C32: 접영50M | D32: 1 | E32: ='프로그램1일자(결승)'!B113 -> 이재원 | F32: ='프로그램1일자(결승)'!D113 -> 목포영산초6 | G32: ='프로그램1일자(결승)'!E113 -> 3022
A33: 31 | B33: 남초 | C33: 접영50M | D33: 2 | E33: ='프로그램1일자(결승)'!B114 -> 탁윤건 | F33: ='프로그램1일자(결승)'!D114 -> 광양중마초5 | G33: ='프로그램1일자(결승)'!E114 -> 3082
A34: 32 | B34: 남초 | C34: 접영50M | D34: 3 | E34: ='프로그램1일자(결승)'!B115 -> 고건호 | F34: ='프로그램1일자(결승)'!D115 -> 화순오성초5 | G34: ='프로그램1일자(결승)'!E115 -> 3296
A35: 33 | B35: 여초 | C35: 접영50M | D35: 1 | E35: ='프로그램1일자(결승)'!B124 -> 이승은 | F35: ='프로그램1일자(결승)'!D124 -> 목포영산초5 | G35: ='프로그램1일자(결승)'!E124 -> 3395
A36: 34 | B36: 여초 | C36: 접영50M | D36: 2 | E36: ='프로그램1일자(결승)'!B125 -> 장서아 | F36: ='프로그램1일자(결승)'!D125 -> 해남동초6 | G36: ='프로그램1일자(결승)'!E125 -> 3498
A37: 35 | B37: 남중 | C37: 접영50M | D37: 1 | E37: ='프로그램1일자(결승)'!B135 -> 박민재 | F37: ='프로그램1일자(결승)'!D135 -> 전남체육중2 | G37: ='프로그램1일자(결승)'!E135 -> 2652
A38: 36 | B38: 남중 | C38: 접영50M | D38: 2 | E38: ='프로그램1일자(결승)'!B136 -> 김석호 | F38: ='프로그램1일자(결승)'!D136 -> 여수문수중2 | G38: ='프로그램1일자(결승)'!E136 -> 2755
A39: 37 | B39: 남중 | C39: 접영50M | D39: 3 | E39: ='프로그램1일자(결승)'!B137 -> 안효준 | F39: ='프로그램1일자(결승)'!D137 -> 전남체육중2 | G39: ='프로그램1일자(결승)'!E137 -> 2773
A40: 38 | B40: 여중 | C40: 접영50M | D40: 1 | E40: ='프로그램1일자(결승)'!B146 -> 서하빈 | F40: ='프로그램1일자(결승)'!D146 -> 전남체육중1 | G40: ='프로그램1일자(결승)'!E146 -> 3158
A41: 39 | B41: 여중 | C41: 접영50M | D41: 2 | E41: ='프로그램1일자(결승)'!B147 -> 김민서 | F41: ='프로그램1일자(결승)'!D147 -> 전남체육중3 | G41: ='프로그램1일자(결승)'!E147 -> 3167
A42: 40 | B42: 남초 | C42: 평영100M | D42: 1 | E42: ='프로그램1일자(결승)'!B157 -> 김하울 | F42: ='프로그램1일자(결승)'!D157 -> 화순오성초5 | G42: ='프로그램1일자(결승)'!E157 -> 11879
A43: 41 | B43: 남초 | C43: 평영100M | D43: 2 | E43: ='프로그램1일자(결승)'!B158 -> 김시윤 | F43: ='프로그램1일자(결승)'!D158 -> 목포영산초5 | G43: ='프로그램1일자(결승)'!E158 -> 12172
A44: 42 | B44: 남초 | C44: 평영100M | D44: 3 | E44: ='프로그램1일자(결승)'!B159 -> 서은률 | F44: ='프로그램1일자(결승)'!D159 -> 여수한려초6 | G44: ='프로그램1일자(결승)'!E159 -> 12392
A45: 43 | B45: 여초 | C45: 평영100M | D45: 1 | E45: ='프로그램1일자(결승)'!B168 -> 임소은 | F45: ='프로그램1일자(결승)'!D168 -> 여수한려초6 | G45: ='프로그램1일자(결승)'!E168 -> 12458
A46: 44 | B46: 여초 | C46: 평영100M | D46: 2 | E46: ='프로그램1일자(결승)'!B169 -> 안소율 | F46: ='프로그램1일자(결승)'!D169 -> 광양중마초5 | G46: ='프로그램1일자(결승)'!E169 -> 12804
A47: 45 | B47: 여초 | C47: 평영100M | D47: 3 | E47: ='프로그램1일자(결승)'!B170 -> 최서윤 | F47: ='프로그램1일자(결승)'!D170 -> 광양중마초6 | G47: ='프로그램1일자(결승)'!E170 -> 12854
A48: 46 | B48: 남중 | C48: 평영100M | D48: 1 | E48: ='프로그램1일자(결승)'!B179 -> 김강민 | F48: ='프로그램1일자(결승)'!D179 -> 전남체육중3 | G48: ='프로그램1일자(결승)'!E179 -> 11147
A49: 47 | B49: 남중 | C49: 평영100M | D49: 2 | E49: ='프로그램1일자(결승)'!B180 -> 조민우 | F49: ='프로그램1일자(결승)'!D180 -> 동광양중3 | G49: ='프로그램1일자(결승)'!E180 -> 11262
A50: 49 | B50: 여중 | C50: 평영100M | D50: 1 | E50: ='프로그램1일자(결승)'!B190 -> 문승유 | F50: ='프로그램1일자(결승)'!D190 -> 영암여중1 | G50: ='프로그램1일자(결승)'!E190 -> 11559
A51: 50 | B51: 여중 | C51: 평영100M | D51: 2 | E51: ='프로그램1일자(결승)'!B191 -> 문진유 | F51: ='프로그램1일자(결승)'!D191 -> 전남체육중3 | G51: ='프로그램1일자(결승)'!E191 -> 12553
A52: 51 | B52: 남초 | C52: 배영100M | D52: 1 | E52: ='프로그램1일자(결승)'!B201 -> 한명한 | F52: ='프로그램1일자(결승)'!D201 -> 화순오성초5 | G52: ='프로그램1일자(결승)'!E201 -> 11277
A53: 52 | B53: 남초 | C53: 배영100M | D53: 2 | E53: ='프로그램1일자(결승)'!B202 -> 박건우 | F53: ='프로그램1일자(결승)'!D202 -> 영암초5 | G53: ='프로그램1일자(결승)'!E202 -> 11529
B54: 남초 | C54: 배영100M | D54: 3 | E54: ='프로그램1일자(결승)'!B203 -> 고병호 | F54: ='프로그램1일자(결승)'!D203 -> 화순오성초5 | G54: ='프로그램1일자(결승)'!E203 -> 11630
A55: 53 | B55: 여초 | C55: 배영100M | D55: 1 | E55: ='프로그램1일자(결승)'!B212 -> 최지원 | F55: ='프로그램1일자(결승)'!D212 -> 영암초6 | G55: ='프로그램1일자(결승)'!E212 -> 10990
A56: 54 | B56: 여초 | C56: 배영100M | D56: 2 | E56: ='프로그램1일자(결승)'!B213 -> 위예아 | F56: ='프로그램1일자(결승)'!D213 -> 광양중마초5 | G56: ='프로그램1일자(결승)'!E213 -> 11983
A57: 55 | B57: 남중 | C57: 배영100M | D57: 1 | E57: ='프로그램1일자(결승)'!B223 -> 문강우 | F57: ='프로그램1일자(결승)'!D223 -> 영암중3 | G57: ='프로그램1일자(결승)'!E223 -> 10111
A58: 56 | B58: 남중 | C58: 배영100M | D58: 2 | E58: ='프로그램1일자(결승)'!B224 -> 장윤 | F58: ='프로그램1일자(결승)'!D224 -> 영암중2 | G58: ='프로그램1일자(결승)'!E224 -> 10321
A59: 57 | B59: 남중 | C59: 배영100M | D59: 3 | E59: ='프로그램1일자(결승)'!B225 -> 권다온 | F59: ='프로그램1일자(결승)'!D225 -> 전남체육중1 | G59: ='프로그램1일자(결승)'!E225 -> 11698
A60: 58 | B60: 여중 | C60: 배영100M | D60: 1 | E60: ='프로그램1일자(결승)'!B234 -> 이아랑 | F60: ='프로그램1일자(결승)'!D234 -> 영암여중3 | G60: ='프로그램1일자(결승)'!E234 -> 10807
A61: 59 | B61: 여중 | C61: 배영100M | D61: 2 | E61: ='프로그램1일자(결승)'!B235 -> 김수민 | F61: ='프로그램1일자(결승)'!D235 -> 영암여중3 | G61: ='프로그램1일자(결승)'!E235 -> 10949
A62: 61 | B62: 남초 | C62: 자유형200M | D62: 1 | E62: ='프로그램1일자(결승)'!B245 -> 유하윤 | F62: ='프로그램1일자(결승)'!D245 -> 화순오성초6 | G62: ='프로그램1일자(결승)'!E245 -> 22370
A63: 62 | B63: 남초 | C63: 자유형200M | D63: 2 | E63: ='프로그램1일자(결승)'!B246 -> 여서원 | F63: ='프로그램1일자(결승)'!D246 -> 여수한려초6 | G63: ='프로그램1일자(결승)'!E246 -> 22503
A64: 63 | B64: 남초 | C64: 자유형200M | D64: 3 | E64: ='프로그램1일자(결승)'!B247 -> 이우주 | F64: ='프로그램1일자(결승)'!D247 -> 순천왕지초5 | G64: ='프로그램1일자(결승)'!E247 -> 22505
A65: 64 | B65: 여초 | C65: 자유형200M | D65: 1 | E65: ='프로그램1일자(결승)'!B256 -> 임지율 | F65: ='프로그램1일자(결승)'!D256 -> 여수한려초6 | G65: ='프로그램1일자(결승)'!E256 -> 21408
A66: 65 | B66: 여초 | C66: 자유형200M | D66: 2 | E66: ='프로그램1일자(결승)'!B257 -> 신지유 | F66: ='프로그램1일자(결승)'!D257 -> 여수한려초5 | G66: ='프로그램1일자(결승)'!E257 -> 23335
A67: 66 | B67: 여초 | C67: 자유형200M | D67: 3 | E67: ='프로그램1일자(결승)'!B258 -> 이승은 | F67: ='프로그램1일자(결승)'!D258 -> 목포영산초5 | G67: ='프로그램1일자(결승)'!E258 -> 23749
A68: 67 | B68: 남중 | C68: 자유형200M | D68: 1 | E68: ='프로그램1일자(결승)'!B267 -> 권가온 | F68: ='프로그램1일자(결승)'!D267 -> 전남체육중3 | G68: ='프로그램1일자(결승)'!E267 -> 20284
A69: 68 | B69: 남중 | C69: 자유형200M | D69: 2 | E69: ='프로그램1일자(결승)'!B268 -> 김연우 | F69: ='프로그램1일자(결승)'!D268 -> 전남체육중3 | G69: ='프로그램1일자(결승)'!E268 -> 20820
A70: 69 | B70: 남중 | C70: 자유형200M | D70: 3 | E70: ='프로그램1일자(결승)'!B269 -> 김태현 | F70: ='프로그램1일자(결승)'!D269 -> 순천왕의중2 | G70: ='프로그램1일자(결승)'!E269 -> 22547
A71: 70 | B71: 여중 | C71: 자유형200M | D71: 1 | E71: ='프로그램1일자(결승)'!B278 -> 박별 | F71: ='프로그램1일자(결승)'!D278 -> 전남체육중3 | G71: ='프로그램1일자(결승)'!E278 -> 21148
A72: 71 | B72: 남초 | C72: 개인혼영200M | D72: 1 | E72: ='프로그램1일자(결승)'!B289 -> 하이룸 | F72: ='프로그램1일자(결승)'!D289 -> 여수한려초6 | G72: ='프로그램1일자(결승)'!E289 -> 23709
A73: 72 | B73: 남초 | C73: 개인혼영200M | D73: 2 | E73: ='프로그램1일자(결승)'!B290 -> 서은률 | F73: ='프로그램1일자(결승)'!D290 -> 여수한려초6 | G73: ='프로그램1일자(결승)'!E290 -> 24900
A74: 73 | B74: 남초 | C74: 개인혼영200M | D74: 3 | E74: ='프로그램1일자(결승)'!B291 -> 이주원 | F74: ='프로그램1일자(결승)'!D291 -> 광양중마초5 | G74: ='프로그램1일자(결승)'!E291 -> 25010
A75: 74 | B75: 여초 | C75: 개인혼영200M | D75: 1 | E75: ='프로그램1일자(결승)'!B300 -> 신지유 | F75: ='프로그램1일자(결승)'!D300 -> 여수한려초5 | G75: ='프로그램1일자(결승)'!E300 -> 30237
A76: 75 | B76: 남중 | C76: 개인혼영200M | D76: 1 | E76: ='프로그램1일자(결승)'!B311 -> 김윤성 | F76: ='프로그램1일자(결승)'!D311 -> 영암중1 | G76: ='프로그램1일자(결승)'!E311 -> 23385
A77: 76 | B77: 남중 | C77: 개인혼영200M | D77: 2 | E77: ='프로그램1일자(결승)'!B312 -> 박연우 | F77: ='프로그램1일자(결승)'!D312 -> 영암중2 | G77: ='프로그램1일자(결승)'!E312 -> 23721
A78: 78 | B78: 여중 | C78: 개인혼영200M | D78: 1 | E78: ='프로그램1일자(결승)'!B322 -> 박소이 | F78: ='프로그램1일자(결승)'!D322 -> 동광양중3 | G78: ='프로그램1일자(결승)'!E322 -> 25565
A79: 79 | B79: 남중 | C79: 평영200M | D79: 1 | E79: ='프로그램1일자(결승)'!B333 -> 안하준 | F79: ='프로그램1일자(결승)'!D333 -> 여수문수중1 | G79: ='프로그램1일자(결승)'!E333 -> 30863
A80: 80 | B80: 남중 | C80: 평영200M | D80: 2 | E80: ='프로그램1일자(결승)'!B334 -> 최승하 | F80: ='프로그램1일자(결승)'!D334 -> 동광양중1 | G80: ='프로그램1일자(결승)'!E334 -> 31559
A81: 81 | B81: 여중 | C81: 평영200M | D81: 1 | E81: ='프로그램1일자(결승)'!B344 -> 문승유 | F81: ='프로그램1일자(결승)'!D344 -> 영암여중1 | G81: ='프로그램1일자(결승)'!E344 -> 24060
A82: 82 | B82: 여중 | C82: 평영200M | D82: 2 | E82: ='프로그램1일자(결승)'!B345 -> 박다미 | F82: ='프로그램1일자(결승)'!D345 -> 여수문수중2 | G82: ='프로그램1일자(결승)'!E345 -> 25555
A83: 83 | B83: 남중 | C83: 자유형400M | D83: 1 | E83: ='프로그램2일자(결승)'!B3 -> 문정우 | F83: ='프로그램2일자(결승)'!D3 -> 여수문수중3 | G83: ='프로그램2일자(결승)'!E3 -> 42022
A84: 84 | B84: 남중 | C84: 자유형400M | D84: 2 | E84: ='프로그램2일자(결승)'!B4 -> 김민규 | F84: ='프로그램2일자(결승)'!D4 -> 전남체육중1 | G84: ='프로그램2일자(결승)'!E4 -> 43001
A85: 85 | B85: 남중 | C85: 자유형400M | D85: 3 | E85: ='프로그램2일자(결승)'!B5 -> 김연우 | F85: ='프로그램2일자(결승)'!D5 -> 전남체육중3 | G85: ='프로그램2일자(결승)'!E5 -> 44166
A86: 86 | B86: 여중 | C86: 자유형400M | D86: 1 | E86: ='프로그램2일자(결승)'!B14 -> 고태희 | F86: ='프로그램2일자(결승)'!D14 -> 여수문수중3 | G86: ='프로그램2일자(결승)'!E14 -> 50588
A87: 87 | B87: 여중 | C87: 자유형400M | D87: 2 | E87: ='프로그램2일자(결승)'!B15 -> 조서연 | F87: ='프로그램2일자(결승)'!D15 -> 동광양중2 | G87: ='프로그램2일자(결승)'!E15 -> 51259
A88: 88 | B88: 남유 | C88: 배영50M | D88: 1 | E88: ='프로그램2일자(결승)'!B24 -> 김서온 | F88: ='프로그램2일자(결승)'!D24 -> 여수한려초4 | G88: ='프로그램2일자(결승)'!E24 -> 3643
A89: 89 | B89: 남유 | C89: 배영50M | D89: 2 | E89: ='프로그램2일자(결승)'!B25 -> 박준희 | F89: ='프로그램2일자(결승)'!D25 -> 영암초3 | G89: ='프로그램2일자(결승)'!E25 -> 3737
A90: 90 | B90: 남유 | C90: 배영50M | D90: 3 | E90: ='프로그램2일자(결승)'!B26 -> 이태윤 | F90: ='프로그램2일자(결승)'!D26 -> 사창초4 | G90: ='프로그램2일자(결승)'!E26 -> 3848
A91: 91 | B91: 여유 | C91: 배영50M | D91: 1 | E91: ='프로그램2일자(결승)'!B35 -> 윤지수 | F91: ='프로그램2일자(결승)'!D35 -> 목포신흥초4 | G91: ='프로그램2일자(결승)'!E35 -> 3675
A92: 92 | B92: 여유 | C92: 배영50M | D92: 2 | E92: ='프로그램2일자(결승)'!B36 -> 정유솔 | F92: ='프로그램2일자(결승)'!D36 -> 해남동초4 | G92: ='프로그램2일자(결승)'!E36 -> 3950
A93: 93 | B93: 여유 | C93: 배영50M | D93: 3 | E93: ='프로그램2일자(결승)'!B37 -> 조아인 | F93: ='프로그램2일자(결승)'!D37 -> 오룡초4 | G93: ='프로그램2일자(결승)'!E37 -> 4131
A94: 94 | B94: 남초 | C94: 배영50M | D94: 1 | E94: ='프로그램2일자(결승)'!B46 -> 한명한 | F94: ='프로그램2일자(결승)'!D46 -> 화순오성초5 | G94: ='프로그램2일자(결승)'!E46 -> 3356
A95: 95 | B95: 남초 | C95: 배영50M | D95: 2 | E95: ='프로그램2일자(결승)'!B47 -> 박건우 | F95: ='프로그램2일자(결승)'!D47 -> 영암초5 | G95: ='프로그램2일자(결승)'!E47 -> 3370
A96: 96 | B96: 남초 | C96: 배영50M | D96: 3 | E96: ='프로그램2일자(결승)'!B48 -> 고병호 | F96: ='프로그램2일자(결승)'!D48 -> 화순오성초5 | G96: ='프로그램2일자(결승)'!E48 -> 3510
A97: 97 | B97: 여초 | C97: 배영50M | D97: 1 | E97: ='프로그램2일자(결승)'!B57 -> 최지원 | F97: ='프로그램2일자(결승)'!D57 -> 영암초6 | G97: ='프로그램2일자(결승)'!E57 -> 3254
A98: 98 | B98: 여초 | C98: 배영50M | D98: 2 | E98: ='프로그램2일자(결승)'!B58 -> 위예아 | F98: ='프로그램2일자(결승)'!D58 -> 광양중마초5 | G98: ='프로그램2일자(결승)'!E58 -> 3749
A99: 99 | B99: 남중 | C99: 배영50M | D99: 1 | E99: ='프로그램2일자(결승)'!B68 -> 문강우 | F99: ='프로그램2일자(결승)'!D68 -> 영암중3 | G99: ='프로그램2일자(결승)'!E68 -> 2812
A100: 100 | B100: 남중 | C100: 배영50M | D100: 2 | E100: ='프로그램2일자(결승)'!B69 -> 장윤 | F100: ='프로그램2일자(결승)'!D69 -> 영암중2 | G100: ='프로그램2일자(결승)'!E69 -> 2913
...

Sheet 제55회 소체선발명단
A1: 2026 제55회 전국소년체육대회 전남선발명단
A2: ▣ 종목(수영)
A3: 연번 | B3: 종별 | C3: 세부종목 / 거리 | D3: 입상 등위 | E3: 선수명 | F3: 소속 | G3: 기록 | H3: 기준기록
A4: 1 | B4: 남유 | C4: 자유형50M | D4: 1 | E4: =입상자명단!E4 -> 이강윤 | F4: =입상자명단!F4 -> 사창초4 | G4: =입상자명단!G4 -> 3085
A5: 2 | B5: 남유 | C5: 자유형50M | D5: 2 | E5: =입상자명단!E5 -> 김서온 | F5: =입상자명단!F5 -> 여수한려초4 | G5: =입상자명단!G5 -> 3229
A6: 3 | B6: 남유 | C6: 배영50M | D6: 1 | E6: =입상자명단!E88 -> 김서온 | F6: =입상자명단!F88 -> 여수한려초4 | G6: =입상자명단!G88 -> 3643
A7: 4 | B7: 남유 | C7: 배영50M | D7: 2 | E7: =입상자명단!E89 -> 박준희 | F7: =입상자명단!F89 -> 영암초3 | G7: =입상자명단!G89 -> 3737
A8: 5 | B8: 남유 | C8: 평영50M | D8: 1 | E8: =입상자명단!E105 -> 박서형 | F8: =입상자명단!F105 -> 화순오성초4 | G8: =입상자명단!G105 -> 4085
A9: 6 | B9: 남유 | C9: 평영50M | D9: 2 | E9: =입상자명단!E106 -> 이강윤 | F9: =입상자명단!F106 -> 화순오성초4 | G9: =입상자명단!G106 -> 4247
A10: 7 | B10: 남유 | C10: 접영50M | D10: 1 | E10: =입상자명단!E26 -> 김민재 | F10: =입상자명단!F26 -> 광양중마초3 | G10: =입상자명단!G26 -> 3437
A11: 8 | B11: 남유 | C11: 접영50M | D11: 2 | E11: =입상자명단!E27 -> 이태윤 | F11: =입상자명단!F27 -> 사창초4 | G11: =입상자명단!G27 -> 3882
A12: 9 | B12: 남초 | C12: 자유형50M | D12: 1 | E12: =입상자명단!E10 -> 이재원 | F12: =입상자명단!F10 -> 목포영산초6 | G12: =입상자명단!G10 -> 2990
A13: 10 | B13: 남초 | C13: 자유형50M | D13: 2 | E13: =입상자명단!E11 -> 박준영 | F13: =입상자명단!F11 -> 광양중마초5 | G13: =입상자명단!G11 -> 3077
A14: 11 | B14: 남초 | C14: 자유형100 | D14: 1 | E14: =입상자명단!E130 -> 여서원 | F14: =입상자명단!F130 -> 여수한려초6 | G14: =입상자명단!G130 -> 10534
A15: 12 | B15: 남초 | C15: 자유형100 | D15: 2 | E15: =입상자명단!E131 -> 유하윤 | F15: =입상자명단!F131 -> 화순오성초6 | G15: =입상자명단!G131 -> 10590
B16: 남초 | C16: 자유형200 | D16: 1 | E16: =입상자명단!E62 -> 유하윤 | F16: =입상자명단!F62 -> 화순오성초6 | G16: =입상자명단!G62 -> 22370
B17: 남초 | C17: 자유형200 | D17: 2 | E17: =입상자명단!E63 -> 여서원 | F17: =입상자명단!F63 -> 여수한려초6 | G17: =입상자명단!G63 -> 22503
A18: 13 | B18: 남초 | C18: 배영50M | D18: 1 | E18: =입상자명단!E94 -> 한명한 | F18: =입상자명단!F94 -> 화순오성초5 | G18: =입상자명단!G94 -> 3356
A19: 14 | B19: 남초 | C19: 배영50M | D19: 2 | E19: =입상자명단!E95 -> 박건우 | F19: =입상자명단!F95 -> 영암초5 | G19: =입상자명단!G95 -> 3370
A20: 15 | B20: 남초 | C20: 배영100M | D20: 1 | E20: =입상자명단!E52 -> 한명한 | F20: ='[1]프로그램1일자(예선)'!B6 -> #REF! | G20: =입상자명단!G52 -> 11277
A21: 16 | B21: 남초 | C21: 배영100M | D21: 2 | E21: =입상자명단!E53 -> 박건우 | F21: =입상자명단!F53 -> 영암초5 | G21: =입상자명단!G53 -> 11529
A22: 17 | B22: 남초 | C22: 평영50M | D22: 1 | E22: =입상자명단!E111 -> 김하울 | F22: =입상자명단!F111 -> 화순오성초5 | G22: =입상자명단!G111 -> 3625
A23: 18 | B23: 남초 | C23: 평영50M | D23: 2 | E23: =입상자명단!E112 -> 김시윤 | F23: =입상자명단!F112 -> 목포영산초5 | G23: =입상자명단!G112 -> 3736
A24: 19 | B24: 남초 | C24: 평영100M | D24: 1 | E24: =입상자명단!E42 -> 김하울 | F24: =입상자명단!F42 -> 화순오성초5 | G24: =입상자명단!G42 -> 11879
A25: 20 | B25: 남초 | C25: 평영100M | D25: 2 | E25: =입상자명단!E43 -> 김시윤 | F25: =입상자명단!F43 -> 목포영산초5 | G25: =입상자명단!G43 -> 12172
A26: 21 | B26: 남초 | C26: 접영50M | D26: 1 | E26: =입상자명단!E32 -> 이재원 | F26: =입상자명단!F32 -> 목포영산초6 | G26: =입상자명단!G32 -> 3022
A27: 22 | B27: 남초 | C27: 접영50M | D27: 2 | E27: =입상자명단!E33 -> 탁윤건 | F27: =입상자명단!F33 -> 광양중마초5 | G27: =입상자명단!G33 -> 3082
A28: 23 | B28: 남초 | C28: 접영100M | D28: 1 | E28: =입상자명단!E122 -> 탁윤건 | F28: =입상자명단!F122 -> 광양중마초5 | G28: =입상자명단!G122 -> 10927
A29: 24 | B29: 남초 | C29: 접영100M | D29: 2 | E29: =입상자명단!E123 -> 하이룸 | F29: =입상자명단!F123 -> 여수한려초6 | G29: =입상자명단!G123 -> 10973
A30: 25 | B30: 남초 | C30: 개인혼영200 | D30: 1 | E30: =입상자명단!E72 -> 하이룸 | F30: =입상자명단!F72 -> 여수한려초6 | G30: =입상자명단!G72 -> 23709
A31: 26 | B31: 남초 | C31: 개인혼영200 | D31: 2 | E31: =입상자명단!E73 -> 서은률 | F31: =입상자명단!F73 -> 여수한려초6 | G31: =입상자명단!G73 -> 24900
A32: 27 | B32: 여유 | C32: 자유형50M | D32: 1 | E32: =입상자명단!E7 -> 황채원 | F32: =입상자명단!F7 -> 사창초4 | G32: =입상자명단!G7 -> 3138
A33: 28 | B33: 여유 | C33: 자유형50M | D33: 2 | E33: =입상자명단!E8 -> 윤지수 | F33: =입상자명단!F8 -> 목포신흥초4 | G33: =입상자명단!G8 -> 3246
A34: 29 | B34: 여유 | C34: 배영50M | D34: 1 | E34: =입상자명단!E91 -> 윤지수 | F34: =입상자명단!F91 -> 목포신흥초4 | G34: =입상자명단!G91 -> 3675
A35: 30 | B35: 여유 | C35: 배영50M | D35: 2 | E35: =입상자명단!E92 -> 정유솔 | F35: =입상자명단!F92 -> 해남동초4 | G35: =입상자명단!G92 -> 3950
A36: 31 | B36: 여유 | C36: 평영50M | D36: 1 | E36: =입상자명단!E108 -> 권아리 | F36: =입상자명단!F108 -> 광양중마초4 | G36: =입상자명단!G108 -> 4021
A37: 32 | B37: 여유 | C37: 평영50M | D37: 2 | E37: =입상자명단!E109 -> 하연재 | F37: =입상자명단!F109 -> 목포영산초4 | G37: =입상자명단!G109 -> 4090
A38: 33 | B38: 여유 | C38: 접영50M | D38: 1 | E38: =입상자명단!E29 -> 여현아 | F38: =입상자명단!F29 -> 여수한려초3 | G38: =입상자명단!G29 -> 3439
A39: 34 | B39: 여유 | C39: 접영50M | D39: 2 | E39: =입상자명단!E30 -> 황채원 | F39: =입상자명단!F30 -> 사창초4 | G39: =입상자명단!G30 -> 3571
A40: 35 | B40: 여초 | C40: 자유형50M | D40: 1 | E40: =입상자명단!E13 -> 김루아 | F40: =입상자명단!F13 -> 여수한려초5 | G40: =입상자명단!G13 -> 2898
A41: 36 | B41: 여초 | C41: 자유형50M | D41: 2 | E41: =입상자명단!E14 -> 김나윤 | F41: =입상자명단!F14 -> 도암초5 | G41: =입상자명단!G14 -> 3787
A42: 37 | B42: 여초 | C42: 자유형100 | D42: 1 | E42: =입상자명단!E134 -> 김루아 | F42: =입상자명단!F134 -> 여수한려초5 | G42: =입상자명단!G134 -> 10435
A43: 38 | B43: 여초 | C43: 자유형100 | D43: 2 | E43: =입상자명단!E135 -> 권가온 | F43: =입상자명단!F135 -> 전남체육중3 | G43: =입상자명단!G135 -> 5562
B44: 여초 | C44: 자유형200 | D44: 1 | E44: =입상자명단!E62 -> 유하윤 | F44: =입상자명단!F62 -> 화순오성초6 | G44: =입상자명단!G62 -> 22370
B45: 여초 | C45: 자유형200 | D45: 2 | E45: =입상자명단!E63 -> 여서원 | F45: =입상자명단!F63 -> 여수한려초6 | G45: =입상자명단!G63 -> 22503
A46: 39 | B46: 여초 | C46: 배영50M | D46: 1 | E46: =입상자명단!E97 -> 최지원 | F46: =입상자명단!F97 -> 영암초6 | G46: =입상자명단!G97 -> 3254
A47: 40 | B47: 여초 | C47: 배영50M | D47: 2 | E47: =입상자명단!E98 -> 위예아 | F47: =입상자명단!F98 -> 광양중마초5 | G47: =입상자명단!G98 -> 3749
A48: 41 | B48: 여초 | C48: 배영100M | D48: 1 | E48: =입상자명단!E55 -> 최지원 | F48: =입상자명단!F55 -> 영암초6 | G48: =입상자명단!G55 -> 10990
A49: 42 | B49: 여초 | C49: 배영100M | D49: 2 | E49: =입상자명단!E56 -> 위예아 | F49: =입상자명단!F56 -> 광양중마초5 | G49: =입상자명단!G56 -> 11983
A50: 43 | B50: 여초 | C50: 평영50M | D50: 1 | E50: =입상자명단!E45 -> 임소은 | F50: =입상자명단!F45 -> 여수한려초6 | G50: =입상자명단!G45 -> 12458
A51: 44 | B51: 여초 | C51: 평영50M | D51: 2 | E51: =입상자명단!E46 -> 안소율 | F51: =입상자명단!F46 -> 광양중마초5 | G51: =입상자명단!G46 -> 12804
A52: 45 | B52: 여초 | C52: 평영100M | D52: 1 | E52: =입상자명단!E114 -> 임소은 | F52: =입상자명단!F114 -> 여수한려초6 | G52: =입상자명단!G114 -> 3869
A53: 46 | B53: 여초 | C53: 평영100M | D53: 2 | E53: =입상자명단!E115 -> 안소율 | F53: =입상자명단!F115 -> 광양중마초5 | G53: =입상자명단!G115 -> 4032
A54: 47 | B54: 여초 | C54: 접영50M | D54: 1 | E54: =입상자명단!E35 -> 이승은 | F54: =입상자명단!F35 -> 목포영산초5 | G54: =입상자명단!G35 -> 3395
A55: 48 | B55: 여초 | C55: 접영50M | D55: 2 | E55: =입상자명단!E36 -> 장서아 | F55: =입상자명단!F36 -> 해남동초6 | G55: =입상자명단!G36 -> 3498
A56: 49 | B56: 여초 | C56: 접영100M | D56: 1 | E56: =입상자명단!E125 -> 장서아 | F56: =입상자명단!F125 -> 해남동초6 | G56: =입상자명단!G125 -> 12224
A57: 50 | B57: 여초 | C57: 접영100M | D57: 2
A58: 51 | B58: 여초 | C58: 개인혼영200 | D58: 1 | E58: =입상자명단!E75 -> 신지유 | F58: =입상자명단!F75 -> 여수한려초5 | G58: =입상자명단!G75 -> 30237
A59: 52 | B59: 여초 | C59: 개인혼영200 | D59: 2
A60: 53 | B60: 남중 | C60: 자유형50M | D60: 1 | E60: =입상자명단!E15 -> 박민재 | F60: =입상자명단!F15 -> 전남체육중2 | G60: =입상자명단!G15 -> 2452
A61: 54 | B61: 남중 | C61: 자유형50M | D61: 2 | E61: =입상자명단!E16 -> 백대영 | F61: =입상자명단!F16 -> 전남체육중2 | G61: =입상자명단!G16 -> 2633
A62: 55 | B62: 남중 | C62: 자유형100 | D62: 1 | E62: =입상자명단!E135 -> 권가온 | F62: =입상자명단!F135 -> 전남체육중3 | G62: =입상자명단!G135 -> 5562
A63: 56 | B63: 남중 | C63: 자유형100 | D63: 2 | E63: =입상자명단!E136 -> 백대영 | F63: =입상자명단!F136 -> 전남체육중2 | G63: =입상자명단!G136 -> 5848
A64: 57 | B64: 남중 | C64: 자유형200 | D64: 1 | E64: =입상자명단!E68 -> 권가온 | F64: =입상자명단!F68 -> 전남체육중3 | G64: =입상자명단!G68 -> 20284
A65: 58 | B65: 남중 | C65: 자유형200 | D65: 2 | E65: =입상자명단!E69 -> 김연우 | F65: =입상자명단!F69 -> 전남체육중3 | G65: =입상자명단!G69 -> 20820
A66: 59 | B66: 남중 | C66: 자유형400 | D66: 1 | E66: =입상자명단!#REF! -> #REF! | F66: =입상자명단!#REF! -> #REF! | G66: =입상자명단!#REF! -> #REF!
A67: 60 | B67: 남중 | C67: 자유형400 | D67: 2 | E67: =입상자명단!#REF! -> #REF! | F67: =입상자명단!#REF! -> #REF! | G67: =입상자명단!#REF! -> #REF!
A68: 61 | B68: 남중 | C68: 자유형800 | D68: 1 | E68: =입상자명단!E21 -> 문정우 | F68: =입상자명단!F21 -> 여수문수중3 | G68: =입상자명단!G21 -> 84653
A69: 62 | B69: 남중 | C69: 자유형800 | D69: 2 | E69: =입상자명단!E22 -> 김민규 | F69: =입상자명단!F22 -> 전남체육중1 | G69: =입상자명단!G22 -> 91904
A70: 63 | B70: 남중 | C70: 배영50M | D70: 1 | E70: =입상자명단!E93 -> 조아인 | F70: =입상자명단!F93 -> 오룡초4 | G70: =입상자명단!G93 -> 4131
A71: 64 | B71: 남중 | C71: 배영50M | D71: 2 | E71: =입상자명단!E94 -> 한명한 | F71: =입상자명단!F94 -> 화순오성초5 | G71: =입상자명단!G94 -> 3356
A72: 65 | B72: 남중 | C72: 배영100M | D72: 1 | E72: =입상자명단!E57 -> 문강우 | F72: =입상자명단!F57 -> 영암중3 | G72: =입상자명단!G57 -> 10111
A73: 66 | B73: 남중 | C73: 배영100M | D73: 2 | E73: =입상자명단!E58 -> 장윤 | F73: =입상자명단!F58 -> 영암중2 | G73: =입상자명단!G58 -> 10321
A74: 67 | B74: 남중 | C74: 배영200M | D74: 1 | E74: =입상자명단!E141 -> 유하진 | F74: =입상자명단!F141 -> 전남체육중2 | G74: =입상자명단!G141 -> 23789
A75: 68 | B75: 남중 | C75: 배영200M | D75: 2 | E75: =입상자명단!E142 -> 김윤성 | F75: =입상자명단!F142 -> 영암중1 | G75: =입상자명단!G142 -> 24141
A76: 69 | B76: 남중 | C76: 평영50M | D76: 1 | E76: =입상자명단!E117 -> 조민우 | F76: =입상자명단!F117 -> 동광양중3 | G76: =입상자명단!G117 -> 3271
A77: 70 | B77: 남중 | C77: 평영50M | D77: 2 | E77: =입상자명단!E118 -> 김강민 | F77: =입상자명단!F118 -> 전남체육중3 | G77: =입상자명단!G118 -> 3288
A78: 71 | B78: 남중 | C78: 평영100M | D78: 1 | E78: =입상자명단!E48 -> 김강민 | F78: =입상자명단!F48 -> 전남체육중3 | G78: =입상자명단!G48 -> 11147
A79: 72 | B79: 남중 | C79: 평영100M | D79: 2 | E79: =입상자명단!E49 -> 조민우 | F79: =입상자명단!F49 -> 동광양중3 | G79: =입상자명단!G49 -> 11262
A80: 73 | B80: 남중 | C80: 평영200M | D80: 1 | E80: =입상자명단!E79 -> 안하준 | F80: =입상자명단!F79 -> 여수문수중1 | G80: =입상자명단!G79 -> 30863
A81: 74 | B81: 남중 | C81: 평영200M | D81: 2 | E81: =입상자명단!E80 -> 최승하 | F81: =입상자명단!F80 -> 동광양중1 | G81: =입상자명단!G80 -> 31559
A82: 75 | B82: 남중 | C82: 접영50M | D82: 1 | E82: =입상자명단!E37 -> 박민재 | F82: =입상자명단!F37 -> 전남체육중2 | G82: =입상자명단!G37 -> 2652
A83: 76 | B83: 남중 | C83: 접영50M | D83: 2 | E83: =입상자명단!E38 -> 김석호 | F83: =입상자명단!F38 -> 여수문수중2 | G83: =입상자명단!G38 -> 2755
A84: 77 | B84: 남중 | C84: 접영100M | D84: 1 | E84: =입상자명단!E126 -> 김석호 | F84: =입상자명단!F126 -> 여수문수중2 | G84: =입상자명단!G126 -> 10077
A85: 78 | B85: 남중 | C85: 접영100M | D85: 2 | E85: =입상자명단!E127 -> 안효준 | F85: =입상자명단!F127 -> 전남체육중2 | G85: =입상자명단!G127 -> 10232
A86: 79 | B86: 남중 | C86: 접영200M | D86: 1 | E86: =입상자명단!E145 -> 정희성 | F86: =입상자명단!F145 -> 동광양중1 | G86: =입상자명단!G145 -> 22828
A87: 80 | B87: 남중 | C87: 접영200M | D87: 2 | E87: =입상자명단!E146 -> 박연우 | F87: =입상자명단!F146 -> 영암중2 | G87: =입상자명단!G146 -> 23834
A88: 81 | B88: 남중 | C88: 개인혼영200 | D88: 1 | E88: =입상자명단!E76 -> 김윤성 | F88: =입상자명단!F76 -> 영암중1 | G88: =입상자명단!G76 -> 23385
A89: 82 | B89: 남중 | C89: 개인혼영200 | D89: 2 | E89: =입상자명단!E77 -> 박연우 | F89: =입상자명단!F77 -> 영암중2 | G89: =입상자명단!G77 -> 23721
A90: 83 | B90: 여중 | C90: 자유형50M | D90: 1 | E90: =입상자명단!E18 -> 최아영 | F90: =입상자명단!F18 -> 전남체육중3 | G90: =입상자명단!G18 -> 2930
A91: 84 | B91: 여중 | C91: 자유형50M | D91: 2 | E91: =입상자명단!E19 -> 서하빈 | F91: =입상자명단!F19 -> 전남체육중1 | G91: =입상자명단!G19 -> 3001
A92: 85 | B92: 여중 | C92: 자유형100 | D92: 1 | E92: =입상자명단!E138 -> 박별 | F92: =입상자명단!F138 -> 전남체육중3 | G92: =입상자명단!G138 -> 10036
A93: 86 | B93: 여중 | C93: 자유형100 | D93: 2 | E93: =입상자명단!E140 -> 김서현 | F93: =입상자명단!F140 -> 강진여중2 | G93: =입상자명단!G140 -> 11590
A94: 87 | B94: 여중 | C94: 자유형200 | D94: 1 | E94: =입상자명단!E71 -> 박별 | F94: =입상자명단!F71 -> 전남체육중3 | G94: =입상자명단!G71 -> 21148
A95: 88 | B95: 여중 | C95: 자유형200 | D95: 2
A96: 89 | B96: 여중 | C96: 자유형400 | D96: 1 | E96: =입상자명단!#REF! -> #REF! | F96: =입상자명단!#REF! -> #REF! | G96: =입상자명단!#REF! -> #REF!
A97: 90 | B97: 여중 | C97: 자유형400 | D97: 2 | E97: =입상자명단!#REF! -> #REF! | F97: =입상자명단!#REF! -> #REF! | G97: =입상자명단!#REF! -> #REF!
A98: 91 | B98: 여중 | C98: 자유형800 | D98: 1 | E98: =입상자명단!E24 -> 고태희 | F98: =입상자명단!F24 -> 여수문수중3 | G98: =입상자명단!G24 -> 102702
A99: 92 | B99: 여중 | C99: 자유형800 | D99: 2 | E99: =입상자명단!E25 -> 조서연 | F99: =입상자명단!F25 -> 동광양중2 | G99: =입상자명단!G25 -> 104387
A100: 93 | B100: 여중 | C100: 배영50M | D100: 1 | E100: =입상자명단!E102 -> 이아랑 | F100: =입상자명단!F102 -> 영암여중3 | G100: =입상자명단!G102 -> 3169
...

Sheet Sheet1

Sheet Sheet3
A1: 초혼성혼계영200M | B1: =CONCATENATE(A1,F1) -> #REF! | C1: ='프로그램1일자(결승)'!#REF! -> #REF! | D1: ='프로그램1일자(결승)'!#REF! -> #REF! | E1: ='프로그램1일자(결승)'!#REF! -> #REF! | F1: ='프로그램1일자(결승)'!#REF! -> #REF! | G1: =CONCATENATE(D1,A1) -> #REF! | H1: =IFERROR(VLOOKUP(F1,$O$1:$P$24,2,0),"0") -> 0 | M1: 1 | N1: 7 | O1: 1 | P1: 14
A2: 초혼성혼계영200M | B2: =CONCATENATE(A2,F2) -> #REF! | C2: ='프로그램1일자(결승)'!#REF! -> #REF! | D2: ='프로그램1일자(결승)'!#REF! -> #REF! | E2: ='프로그램1일자(결승)'!#REF! -> #REF! | F2: ='프로그램1일자(결승)'!#REF! -> #REF! | G2: =CONCATENATE(D2,A2) -> #REF! | H2: =IFERROR(VLOOKUP(F2,$O$1:$P$24,2,0),"0") -> 0 | M2: 2 | N2: 5 | O2: 2 | P2: 10
A3: 초혼성혼계영200M | B3: =CONCATENATE(A3,F3) -> #REF! | C3: ='프로그램1일자(결승)'!#REF! -> #REF! | D3: ='프로그램1일자(결승)'!#REF! -> #REF! | E3: ='프로그램1일자(결승)'!#REF! -> #REF! | F3: ='프로그램1일자(결승)'!#REF! -> #REF! | G3: =CONCATENATE(D3,A3) -> #REF! | H3: =IFERROR(VLOOKUP(F3,$O$1:$P$24,2,0),"0") -> 0 | M3: 3 | N3: 4 | O3: 3 | P3: 8
A4: 초혼성혼계영200M | B4: =CONCATENATE(A4,F4) -> #REF! | C4: ='프로그램1일자(결승)'!#REF! -> #REF! | D4: ='프로그램1일자(결승)'!#REF! -> #REF! | E4: ='프로그램1일자(결승)'!#REF! -> #REF! | F4: ='프로그램1일자(결승)'!#REF! -> #REF! | G4: =CONCATENATE(D4,A4) -> #REF! | H4: =IFERROR(VLOOKUP(F4,$O$1:$P$24,2,0),"0") -> 0 | M4: 4 | N4: 3 | O4: 4 | P4: 6
A5: 초혼성혼계영200M | B5: =CONCATENATE(A5,F5) -> #REF! | C5: ='프로그램1일자(결승)'!#REF! -> #REF! | D5: ='프로그램1일자(결승)'!#REF! -> #REF! | E5: ='프로그램1일자(결승)'!#REF! -> #REF! | F5: ='프로그램1일자(결승)'!#REF! -> #REF! | G5: =CONCATENATE(D5,A5) -> #REF! | H5: =IFERROR(VLOOKUP(F5,$O$1:$P$24,2,0),"0") -> 0 | M5: 5 | N5: 2 | O5: 5 | P5: 4
A6: 초혼성혼계영200M | B6: =CONCATENATE(A6,F6) -> #REF! | C6: ='프로그램1일자(결승)'!#REF! -> #REF! | D6: ='프로그램1일자(결승)'!#REF! -> #REF! | E6: ='프로그램1일자(결승)'!#REF! -> #REF! | F6: ='프로그램1일자(결승)'!#REF! -> #REF! | G6: =CONCATENATE(D6,A6) -> #REF! | H6: =IFERROR(VLOOKUP(F6,$O$1:$P$24,2,0),"0") -> 0 | M6: 6 | N6: 1 | O6: 6 | P6: 2
A7: 초혼성혼계영200M | B7: =CONCATENATE(A7,F7) -> #REF! | C7: ='프로그램1일자(결승)'!#REF! -> #REF! | D7: ='프로그램1일자(결승)'!#REF! -> #REF! | E7: ='프로그램1일자(결승)'!#REF! -> #REF! | F7: ='프로그램1일자(결승)'!#REF! -> #REF! | G7: =CONCATENATE(D7,A7) -> #REF! | H7: =IFERROR(VLOOKUP(F7,$O$1:$P$24,2,0),"0") -> 0 | M7: 7 | N7: 1 | O7: 7 | P7: 2
A8: 초혼성혼계영200M | B8: =CONCATENATE(A8,F8) -> #REF! | C8: ='프로그램1일자(결승)'!#REF! -> #REF! | D8: ='프로그램1일자(결승)'!#REF! -> #REF! | E8: ='프로그램1일자(결승)'!#REF! -> #REF! | F8: ='프로그램1일자(결승)'!#REF! -> #REF! | G8: =CONCATENATE(D8,A8) -> #REF! | H8: =IFERROR(VLOOKUP(F8,$O$1:$P$24,2,0),"0") -> 0 | M8: 8 | N8: 1 | O8: 8 | P8: 2
A9: 초혼성혼계영200M | B9: =CONCATENATE(A9,F9) -> #REF! | C9: ='프로그램1일자(결승)'!#REF! -> #REF! | D9: ='프로그램1일자(결승)'!#REF! -> #REF! | E9: ='프로그램1일자(결승)'!#REF! -> #REF! | F9: ='프로그램1일자(결승)'!#REF! -> #REF! | G9: =CONCATENATE(D9,A9) -> #REF! | H9: =IFERROR(VLOOKUP(F9,$O$1:$P$24,2,0),"0") -> 0 | M9: 9 | N9: 1 | O9: 9 | P9: 2
A10: 초혼성혼계영200M | B10: =CONCATENATE(A10,F10) -> #REF! | C10: ='프로그램1일자(결승)'!#REF! -> #REF! | D10: ='프로그램1일자(결승)'!#REF! -> #REF! | E10: ='프로그램1일자(결승)'!#REF! -> #REF! | F10: ='프로그램1일자(결승)'!#REF! -> #REF! | G10: =CONCATENATE(D10,A10) -> #REF! | H10: =IFERROR(VLOOKUP(F10,$O$1:$P$24,2,0),"0") -> 0 | M10: 10 | N10: 1 | O10: 10 | P10: 2
A11: 초혼성혼계영200M | B11: =CONCATENATE(A11,F11) -> #REF! | C11: ='프로그램1일자(결승)'!#REF! -> #REF! | D11: ='프로그램1일자(결승)'!#REF! -> #REF! | E11: ='프로그램1일자(결승)'!#REF! -> #REF! | F11: ='프로그램1일자(결승)'!#REF! -> #REF! | G11: =CONCATENATE(D11,A11) -> #REF! | H11: =IFERROR(VLOOKUP(F11,$O$1:$P$24,2,0),"0") -> 0 | M11: 11 | N11: 1 | O11: 11 | P11: 2
A12: 중혼성혼계영200M | B12: =CONCATENATE(A12,F12) -> #REF! | C12: ='프로그램1일자(결승)'!#REF! -> #REF! | D12: ='프로그램1일자(결승)'!#REF! -> #REF! | E12: ='프로그램1일자(결승)'!#REF! -> #REF! | F12: ='프로그램1일자(결승)'!#REF! -> #REF! | G12: =CONCATENATE(D12,A12) -> #REF! | H12: =IFERROR(VLOOKUP(F12,$O$1:$P$24,2,0),"0") -> 0 | M12: 12 | N12: 1 | O12: 12 | P12: 2
... A24: 성인혼성혼계영200M | B24: =CONCATENATE(A24,F24) -> #REF! | C24: ='프로그램1일자(결승)'!#REF! -> #REF! | D24: ='프로그램1일자(결승)'!#REF! -> #REF! | E24: ='프로그램1일자(결승)'!#REF! -> #REF! | F24: ='프로그램1일자(결승)'!#REF! -> #REF! | G24: =CONCATENATE(D24,A24) -> #REF! | H24: =IFERROR(VLOOKUP(F24,$O$1:$P$24,2,0),"0") -> 0 | M24: 24 | N24: 1 | O24: 24 | P24: 2
A25: 성인혼성혼계영200M | B25: =CONCATENATE(A25,F25) -> #REF! | C25: ='프로그램1일자(결승)'!#REF! -> #REF! | D25: ='프로그램1일자(결승)'!#REF! -> #REF! | E25: ='프로그램1일자(결승)'!#REF! -> #REF! | F25: ='프로그램1일자(결승)'!#REF! -> #REF! | G25: =CONCATENATE(D25,A25) -> #REF! | H25: =IFERROR(VLOOKUP(F25,$O$1:$P$24,2,0),"0") -> 0
A26: 성인혼성혼계영200M | B26: =CONCATENATE(A26,F26) -> #REF! | C26: ='프로그램1일자(결승)'!#REF! -> #REF! | D26: ='프로그램1일자(결승)'!#REF! -> #REF! | E26: ='프로그램1일자(결승)'!#REF! -> #REF! | F26: ='프로그램1일자(결승)'!#REF! -> #REF! | G26: =CONCATENATE(D26,A26) -> #REF! | H26: =IFERROR(VLOOKUP(F26,$O$1:$P$24,2,0),"0") -> 0
A27: 성인혼성혼계영200M | B27: =CONCATENATE(A27,F27) -> #REF! | C27: ='프로그램1일자(결승)'!#REF! -> #REF! | D27: ='프로그램1일자(결승)'!#REF! -> #REF! | E27: ='프로그램1일자(결승)'!#REF! -> #REF! | F27: ='프로그램1일자(결승)'!#REF! -> #REF! | G27: =CONCATENATE(D27,A27) -> #REF! | H27: =IFERROR(VLOOKUP(F27,$O$1:$P$24,2,0),"0") -> 0
A28: 성인혼성혼계영200M | B28: =CONCATENATE(A28,F28) -> #REF! | C28: ='프로그램1일자(결승)'!#REF! -> #REF! | D28: ='프로그램1일자(결승)'!#REF! -> #REF! | E28: ='프로그램1일자(결승)'!#REF! -> #REF! | F28: ='프로그램1일자(결승)'!#REF! -> #REF! | G28: =CONCATENATE(D28,A28) -> #REF! | H28: =IFERROR(VLOOKUP(F28,$O$1:$P$24,2,0),"0") -> 0
A29: 성인혼성혼계영200M | B29: =CONCATENATE(A29,F29) -> #REF! | C29: ='프로그램1일자(결승)'!#REF! -> #REF! | D29: ='프로그램1일자(결승)'!#REF! -> #REF! | E29: ='프로그램1일자(결승)'!#REF! -> #REF! | F29: ='프로그램1일자(결승)'!#REF! -> #REF! | G29: =CONCATENATE(D29,A29) -> #REF! | H29: =IFERROR(VLOOKUP(F29,$O$1:$P$24,2,0),"0") -> 0
A30: 성인혼성혼계영200M | B30: =CONCATENATE(A30,F30) -> #REF! | C30: ='프로그램1일자(결승)'!#REF! -> #REF! | D30: ='프로그램1일자(결승)'!#REF! -> #REF! | E30: ='프로그램1일자(결승)'!#REF! -> #REF! | F30: ='프로그램1일자(결승)'!#REF! -> #REF! | G30: =CONCATENATE(D30,A30) -> #REF! | H30: =IFERROR(VLOOKUP(F30,$O$1:$P$24,2,0),"0") -> 0
A31: 성인혼성혼계영200M | B31: =CONCATENATE(A31,F31) -> #REF! | C31: ='프로그램1일자(결승)'!#REF! -> #REF! | D31: ='프로그램1일자(결승)'!#REF! -> #REF! | E31: ='프로그램1일자(결승)'!#REF! -> #REF! | F31: ='프로그램1일자(결승)'!#REF! -> #REF! | G31: =CONCATENATE(D31,A31) -> #REF! | H31: =IFERROR(VLOOKUP(F31,$O$1:$P$24,2,0),"0") -> 0
A32: 성인혼성혼계영200M | B32: =CONCATENATE(A32,F32) -> #REF! | C32: ='프로그램1일자(결승)'!#REF! -> #REF! | D32: ='프로그램1일자(결승)'!#REF! -> #REF! | E32: ='프로그램1일자(결승)'!#REF! -> #REF! | F32: ='프로그램1일자(결승)'!#REF! -> #REF! | G32: =CONCATENATE(D32,A32) -> #REF! | H32: =IFERROR(VLOOKUP(F32,$O$1:$P$24,2,0),"0") -> 0
A33: 성인혼성혼계영200M | B33: =CONCATENATE(A33,F33) -> #REF! | C33: ='프로그램1일자(결승)'!#REF! -> #REF! | D33: ='프로그램1일자(결승)'!#REF! -> #REF! | E33: ='프로그램1일자(결승)'!#REF! -> #REF! | F33: ='프로그램1일자(결승)'!#REF! -> #REF! | G33: =CONCATENATE(D33,A33) -> #REF! | H33: =IFERROR(VLOOKUP(F33,$O$1:$P$24,2,0),"0") -> 0
A34: 남초A접영50M | B34: =CONCATENATE(A34,F34) -> #REF! | C34: ='프로그램1일자(결승)'!#REF! -> #REF! | D34: ='프로그램1일자(결승)'!#REF! -> #REF! | E34: ='프로그램1일자(결승)'!#REF! -> #REF! | F34: ='프로그램1일자(결승)'!#REF! -> #REF! | G34: =CONCATENATE(D34,A34) -> #REF! | H34: =IFERROR(VLOOKUP(F34,$M$1:$N$24,2,0),"0") -> 0
A35: 남초A접영50M | B35: =CONCATENATE(A35,F35) -> #REF! | C35: ='프로그램1일자(결승)'!#REF! -> #REF! | D35: ='프로그램1일자(결승)'!#REF! -> #REF! | E35: ='프로그램1일자(결승)'!#REF! -> #REF! | F35: ='프로그램1일자(결승)'!#REF! -> #REF! | G35: =CONCATENATE(D35,A35) -> #REF! | H35: =IFERROR(VLOOKUP(F35,$M$1:$N$24,2,0),"0") -> 0
A36: 남초A접영50M | B36: =CONCATENATE(A36,F36) -> #REF! | C36: ='프로그램1일자(결승)'!#REF! -> #REF! | D36: ='프로그램1일자(결승)'!#REF! -> #REF! | E36: ='프로그램1일자(결승)'!#REF! -> #REF! | F36: ='프로그램1일자(결승)'!#REF! -> #REF! | G36: =CONCATENATE(D36,A36) -> #REF! | H36: =IFERROR(VLOOKUP(F36,$M$1:$N$24,2,0),"0") -> 0
A37: 남초A접영50M | B37: =CONCATENATE(A37,F37) -> #REF! | C37: ='프로그램1일자(결승)'!#REF! -> #REF! | D37: ='프로그램1일자(결승)'!#REF! -> #REF! | E37: ='프로그램1일자(결승)'!#REF! -> #REF! | F37: ='프로그램1일자(결승)'!#REF! -> #REF! | G37: =CONCATENATE(D37,A37) -> #REF! | H37: =IFERROR(VLOOKUP(F37,$M$1:$N$24,2,0),"0") -> 0
A38: 남초A접영50M | B38: =CONCATENATE(A38,F38) -> #REF! | C38: ='프로그램1일자(결승)'!#REF! -> #REF! | D38: ='프로그램1일자(결승)'!#REF! -> #REF! | E38: ='프로그램1일자(결승)'!#REF! -> #REF! | F38: ='프로그램1일자(결승)'!#REF! -> #REF! | G38: =CONCATENATE(D38,A38) -> #REF! | H38: =IFERROR(VLOOKUP(F38,$M$1:$N$24,2,0),"0") -> 0
A39: 남초A접영50M | B39: =CONCATENATE(A39,F39) -> #REF! | C39: ='프로그램1일자(결승)'!#REF! -> #REF! | D39: ='프로그램1일자(결승)'!#REF! -> #REF! | E39: ='프로그램1일자(결승)'!#REF! -> #REF! | F39: ='프로그램1일자(결승)'!#REF! -> #REF! | G39: =CONCATENATE(D39,A39) -> #REF! | H39: =IFERROR(VLOOKUP(F39,$M$1:$N$24,2,0),"0") -> 0
A40: 남초A접영50M | B40: =CONCATENATE(A40,F40) -> #REF! | C40: ='프로그램1일자(결승)'!#REF! -> #REF! | D40: ='프로그램1일자(결승)'!#REF! -> #REF! | E40: ='프로그램1일자(결승)'!#REF! -> #REF! | F40: ='프로그램1일자(결승)'!#REF! -> #REF! | G40: =CONCATENATE(D40,A40) -> #REF! | H40: =IFERROR(VLOOKUP(F40,$M$1:$N$24,2,0),"0") -> 0
A41: 남초A접영50M | B41: =CONCATENATE(A41,F41) -> #REF! | C41: ='프로그램1일자(결승)'!#REF! -> #REF! | D41: ='프로그램1일자(결승)'!#REF! -> #REF! | E41: ='프로그램1일자(결승)'!#REF! -> #REF! | F41: ='프로그램1일자(결승)'!#REF! -> #REF! | G41: =CONCATENATE(D41,A41) -> #REF! | H41: =IFERROR(VLOOKUP(F41,$M$1:$N$24,2,0),"0") -> 0
A42: 남초A접영50M | B42: =CONCATENATE(A42,F42) -> #REF! | C42: ='프로그램1일자(결승)'!#REF! -> #REF! | D42: ='프로그램1일자(결승)'!#REF! -> #REF! | E42: ='프로그램1일자(결승)'!#REF! -> #REF! | F42: ='프로그램1일자(결승)'!#REF! -> #REF! | G42: =CONCATENATE(D42,A42) -> #REF! | H42: =IFERROR(VLOOKUP(F42,$M$1:$N$24,2,0),"0") -> 0
A43: 남초A접영50M | B43: =CONCATENATE(A43,F43) -> #REF! | C43: ='프로그램1일자(결승)'!#REF! -> #REF! | D43: ='프로그램1일자(결승)'!#REF! -> #REF! | E43: ='프로그램1일자(결승)'!#REF! -> #REF! | F43: ='프로그램1일자(결승)'!#REF! -> #REF! | G43: =CONCATENATE(D43,A43) -> #REF! | H43: =IFERROR(VLOOKUP(F43,$M$1:$N$24,2,0),"0") -> 0
A44: 남초A접영50M | B44: =CONCATENATE(A44,F44) -> #REF! | C44: ='프로그램1일자(결승)'!#REF! -> #REF! | D44: ='프로그램1일자(결승)'!#REF! -> #REF! | E44: ='프로그램1일자(결승)'!#REF! -> #REF! | F44: ='프로그램1일자(결승)'!#REF! -> #REF! | G44: =CONCATENATE(D44,A44) -> #REF! | H44: =IFERROR(VLOOKUP(F44,$M$1:$N$24,2,0),"0") -> 0
A45: 여초A접영50M | B45: =CONCATENATE(A45,F45) -> #REF! | C45: ='프로그램1일자(결승)'!#REF! -> #REF! | D45: ='프로그램1일자(결승)'!#REF! -> #REF! | E45: ='프로그램1일자(결승)'!#REF! -> #REF! | F45: ='프로그램1일자(결승)'!#REF! -> #REF! | G45: =CONCATENATE(D45,A45) -> #REF! | H45: =IFERROR(VLOOKUP(F45,$M$1:$N$24,2,0),"0") -> 0
... A99: 남초C접영50M | B99: =CONCATENATE(A99,F99) -> #REF! | C99: ='프로그램1일자(결승)'!#REF! -> #REF! | D99: ='프로그램1일자(결승)'!#REF! -> #REF! | E99: ='프로그램1일자(결승)'!#REF! -> #REF! | F99: ='프로그램1일자(결승)'!#REF! -> #REF! | G99: =CONCATENATE(D99,A99) -> #REF! | H99: =IFERROR(VLOOKUP(F99,$M$1:$N$24,2,0),"0") -> 0
A100: 여초C접영50M | B100: =CONCATENATE(A100,F100) -> 여초C접영50M0 | C100: ='프로그램1일자(결승)'!B1 -> 0 | D100: ='프로그램1일자(결승)'!D1 -> 0 | E100: ='프로그램1일자(결승)'!E1 -> 0 | F100: ='프로그램1일자(결승)'!F1 -> 0 | G100: =CONCATENATE(D100,A100) -> 0여초C접영50M | H100: =IFERROR(VLOOKUP(F100,$M$1:$N$24,2,0),"0") -> 0
A101: 여초C접영50M | B101: =CONCATENATE(A101,F101) -> 여초C접영50M순위 | C101: ='프로그램1일자(결승)'!B2 -> 성명 | D101: ='프로그램1일자(결승)'!D2 -> 소속 | E101: ='프로그램1일자(결승)'!E2 -> 기록 | F101: ='프로그램1일자(결승)'!F2 -> 순위 | G101: =CONCATENATE(D101,A101) -> 소속여초C접영50M | H101: =IFERROR(VLOOKUP(F101,$M$1:$N$24,2,0),"0") -> 0
A102: 여초C접영50M | B102: =CONCATENATE(A102,F102) -> 여초C접영50M1 | C102: ='프로그램1일자(결승)'!B3 -> 이강윤 | D102: ='프로그램1일자(결승)'!D3 -> 사창초4 | E102: ='프로그램1일자(결승)'!E3 -> 3085 | F102: ='프로그램1일자(결승)'!F3 -> 1 | G102: =CONCATENATE(D102,A102) -> 사창초4여초C접영50M | H102: =IFERROR(VLOOKUP(F102,$M$1:$N$24,2,0),"0") -> 7
A103: 여초C접영50M | B103: =CONCATENATE(A103,F103) -> 여초C접영50M2 | C103: ='프로그램1일자(결승)'!B4 -> 김서온 | D103: ='프로그램1일자(결승)'!D4 -> 여수한려초4 | E103: ='프로그램1일자(결승)'!E4 -> 3229 | F103: ='프로그램1일자(결승)'!F4 -> 2 | G103: =CONCATENATE(D103,A103) -> 여수한려초4여초C접영50M | H103: =IFERROR(VLOOKUP(F103,$M$1:$N$24,2,0),"0") -> 5
A104: 여초C접영50M | B104: =CONCATENATE(A104,F104) -> 여초C접영50M3 | C104: ='프로그램1일자(결승)'!B5 -> 박준희 | D104: ='프로그램1일자(결승)'!D5 -> 영암초3 | E104: ='프로그램1일자(결승)'!E5 -> 3334 | F104: ='프로그램1일자(결승)'!F5 -> 3 | G104: =CONCATENATE(D104,A104) -> 영암초3여초C접영50M | H104: =IFERROR(VLOOKUP(F104,$M$1:$N$24,2,0),"0") -> 4
A105: 여초C접영50M | B105: =CONCATENATE(A105,F105) -> 여초C접영50M5 | C105: ='프로그램1일자(결승)'!B6 -> 권시온 | D105: ='프로그램1일자(결승)'!D6 -> 광양중마초3 | E105: ='프로그램1일자(결승)'!E6 -> 3397 | F105: ='프로그램1일자(결승)'!F7 -> 5 | G105: =CONCATENATE(D105,A105) -> 광양중마초3여초C접영50M | H105: =IFERROR(VLOOKUP(F105,$M$1:$N$24,2,0),"0") -> 2
A106: 여초C접영50M | B106: =CONCATENATE(A106,F106) -> #REF! | C106: ='프로그램1일자(결승)'!B7 -> 서현우 | D106: ='프로그램1일자(결승)'!D7 -> 화순오성초4 | E106: ='프로그램1일자(결승)'!E7 -> 3476 | F106: ='프로그램1일자(결승)'!#REF! -> #REF! | G106: =CONCATENATE(D106,A106) -> 화순오성초4여초C접영50M | H106: =IFERROR(VLOOKUP(F106,$M$1:$N$24,2,0),"0") -> 0
A107: 여초C접영50M | B107: =CONCATENATE(A107,F107) -> 여초C접영50M6 | C107: ='프로그램1일자(결승)'!B8 -> 김정륜 | D107: ='프로그램1일자(결승)'!D8 -> 해남동초3 | E107: ='프로그램1일자(결승)'!E8 -> 3790 | F107: ='프로그램1일자(결승)'!F8 -> 6 | G107: =CONCATENATE(D107,A107) -> 해남동초3여초C접영50M | H107: =IFERROR(VLOOKUP(F107,$M$1:$N$24,2,0),"0") -> 1
A108: 여초C접영50M | B108: =CONCATENATE(A108,F108) -> 여초C접영50M7 | C108: ='프로그램1일자(결승)'!B9 -> 서은준 | D108: ='프로그램1일자(결승)'!D9 -> 여수한려초3 | E108: ='프로그램1일자(결승)'!E9 -> 3926 | F108: ='프로그램1일자(결승)'!F9 -> 7 | G108: =CONCATENATE(D108,A108) -> 여수한려초3여초C접영50M | H108: =IFERROR(VLOOKUP(F108,$M$1:$N$24,2,0),"0") -> 1
A109: 여초C접영50M | B109: =CONCATENATE(A109,F109) -> 여초C접영50M8 | C109: ='프로그램1일자(결승)'!B10 -> 공태완 | D109: ='프로그램1일자(결승)'!D10 -> 해남동초3 | E109: ='프로그램1일자(결승)'!E10 -> 4128 | F109: ='프로그램1일자(결승)'!F10 -> 8 | G109: =CONCATENATE(D109,A109) -> 해남동초3여초C접영50M | H109: =IFERROR(VLOOKUP(F109,$M$1:$N$24,2,0),"0") -> 1
A110: 여초C접영50M | B110: =CONCATENATE(A110,F110) -> 여초C접영50M0 | C110: ='프로그램1일자(결승)'!B11 -> 0 | D110: ='프로그램1일자(결승)'!D11 -> 0 | E110: ='프로그램1일자(결승)'!E11 -> 0 | F110: ='프로그램1일자(결승)'!F11 -> 0 | G110: =CONCATENATE(D110,A110) -> 0여초C접영50M | H110: =IFERROR(VLOOKUP(F110,$M$1:$N$24,2,0),"0") -> 0
A111: 남중접영50M | B111: =CONCATENATE(A111,F111) -> 남중접영50M0 | C111: ='프로그램1일자(결승)'!B12 -> 0 | D111: ='프로그램1일자(결승)'!D12 -> 0 | E111: ='프로그램1일자(결승)'!E12 -> 0 | F111: ='프로그램1일자(결승)'!F12 -> 0 | G111: =CONCATENATE(D111,A111) -> 0남중접영50M | H111: =IFERROR(VLOOKUP(F111,$M$1:$N$24,2,0),"0") -> 0
A112: 남중접영50M | B112: =CONCATENATE(A112,F112) -> 남중접영50M순위 | C112: ='프로그램1일자(결승)'!B13 -> 성명 | D112: ='프로그램1일자(결승)'!D13 -> 소속 | E112: ='프로그램1일자(결승)'!E13 -> 기록 | F112: ='프로그램1일자(결승)'!F13 -> 순위 | G112: =CONCATENATE(D112,A112) -> 소속남중접영50M | H112: =IFERROR(VLOOKUP(F112,$M$1:$N$24,2,0),"0") -> 0
A113: 남중접영50M | B113: =CONCATENATE(A113,F113) -> 남중접영50M1 | C113: ='프로그램1일자(결승)'!B14 -> 황채원 | D113: ='프로그램1일자(결승)'!D14 -> 사창초4 | E113: ='프로그램1일자(결승)'!E14 -> 3138 | F113: ='프로그램1일자(결승)'!F14 -> 1 | G113: =CONCATENATE(D113,A113) -> 사창초4남중접영50M | H113: =IFERROR(VLOOKUP(F113,$M$1:$N$24,2,0),"0") -> 7
A114: 남중접영50M | B114: =CONCATENATE(A114,F114) -> 남중접영50M2 | C114: ='프로그램1일자(결승)'!B15 -> 윤지수 | D114: ='프로그램1일자(결승)'!D15 -> 목포신흥초4 | E114: ='프로그램1일자(결승)'!E15 -> 3246 | F114: ='프로그램1일자(결승)'!F15 -> 2 | G114: =CONCATENATE(D114,A114) -> 목포신흥초4남중접영50M | H114: =IFERROR(VLOOKUP(F114,$M$1:$N$24,2,0),"0") -> 5
A115: 남중접영50M | B115: =CONCATENATE(A115,F115) -> 남중접영50M3 | C115: ='프로그램1일자(결승)'!B16 -> 임소은 | D115: ='프로그램1일자(결승)'!D16 -> 목포신흥초4 | E115: ='프로그램1일자(결승)'!E16 -> 3398 | F115: ='프로그램1일자(결승)'!F16 -> 3 | G115: =CONCATENATE(D115,A115) -> 목포신흥초4남중접영50M | H115: =IFERROR(VLOOKUP(F115,$M$1:$N$24,2,0),"0") -> 4
A116: 남중접영50M | B116: =CONCATENATE(A116,F116) -> 남중접영50M4 | C116: ='프로그램1일자(결승)'!B17 -> 문가윤 | D116: ='프로그램1일자(결승)'!D17 -> 여수한려초3 | E116: ='프로그램1일자(결승)'!E17 -> 3428 | F116: ='프로그램1일자(결승)'!F17 -> 4 | G116: =CONCATENATE(D116,A116) -> 여수한려초3남중접영50M | H116: =IFERROR(VLOOKUP(F116,$M$1:$N$24,2,0),"0") -> 3
A117: 남중접영50M | B117: =CONCATENATE(A117,F117) -> 남중접영50M5 | C117: ='프로그램1일자(결승)'!B18 -> 임서은 | D117: ='프로그램1일자(결승)'!D18 -> 여수한려초2 | E117: ='프로그램1일자(결승)'!E18 -> 3453 | F117: ='프로그램1일자(결승)'!F18 -> 5 | G117: =CONCATENATE(D117,A117) -> 여수한려초2남중접영50M | H117: =IFERROR(VLOOKUP(F117,$M$1:$N$24,2,0),"0") -> 2
A118: 남중접영50M | B118: =CONCATENATE(A118,F118) -> 남중접영50M6 | C118: ='프로그램1일자(결승)'!B19 -> 박주연 | D118: ='프로그램1일자(결승)'!D19 -> 광양중마초4 | E118: ='프로그램1일자(결승)'!E19 -> 3520 | F118: ='프로그램1일자(결승)'!F19 -> 6 | G118: =CONCATENATE(D118,A118) -> 광양중마초4남중접영50M | H118: =IFERROR(VLOOKUP(F118,$M$1:$N$24,2,0),"0") -> 1
... A121: 남중접영50M | B121: =CONCATENATE(A121,F121) -> 남중접영50M0 | C121: ='프로그램1일자(결승)'!B22 -> 0 | D121: ='프로그램1일자(결승)'!D22 -> 0 | E121: ='프로그램1일자(결승)'!E22 -> 0 | F121: ='프로그램1일자(결승)'!F22 -> 0 | G121: =CONCATENATE(D121,A121) -> 0남중접영50M | H121: =IFERROR(VLOOKUP(F121,$M$1:$N$24,2,0),"0") -> 0
A122: 여중접영50M | B122: =CONCATENATE(A122,F122) -> #REF! | C122: ='프로그램1일자(결승)'!#REF! -> #REF! | D122: ='프로그램1일자(결승)'!#REF! -> #REF! | E122: ='프로그램1일자(결승)'!#REF! -> #REF! | F122: ='프로그램1일자(결승)'!#REF! -> #REF! | G122: =CONCATENATE(D122,A122) -> #REF! | H122: =IFERROR(VLOOKUP(F122,$M$1:$N$24,2,0),"0") -> 0
A123: 여중접영50M | B123: =CONCATENATE(A123,F123) -> #REF! | C123: ='프로그램1일자(결승)'!#REF! -> #REF! | D123: ='프로그램1일자(결승)'!#REF! -> #REF! | E123: ='프로그램1일자(결승)'!#REF! -> #REF! | F123: ='프로그램1일자(결승)'!#REF! -> #REF! | G123: =CONCATENATE(D123,A123) -> #REF! | H123: =IFERROR(VLOOKUP(F123,$M$1:$N$24,2,0),"0") -> 0
A124: 여중접영50M | B124: =CONCATENATE(A124,F124) -> #REF! | C124: ='프로그램1일자(결승)'!#REF! -> #REF! | D124: ='프로그램1일자(결승)'!#REF! -> #REF! | E124: ='프로그램1일자(결승)'!#REF! -> #REF! | F124: ='프로그램1일자(결승)'!#REF! -> #REF! | G124: =CONCATENATE(D124,A124) -> #REF! | H124: =IFERROR(VLOOKUP(F124,$M$1:$N$24,2,0),"0") -> 0
A125: 여중접영50M | B125: =CONCATENATE(A125,F125) -> #REF! | C125: ='프로그램1일자(결승)'!#REF! -> #REF! | D125: ='프로그램1일자(결승)'!#REF! -> #REF! | E125: ='프로그램1일자(결승)'!#REF! -> #REF! | F125: ='프로그램1일자(결승)'!#REF! -> #REF! | G125: =CONCATENATE(D125,A125) -> #REF! | H125: =IFERROR(VLOOKUP(F125,$M$1:$N$24,2,0),"0") -> 0
A126: 여중접영50M | B126: =CONCATENATE(A126,F126) -> #REF! | C126: ='프로그램1일자(결승)'!#REF! -> #REF! | D126: ='프로그램1일자(결승)'!#REF! -> #REF! | E126: ='프로그램1일자(결승)'!#REF! -> #REF! | F126: ='프로그램1일자(결승)'!#REF! -> #REF! | G126: =CONCATENATE(D126,A126) -> #REF! | H126: =IFERROR(VLOOKUP(F126,$M$1:$N$24,2,0),"0") -> 0
A127: 여중접영50M | B127: =CONCATENATE(A127,F127) -> #REF! | C127: ='프로그램1일자(결승)'!#REF! -> #REF! | D127: ='프로그램1일자(결승)'!#REF! -> #REF! | E127: ='프로그램1일자(결승)'!#REF! -> #REF! | F127: ='프로그램1일자(결승)'!#REF! -> #REF! | G127: =CONCATENATE(D127,A127) -> #REF! | H127: =IFERROR(VLOOKUP(F127,$M$1:$N$24,2,0),"0") -> 0
A128: 여중접영50M | B128: =CONCATENATE(A128,F128) -> #REF! | C128: ='프로그램1일자(결승)'!#REF! -> #REF! | D128: ='프로그램1일자(결승)'!#REF! -> #REF! | E128: ='프로그램1일자(결승)'!#REF! -> #REF! | F128: ='프로그램1일자(결승)'!#REF! -> #REF! | G128: =CONCATENATE(D128,A128) -> #REF! | H128: =IFERROR(VLOOKUP(F128,$M$1:$N$24,2,0),"0") -> 0
A129: 여중접영50M | B129: =CONCATENATE(A129,F129) -> #REF! | C129: ='프로그램1일자(결승)'!#REF! -> #REF! | D129: ='프로그램1일자(결승)'!#REF! -> #REF! | E129: ='프로그램1일자(결승)'!#REF! -> #REF! | F129: ='프로그램1일자(결승)'!#REF! -> #REF! | G129: =CONCATENATE(D129,A129) -> #REF! | H129: =IFERROR(VLOOKUP(F129,$M$1:$N$24,2,0),"0") -> 0
A130: 여중접영50M | B130: =CONCATENATE(A130,F130) -> #REF! | C130: ='프로그램1일자(결승)'!#REF! -> #REF! | D130: ='프로그램1일자(결승)'!#REF! -> #REF! | E130: ='프로그램1일자(결승)'!#REF! -> #REF! | F130: ='프로그램1일자(결승)'!#REF! -> #REF! | G130: =CONCATENATE(D130,A130) -> #REF! | H130: =IFERROR(VLOOKUP(F130,$M$1:$N$24,2,0),"0") -> 0
A131: 여중접영50M | B131: =CONCATENATE(A131,F131) -> #REF! | C131: ='프로그램1일자(결승)'!#REF! -> #REF! | D131: ='프로그램1일자(결승)'!#REF! -> #REF! | E131: ='프로그램1일자(결승)'!#REF! -> #REF! | F131: ='프로그램1일자(결승)'!#REF! -> #REF! | G131: =CONCATENATE(D131,A131) -> #REF! | H131: =IFERROR(VLOOKUP(F131,$M$1:$N$24,2,0),"0") -> 0
A132: 여중접영50M | B132: =CONCATENATE(A132,F132) -> #REF! | C132: ='프로그램1일자(결승)'!#REF! -> #REF! | D132: ='프로그램1일자(결승)'!#REF! -> #REF! | E132: ='프로그램1일자(결승)'!#REF! -> #REF! | F132: ='프로그램1일자(결승)'!#REF! -> #REF! | G132: =CONCATENATE(D132,A132) -> #REF! | H132: =IFERROR(VLOOKUP(F132,$M$1:$N$24,2,0),"0") -> 0
A133: 남성인3접영50M | B133: =CONCATENATE(A133,F133) -> 남성인3접영50M0 | C133: ='프로그램1일자(결승)'!B23 -> 0 | D133: ='프로그램1일자(결승)'!D23 -> 0 | E133: ='프로그램1일자(결승)'!E23 -> 0 | F133: ='프로그램1일자(결승)'!F23 -> 0 | G133: =CONCATENATE(D133,A133) -> 0남성인3접영50M | H133: =IFERROR(VLOOKUP(F133,$M$1:$N$24,2,0),"0") -> 0
A134: 남성인3접영50M | B134: =CONCATENATE(A134,F134) -> 남성인3접영50M순위 | C134: ='프로그램1일자(결승)'!B24 -> 성명 | D134: ='프로그램1일자(결승)'!D24 -> 소속 | E134: ='프로그램1일자(결승)'!E24 -> 기록 | F134: ='프로그램1일자(결승)'!F24 -> 순위 | G134: =CONCATENATE(D134,A134) -> 소속남성인3접영50M | H134: =IFERROR(VLOOKUP(F134,$M$1:$N$24,2,0),"0") -> 0
A135: 남성인3접영50M | B135: =CONCATENATE(A135,F135) -> 남성인3접영50M1 | C135: ='프로그램1일자(결승)'!B25 -> 이재원 | D135: ='프로그램1일자(결승)'!D25 -> 목포영산초6 | E135: ='프로그램1일자(결승)'!E25 -> 2990 | F135: ='프로그램1일자(결승)'!F25 -> 1 | G135: =CONCATENATE(D135,A135) -> 목포영산초6남성인3접영50M | H135: =IFERROR(VLOOKUP(F135,$M$1:$N$24,2,0),"0") -> 7
A136: 남성인3접영50M | B136: =CONCATENATE(A136,F136) -> 남성인3접영50M2 | C136: ='프로그램1일자(결승)'!B26 -> 박준영 | D136: ='프로그램1일자(결승)'!D26 -> 광양중마초5 | E136: ='프로그램1일자(결승)'!E26 -> 3077 | F136: ='프로그램1일자(결승)'!F26 -> 2 | G136: =CONCATENATE(D136,A136) -> 광양중마초5남성인3접영50M | H136: =IFERROR(VLOOKUP(F136,$M$1:$N$24,2,0),"0") -> 5
A137: 남성인3접영50M | B137: =CONCATENATE(A137,F137) -> 남성인3접영50M3 | C137: ='프로그램1일자(결승)'!B27 -> 이훤 | D137: ='프로그램1일자(결승)'!D27 -> 목포신흥초6 | E137: ='프로그램1일자(결승)'!E27 -> 3272 | F137: ='프로그램1일자(결승)'!F27 -> 3 | G137: =CONCATENATE(D137,A137) -> 목포신흥초6남성인3접영50M | H137: =IFERROR(VLOOKUP(F137,$M$1:$N$24,2,0),"0") -> 4
A138: 남성인3접영50M | B138: =CONCATENATE(A138,F138) -> 남성인3접영50M4 | C138: ='프로그램1일자(결승)'!B28 -> 추서윤 | D138: ='프로그램1일자(결승)'!D28 -> 광양중마초5 | E138: ='프로그램1일자(결승)'!E28 -> 3362 | F138: ='프로그램1일자(결승)'!F28 -> 4 | G138: =CONCATENATE(D138,A138) -> 광양중마초5남성인3접영50M | H138: =IFERROR(VLOOKUP(F138,$M$1:$N$24,2,0),"0") -> 3
A139: 남성인3접영50M | B139: =CONCATENATE(A139,F139) -> 남성인3접영50M5 | C139: ='프로그램1일자(결승)'!B29 -> 유승우 | D139: ='프로그램1일자(결승)'!D29 -> 강진중앙초5 | E139: ='프로그램1일자(결승)'!E29 -> 3379 | F139: ='프로그램1일자(결승)'!F29 -> 5 | G139: =CONCATENATE(D139,A139) -> 강진중앙초5남성인3접영50M | H139: =IFERROR(VLOOKUP(F139,$M$1:$N$24,2,0),"0") -> 2
A140: 남성인3접영50M | B140: =CONCATENATE(A140,F140) -> 남성인3접영50M6 | C140: ='프로그램1일자(결승)'!B30 -> 신준율 | D140: ='프로그램1일자(결승)'!D30 -> 해남동초5 | E140: ='프로그램1일자(결승)'!E30 -> 3535 | F140: ='프로그램1일자(결승)'!F30 -> 6 | G140: =CONCATENATE(D140,A140) -> 해남동초5남성인3접영50M | H140: =IFERROR(VLOOKUP(F140,$M$1:$N$24,2,0),"0") -> 1
A141: 남성인3접영50M | B141: =CONCATENATE(A141,F141) -> 남성인3접영50M7 | C141: ='프로그램1일자(결승)'!B31 -> 공태윤 | D141: ='프로그램1일자(결승)'!D31 -> 해남동초6 | E141: ='프로그램1일자(결승)'!E31 -> 3550 | F141: ='프로그램1일자(결승)'!F31 -> 7 | G141: =CONCATENATE(D141,A141) -> 해남동초6남성인3접영50M | H141: =IFERROR(VLOOKUP(F141,$M$1:$N$24,2,0),"0") -> 1
A142: 남성인3접영50M | B142: =CONCATENATE(A142,F142) -> 남성인3접영50M8 | C142: ='프로그램1일자(결승)'!B32 -> 이클 | D142: ='프로그램1일자(결승)'!D32 -> 목포신흥초5 | E142: ='프로그램1일자(결승)'!E32 -> 4122 | F142: ='프로그램1일자(결승)'!F32 -> 8 | G142: =CONCATENATE(D142,A142) -> 목포신흥초5남성인3접영50M | H142: =IFERROR(VLOOKUP(F142,$M$1:$N$24,2,0),"0") -> 1
A143: 남성인3접영50M | B143: =CONCATENATE(A143,F143) -> 남성인3접영50M0 | C143: ='프로그램1일자(결승)'!B33 -> 0 | D143: ='프로그램1일자(결승)'!D33 -> 0 | E143: ='프로그램1일자(결승)'!E33 -> 0 | F143: ='프로그램1일자(결승)'!F33 -> 0 | G143: =CONCATENATE(D143,A143) -> 0남성인3접영50M | H143: =IFERROR(VLOOKUP(F143,$M$1:$N$24,2,0),"0") -> 0
A144: 남성인3접영50M | B144: =CONCATENATE(A144,F144) -> 남성인3접영50M0 | C144: ='프로그램1일자(결승)'!B45 -> 0 | D144: ='프로그램1일자(결승)'!D45 -> 0 | E144: ='프로그램1일자(결승)'!E45 -> 0 | F144: ='프로그램1일자(결승)'!F45 -> 0 | G144: =CONCATENATE(D144,A144) -> 0남성인3접영50M | H144: =IFERROR(VLOOKUP(F144,$M$1:$N$24,2,0),"0") -> 0
A145: 남성인3접영50M | B145: =CONCATENATE(A145,F145) -> 남성인3접영50M순위 | C145: ='프로그램1일자(결승)'!B46 -> 성명 | D145: ='프로그램1일자(결승)'!D46 -> 소속 | E145: ='프로그램1일자(결승)'!E46 -> 기록 | F145: ='프로그램1일자(결승)'!F46 -> 순위 | G145: =CONCATENATE(D145,A145) -> 소속남성인3접영50M | H145: =IFERROR(VLOOKUP(F145,$M$1:$N$24,2,0),"0") -> 0
A146: 남성인3접영50M | B146: =CONCATENATE(A146,F146) -> 남성인3접영50M1 | C146: ='프로그램1일자(결승)'!B47 -> 박민재 | D146: ='프로그램1일자(결승)'!D47 -> 전남체육중2 | E146: ='프로그램1일자(결승)'!E47 -> 2452 | F146: ='프로그램1일자(결승)'!F47 -> 1 | G146: =CONCATENATE(D146,A146) -> 전남체육중2남성인3접영50M | H146: =IFERROR(VLOOKUP(F146,$M$1:$N$24,2,0),"0") -> 7
A147: 남성인3접영50M | B147: =CONCATENATE(A147,F147) -> 남성인3접영50M2 | C147: ='프로그램1일자(결승)'!B48 -> 백대영 | D147: ='프로그램1일자(결승)'!D48 -> 전남체육중2 | E147: ='프로그램1일자(결승)'!E48 -> 2633 | F147: ='프로그램1일자(결승)'!F48 -> 2 | G147: =CONCATENATE(D147,A147) -> 전남체육중2남성인3접영50M | H147: =IFERROR(VLOOKUP(F147,$M$1:$N$24,2,0),"0") -> 5
A148: 남성인3접영50M | B148: =CONCATENATE(A148,F148) -> 남성인3접영50M3 | C148: ='프로그램1일자(결승)'!B49 -> 탁윤재 | D148: ='프로그램1일자(결승)'!D49 -> 동광양중1 | E148: ='프로그램1일자(결승)'!E49 -> 2670 | F148: ='프로그램1일자(결승)'!F49 -> 3 | G148: =CONCATENATE(D148,A148) -> 동광양중1남성인3접영50M | H148: =IFERROR(VLOOKUP(F148,$M$1:$N$24,2,0),"0") -> 4
A149: 남성인3접영50M | B149: =CONCATENATE(A149,F149) -> 남성인3접영50M4 | C149: ='프로그램1일자(결승)'!B50 -> 이문용 | D149: ='프로그램1일자(결승)'!D50 -> 여수문수중1 | E149: ='프로그램1일자(결승)'!E50 -> 3097 | F149: ='프로그램1일자(결승)'!F50 -> 4 | G149: =CONCATENATE(D149,A149) -> 여수문수중1남성인3접영50M | H149: =IFERROR(VLOOKUP(F149,$M$1:$N$24,2,0),"0") -> 3
A150: 남성인3접영50M | B150: =CONCATENATE(A150,F150) -> 남성인3접영50M5 | C150: ='프로그램1일자(결승)'!B51 -> 임가빈 | D150: ='프로그램1일자(결승)'!D51 -> 순천왕의중3 | E150: ='프로그램1일자(결승)'!E51 -> 3395 | F150: ='프로그램1일자(결승)'!F51 -> 5 | G150: =CONCATENATE(D150,A150) -> 순천왕의중3남성인3접영50M | H150: =IFERROR(VLOOKUP(F150,$M$1:$N$24,2,0),"0") -> 2
A151: 남성인3접영50M | B151: =CONCATENATE(A151,F151) -> 남성인3접영50M | C151: ='프로그램1일자(결승)'!B52 -> 0 | D151: ='프로그램1일자(결승)'!D52 -> 0 | E151: ='프로그램1일자(결승)'!E52 -> 0 | F151: ='프로그램1일자(결승)'!F52 | G151: =CONCATENATE(D151,A151) -> 0남성인3접영50M | H151: =IFERROR(VLOOKUP(F151,$M$1:$N$24,2,0),"0") -> 0
A152: 남성인3접영50M | B152: =CONCATENATE(A152,F152) -> 남성인3접영50M | C152: ='프로그램1일자(결승)'!B53 -> 0 | D152: ='프로그램1일자(결승)'!D53 -> 0 | E152: ='프로그램1일자(결승)'!E53 -> 0 | F152: ='프로그램1일자(결승)'!F53 | G152: =CONCATENATE(D152,A152) -> 0남성인3접영50M | H152: =IFERROR(VLOOKUP(F152,$M$1:$N$24,2,0),"0") -> 0
A153: 남성인3접영50M | B153: =CONCATENATE(A153,F153) -> 남성인3접영50M | C153: ='프로그램1일자(결승)'!B54 -> 0 | D153: ='프로그램1일자(결승)'!D54 -> 0 | E153: ='프로그램1일자(결승)'!E54 -> 0 | F153: ='프로그램1일자(결승)'!F54 | G153: =CONCATENATE(D153,A153) -> 0남성인3접영50M | H153: =IFERROR(VLOOKUP(F153,$M$1:$N$24,2,0),"0") -> 0
A154: 남성인3접영50M | B154: =CONCATENATE(A154,F154) -> 남성인3접영50M0 | C154: ='프로그램1일자(결승)'!B55 -> 0 | D154: ='프로그램1일자(결승)'!D55 -> 0 | E154: ='프로그램1일자(결승)'!E55 -> 0 | F154: ='프로그램1일자(결승)'!F55 -> 0 | G154: =CONCATENATE(D154,A154) -> 0남성인3접영50M | H154: =IFERROR(VLOOKUP(F154,$M$1:$N$24,2,0),"0") -> 0
A155: 여성인3접영50M | B155: =CONCATENATE(A155,F155) -> 여성인3접영50M0 | C155: ='프로그램1일자(결승)'!B67 -> 0 | D155: ='프로그램1일자(결승)'!D67 -> 0 | E155: ='프로그램1일자(결승)'!E67 -> 0 | F155: ='프로그램1일자(결승)'!F67 -> 0 | G155: =CONCATENATE(D155,A155) -> 0여성인3접영50M | H155: =IFERROR(VLOOKUP(F155,$M$1:$N$24,2,0),"0") -> 0
A156: 여성인3접영50M | B156: =CONCATENATE(A156,F156) -> 여성인3접영50M순위 | C156: ='프로그램1일자(결승)'!B68 -> 성명 | D156: ='프로그램1일자(결승)'!D68 -> 소속 | E156: ='프로그램1일자(결승)'!E68 -> 기록 | F156: ='프로그램1일자(결승)'!F68 -> 순위 | G156: =CONCATENATE(D156,A156) -> 소속여성인3접영50M | H156: =IFERROR(VLOOKUP(F156,$M$1:$N$24,2,0),"0") -> 0
A157: 여성인3접영50M | B157: =CONCATENATE(A157,F157) -> 여성인3접영50M1 | C157: ='프로그램1일자(결승)'!B69 -> 문정우 | D157: ='프로그램1일자(결승)'!D69 -> 여수문수중3 | E157: ='프로그램1일자(결승)'!E69 -> 84653 | F157: ='프로그램1일자(결승)'!F69 -> 1 | G157: =CONCATENATE(D157,A157) -> 여수문수중3여성인3접영50M | H157: =IFERROR(VLOOKUP(F157,$M$1:$N$24,2,0),"0") -> 7
A158: 여성인3접영50M | B158: =CONCATENATE(A158,F158) -> 여성인3접영50M2 | C158: ='프로그램1일자(결승)'!B70 -> 김민규 | D158: ='프로그램1일자(결승)'!D70 -> 전남체육중1 | E158: ='프로그램1일자(결승)'!E70 -> 91904 | F158: ='프로그램1일자(결승)'!F70 -> 2 | G158: =CONCATENATE(D158,A158) -> 전남체육중1여성인3접영50M | H158: =IFERROR(VLOOKUP(F158,$M$1:$N$24,2,0),"0") -> 5
A159: 여성인3접영50M | B159: =CONCATENATE(A159,F159) -> 여성인3접영50M3 | C159: ='프로그램1일자(결승)'!B71 -> 조윤호 | D159: ='프로그램1일자(결승)'!D71 -> 전남체육중2 | E159: ='프로그램1일자(결승)'!E71 -> 100737 | F159: ='프로그램1일자(결승)'!F71 -> 3 | G159: =CONCATENATE(D159,A159) -> 전남체육중2여성인3접영50M | H159: =IFERROR(VLOOKUP(F159,$M$1:$N$24,2,0),"0") -> 4
A160: 여성인3접영50M | B160: =CONCATENATE(A160,F160) -> 여성인3접영50M4 | C160: ='프로그램1일자(결승)'!B72 -> 이수혁 | D160: ='프로그램1일자(결승)'!D72 -> 여수문수중1 | E160: ='프로그램1일자(결승)'!E72 -> 101029 | F160: ='프로그램1일자(결승)'!F72 -> 4 | G160: =CONCATENATE(D160,A160) -> 여수문수중1여성인3접영50M | H160: =IFERROR(VLOOKUP(F160,$M$1:$N$24,2,0),"0") -> 3
A161: 여성인3접영50M | B161: =CONCATENATE(A161,F161) -> 여성인3접영50M | C161: ='프로그램1일자(결승)'!B73 -> 0 | D161: ='프로그램1일자(결승)'!D73 -> 0 | E161: ='프로그램1일자(결승)'!E73 -> 0 | F161: ='프로그램1일자(결승)'!F73 | G161: =CONCATENATE(D161,A161) -> 0여성인3접영50M | H161: =IFERROR(VLOOKUP(F161,$M$1:$N$24,2,0),"0") -> 0
A162: 여성인3접영50M | B162: =CONCATENATE(A162,F162) -> 여성인3접영50M | C162: ='프로그램1일자(결승)'!B74 -> 0 | D162: ='프로그램1일자(결승)'!D74 -> 0 | E162: ='프로그램1일자(결승)'!E74 -> 0 | F162: ='프로그램1일자(결승)'!F74 | G162: =CONCATENATE(D162,A162) -> 0여성인3접영50M | H162: =IFERROR(VLOOKUP(F162,$M$1:$N$24,2,0),"0") -> 0
A163: 여성인3접영50M | B163: =CONCATENATE(A163,F163) -> 여성인3접영50M | C163: ='프로그램1일자(결승)'!B75 | D163: ='프로그램1일자(결승)'!D75 | E163: ='프로그램1일자(결승)'!E75 -> 0 | F163: ='프로그램1일자(결승)'!F75 | G163: =CONCATENATE(D163,A163) -> 여성인3접영50M | H163: =IFERROR(VLOOKUP(F163,$M$1:$N$24,2,0),"0") -> 0
A164: 여성인3접영50M | B164: =CONCATENATE(A164,F164) -> 여성인3접영50M | C164: ='프로그램1일자(결승)'!B76 -> 0 | D164: ='프로그램1일자(결승)'!D76 -> 0 | E164: ='프로그램1일자(결승)'!E76 -> 0 | F164: ='프로그램1일자(결승)'!F76 | G164: =CONCATENATE(D164,A164) -> 0여성인3접영50M | H164: =IFERROR(VLOOKUP(F164,$M$1:$N$24,2,0),"0") -> 0
A165: 여성인3접영50M | B165: =CONCATENATE(A165,F165) -> 여성인3접영50M0 | C165: ='프로그램1일자(결승)'!B77 -> 0 | D165: ='프로그램1일자(결승)'!D77 -> 0 | E165: ='프로그램1일자(결승)'!E77 -> 0 | F165: ='프로그램1일자(결승)'!F77 -> 0 | G165: =CONCATENATE(D165,A165) -> 0여성인3접영50M | H165: =IFERROR(VLOOKUP(F165,$M$1:$N$24,2,0),"0") -> 0
A166: 남성인4접영50M | B166: =CONCATENATE(A166,F166) -> 남성인4접영50M0 | C166: ='프로그램1일자(결승)'!B78 -> 0 | D166: ='프로그램1일자(결승)'!D78 -> 0 | E166: ='프로그램1일자(결승)'!E78 -> 0 | F166: ='프로그램1일자(결승)'!F78 -> 0 | G166: =CONCATENATE(D166,A166) -> 0남성인4접영50M | H166: =IFERROR(VLOOKUP(F166,$M$1:$N$24,2,0),"0") -> 0
...
